Workbook

Sheet Лист1
B2: Сведения
B3: о выполнении структурных элементов государственной программы
B4: "Культура Саратовской области",
B5: за 2025 год
A7: № п/п | B7: Наименование структурного элемента | C7: Количество предусмотренных контрольных точек / количество выполненных контрольных точек* | D7: Описание основных результатов реализации мероприятий (результатов) структурных элементов
B8: 2 | C8: 3 | D8: 4
A9: Подпрограмма 1 «Развитие искусства и творчества»
A10: Региональный проект «Развитие театральной деятельности»
A11: 1 | B11: Мероприятие (результат) "Усовершенствованы профессиональные репертуарные театры, находящиеся в населённых пунктах с численностью населения до 300 тыс. человек, путем создания новых постановок и (или) улучшения материально-технического оснащения" | C11: 6/6 | D11: В 2025 году в рамках федерального проекта "Культура малой Родины" по направлению "Театры малых городов" было поставлено 5 спектаклей. В проекте приняли участие Балашовский и Вольский драматические театры, Саратовский областной театр оперетты. Улучшилась материально-техническая база. Приобретено звуковое и световое оборудование. Проекционная сетка, проектор, видеокамера со штативом (2шт), конфетти-машина
A12: 2 | B12: Мероприятие (результат) "Усовершенствованы детские и кукольные театры путем создания новых постановок и (или) улучшения технического оснащения" | C12: 6/6 | D12: В 2025 году в рамках федерального проекта "Культура малой Родины" по направлению "Театры - детям" было поставлено 11 спектаклей. В проекте приняли участие Саратовский академический театр юного зрителя им.Ю.П.Киселева, Саратовский театр кукол "Теремок", Балаковский ТЮЗ имени Е.А.Лебедева, театр драмы для детей и молодежи "Версия", театр фокусов "Самокат" для детей и юношества , театр драмы, музыки и поэзии для детей и молодежи "Балаганчикъ", театр "Куклы Папы Карло" областной филармонии им.А.Шнитке. Улучшилась материально-техническая база. Приобретено звуковое и световое оборудование, проектор и кресла в зрительный зал театра "Балаганчик". Дым-машины, промышленный оверлок в театр кукол "Теремок"
A13: Региональный проект «Сохранение культурного и исторического наследия»
A14: 1 | B14: Мероприятие (результат) "Проведены мероприятия по комплектованию книжных фондов библиотек муниципальных образований и государственных общедоступных библиотек субъектов Российской Федерации" | C14: 8/8 | D14: В рамках мероприятия укомплектованы книжные фонды в 38 муниципальных района области и 3 государственных библиотеках в количестве 23771 эземпляров
B15: Комплекс процессных мероприятий «Музеи»
A16: 1 | B16: Мероприятие (результат) "Организованы и проведены мероприятия музеями" | C16: 8/8 | D16: Музеями Саратовской области на постоянной основе осуществляется деятельность по экспонированию музейных предметов и музейных коллекций как на территории Саратовской области, так и в других регионах. Наиболее крупными выставочными проектами, реализованными в музеях. стали:"Фронтовые медики.Наши дни", "Династия защитников Отечества.Чмиревы", "Я очень русский челолвек.Это с годами не пропадет","Версты войны","Спасибо за память". Всего за 2025 год обслужено 1730 тыс. человек
B17: Комплекс процессных мероприятий «Театры»
A18: 1 | B18: Мероприятие (результат) "Организованы и проведены мероприятия театрами" | C18: 4/4 | D18: В 2025 году в рамках ГП "Культура Саратовской области" театрами поставлены спектакли : "Повесть о настоящем человеке" С. Прокофьева (Саратовский академический театр оперы и балета), "Правда-хорошо, а счастье лучше" А.Островского (Саратовский государственный академический театр драммы им. И.А. Слонова), "Судьба человека" М.Шолохова (Саратовский государственный академический театр драммы им. И.А. Слонова), "Сказка о том, как дружба и верность чудеса совершили " по мотивам архангельских сказок (Саратовский государственный академический театр драммы им. И.А. Слонова). Проведены фестивали : "Театральное Прихоперье" в г. Балашове, XXXVIII Международный Собиновский музыкальный фестиваль. Всего за 2025 год обслужено 711,5 тыс. чел
B19: Комплекс процессных мероприятий "Концертные организации и цирковые коллективы"
A20: 1 | B20: Мероприятие (результат) "Организованы и проведены мероприятия концертными организациями и цирковыми коллективами" | C20: 4/4 | D20: В 2025 году концертными и цирковыми организациями (Саратовская областная филармония им.А.Шнитке, областная концертная организация "Поволжье", Цирк "Арт-Алле" имени С.И.Соловьева, Энгельсская районная концертная организация) поставлены новые концертные и цирковые программы:"Крылатые качели", патриотический цирковой спектакль "Мой герой", цирковой спектакль "Новая сказка Шахеризады", Цирковой спектакль "Великая победа.. Всего в 2025 году обслужено 262,9 тыс. человек
B21: Комплекс процессных мероприятий "Библиотеки"
A22: 1 | B22: Мероприятие (результат)"Организованы и проведены мероприятия библиотеками" | C22: 4/4 | D22: За 2025 год в рамках ГП "Культура Саратоской области" библиотеками реализованы 5 новых проектов, напрвленных на популяризацию чтения и библиотечного дела. Из них : комплексная программа "Сохраним читающее детство"ГУК областная библиотека для детей и юношества им. А.С. Пушкина, проект "Зримый Саратов" ГУК Областная специальная библиотека для слепых, межрегиональный форум "Модельные библиотеки" ГУК Областная универсальная научная библиотека. В течение года на постоянной основе проходили семинары и вебинары, проводились мероприятия областного конкурса "Лучший библиотекарь года". За 2025 год обслужено 16018,9 ты. чел
B23: комплекс процессных мероприятий «Культурно-досуговые учреждения»
A24: 1 | B24: Мероприятие (результат) "Организованы и проведены мероприятия культурно-досуговыми учреждениями" | C24: 4/4 | D24: За 2025 год в рамках ГП "Культура Саратовской области " культурно-досуговыми учреждениями проведены традиционный танцевальный фестиваль всех стилей и напрвлений "Ритмы нового века" ГАУК СО "Дворец культуры Россия", инклюзивный творческий фестиваль "Культура без границ" ГАУК СО Дворец культуры Россия", всероссийский фестиваль творчества "Хвалынские этюды К.П. Петрова-Водкина" ГАУК Саратовский областной дом работников искусств. На постоянной основе осуществлялось культурно-художественное обслуживание муниципальных районов, организованы и проведены выездные мероприятия в госпиталях Саратовской области.Количество обслуженного населения в 2025 году составило 13781,9 тыс. чел.
B25: Подпрограмма 2 "Образование в сфере культуры"
A26: Комплекс процессных мероприятий "Создание условий для развития образования в сфере культуры"
A27: 1 | B27: Мероприятие (результат)"Организованы и проведены мероприятия образовательными учреждениями в сфере культуры" | C27: 4/4 | D27: В 2025 году проведено 292 мероприятия . Наиболее яркие : Областной конкурс фортепианного искусства "Гармония клавиш", открытый конкурс исполнителей на народных инструментах им. А.А. Талдыкина, областной фестиваль детского творчества "Вольские пленэры". Проведены 48 мероприятий методической направленности (оказание консультативных услуг, научно-методического сопрвождения, методические конкурсы, форумы, фестивали, кнференции, семинары, вебинары)
A28: 2 | B28: Мероприятие (результат)"Обеспечена социальная поддержка детей-сирот и детей, оставшихся без попечения родителей" | C28: 4/4 | D28: Социальная поддержка детей-сирот и детей, оставшихся без попечения родителей, осуществлялась в соответствии с законодательными актами РФ и Саратовской области. Установлены ежемесячные выплаты на компенсацию питания и обмундирования. Студенты этой категории получают государственную социальную стипендию в размере 690 руб. в соответствии с п. 16 Постановления Правительства области от 11 сентября 2014 г. № 527-П. Осуществлена ежегодная единовременная выплата на приобретение канцелярских товаров и учебников в размере 3-х государственных социальных стипендий. По окончании образовательной организации этим студентам выплачена единовременная компенсация на приобретение одежды и мягкого инвентаря в соответствии с утвержденным перечнем. Также студенты из числа детей-сирот и детей, оставшихся без попечения родителей, получили материальную помощь из стипендиального фонда по личному заявлению, как и все другие студенты ПОО.
A29: 3 | B29: Мероприятие (результат) "Стипендиальное обеспечение и другие формы материальной поддержки обучающихся областных государственных профессиональных образовательных организаций" | C29: 4/4 | D29: В государственных профессиональных образовательных учреждениях сферы культуры области велась работа по социальной защищенности студентов. Размер государственной академической стипендии студентам, прошедшим промежуточную аттестацию на оценку «хорошо» и «отлично», составлял 460 рублей. Студентам, получившим на промежуточной аттестации все оценки «отлично», устанавливалась повышенная стипендия в пределах имеющегося стипендиального фонда - 250% от минимальной - 1610 руб. Студенты, среднедушевой доход семьи которых ниже величины прожиточного минимума, установленного в регионе, получали государственную социальную стипендию в размере 690 рублей при предоставлении справки из органа социальной защиты по месту жительства. Все студенты, обучающиеся на бюджетной основе, получали частичное возмещение денежных средств на питание - 10 руб. в день. По личному заявлению студентам была оказана материальная помощь в случаях, предусмотренных локальным актом учреждения.
B30: Подпрограмма 3 «Государственная охрана, сохранение и популяризация объектов культурного наследия»
B31: Комплекс процессных мероприятий 3.1 "Государственная охрана, сохранение и популяризация объектов культурного наследия"
A32: 1 | B32: Мероприятие (результат) "Выполнены государственные работы в области охраны объектов культурного наследия области" | C32: 4/4 | D32: Выполнены государственные работы в рамках гос. задания на 2025 год, всего 644 в т.ч.: 1)Определение границ территорий объекта археологического наследия-15; 2)Работы по проведению анализа историко-библиографических материалов о земельном участке, подлежащем хозяйственному освоению -402; 3) Работы по разработке проектов границ территорий ОКН -46; 4) Работы по разработке проектов предметов охраны объектов культурного наследия -60; 5) Выполнение историко- культурных и библиографических изысканий в проектной документации для регистрации в едином государственном реестре историко- архитектурных ОКН -44; 6) Обследование и составление акта технического состояния объекта культурного наследия - 52; 7) Разработка проектов зон охраны ОКН -0; 9) Содержание (эксплуатация) имущества, находящегося в государственной собственности- 1; 10) Работы по подготовке установления границ защитных зон -25
B33: Подпрограмма 4 «Архивы»
B34: Комплекс процессных мероприятий 4.1 «Реализация государственных полномочий управления делами Правительства области в сфере архивного дела»
A35: 1 | B35: Мероприятие (результат) "Обеспечена сохранность, учет документов и представлена пользователям архивная информация" | C35: 4/4 | D35: Приказ управления делами Правительства области от 27 декабря 2024 года № 282 «Об утверждении государственных заданий на оказание государственных услуг (выполнение работ) на 2025 год и на плановый период 2026 и 2027 годов областным государственным учреждениям, подведомственным управлению делами Правительства Саратовской области» количество посещений читального зала составило 115424 человек, что составляет 128,25 % и соответствует выполнению работы в полном объеме (в пределах допустимого (возможного) отклонения) в связи с возросшем интересам пользователей к архивной информации
A36: 2 | B36: Мероприятие (результат) "Обеспечено укрепление материально-технической базы архивных учреждений" | C36: 4/4 | D36: Заключены и исполнены договоры и контракты на общую сумму 2 741 001,06 рублей, в том числе: монтаж системы видеонаблюдения в ОГУ ГИАНП на сумму 235 000,00 руб.; поставка АРМ (комплект компьютера в сборе) в количестве 10 шт. на сумму 495 000,00 руб.; поставка кондиционеров (сплит-систем) с установкой и монтажом в количестве 2 шт. на сумму 55 480,00 руб.; поставка мебели в количестве 20 шт. на сумму 118 000,00 руб.; поставка офисных кресел в количестве 7 шт. на сумму 34 633,00 руб.; поставка металлических картотек в количестве 2 шт. на сумму 109 000,00 руб.; поставка многофункциональных устройств (МФУ) в количестве 4 шт. на сумму 412 000,00 руб.; поставка компьютерного оборудования (ноутбука) в количестве 1 шт. на сумму 49 000,00 руб.; оказание услуг по дооснащению сканера профессиональным программным обеспечением на сумму 194 900,00 руб.; поставка стеллажей металлических в количестве 9 шт. на сумму 61 690,00 руб.; поставка стеллажей деревянных в количестве 3 шт. на сумму 24 354,00 руб.; поставка шкафа деревянного для одежды в количестве 1 шт. на сумму 14 130,00 руб.; поставка шкафов для хранения документации в количестве 6 шт. на сумму 71100,00 руб.; поставка многофункциональных устройств (МФУ) в количестве 3 шт. на сумму 308 000,00 руб.; поставка архивных металлических тележек в количестве 3 шт. на сумму 68 565,00 руб.; поставка мебели в количестве 16 шт. на сумму 85 000,00 руб.; поставка стульев в количестве 18 шт. на сумму 31 464,00 руб.; поставка светильников светодиодных настольных в количестве 8 шт. на сумму 11 600,00 руб.; поставка стульев лабораторных в количестве 2 шт. на сумму 11485,06 руб.; поставка фланца горелки в количестве 1 шт. на сумму 51 000,00 руб.; поставка обеззараживающего бокса в количестве 1 шт. на сумму 200 000,00 руб.; поставка внешних жестких дисков в количестве 10 шт. на сумму 99 600,00 руб.
B37: Подпрограмма 5 «Творческое развития детей и молодежи в сфере культуры»
B38: Региональный проект 5.1«Развитие искусства и творчества»
A39: 1 | B39: Мероприятие (результат) «Оказана государственная поддержка лучшим сельским учреждениям культуры» | C39: 5/5 | D39: В 2025 году была оказана государственная поддержка 21 сельскому учреждению культуры. Приобретались звуковое, световое оборудование, музыкальные инструменты и оргтехнику. Мероприятие призвано повысить престиж учреждений культуры на селе.
A40: 2 | B40: Мероприятие (результат) «Оказана государственная поддержка лучшим работникам сельских учреждений культуры» | C40: 5/5 | D40: В 2025 году была оказана государственная поддержка 15 работникам сельских учреждений культуры. Мероприятие способствует вовлечённости в творческие процессы и проектную деятельность, повышает престиж профессии.
A41: 3 | B41: Мероприятие (результат) «Поддержка работников отрасли культуры, прибывших (переехавших) в населенные пункты регионов Российской Федерации с числом жителей до 50 тысяч человек» | C41: 6/6 | D41: В 2025 году была оказана поддержка 30 работникам отрасли культуры, прибывшим (переехавшим) в населенные пункты регионов Российской Федерации с числом жителей до 50 тысяч человек в размере 1 млн. рублей, в целях исполнения требований Правил предоставления и распределения субсидий из федерального бюджета бюджетам субъектов Российской Федерации на поддержку работников отрасли культуры, прибывших (переехавших) в населенные пункты регионов Российской Федерации с числом жителей до 50 тысяч человек, утвержденных постановлением Правительства Российской Федерации от 25 декабря 2024 г. № 1885 «О внесении изменений в постановление Правительства Российской Федерации от 15 апреля 2014 г. № 317» и обеспечения своевременной реализации программы «Земский работник культуры»
B42: Региональный проект 5.2«Региональный проект «Поддержка социально ориентированных некоммерческих организаций в области культуры»
...

Sheet ВЕРНАЯ сентябрь с доп 2021
A3: Наименование государственной программы, подпрограммы, ведомственной целевой программы, основного мероприятия | B3: Ответственный исполнитель, соисполнитель, участник государственной программы (соисполнитель подпрограммы), плательщик (далее - исполнитель) | C3: Источники финансового обеспечения | D3: Объемы финансового обеспечения всего, (тыс. рублей) | E3: В том числе по годам реализации
E4: 2014 | F4: 2015 | G4: 2016 | H4: 2017 | I4: 2018 | J4: 2019 | K4: 2020 | L4: 2021 | M4: 2022 | N4: 2023 | O4: 2024
A5: 1 | B5: 2 | C5: 3 | D5: 4 | E5: 5 | F5: 6 | G5: 7 | H5: 8 | I5: 9 | J5: 10 | K5: 11 | L5: 12 | M5: 13 | N5: 14 | O5: 15
A6: Государственная программа Саратовской области "Культура Саратовской области" | C6: всего | D6: =SUM(E6:O6) -> 51750461 | E6: =E14+E21+E27+E33+E39+E45 -> 4865320.2 | F6: =F14+F21+F27+F33+F39+F45 -> 2108258.3 | G6: =G14+G21+G27+G33+G39+G45 -> 1927521.6 | H6: =H14+H21+H27+H33+H39+H45 -> 2974016.6 | I6: =I14+I21+I27+I33+I39+I45 -> 4510087.6 | J6: =J14+J21+J27+J33+J39+J45 -> 5256858.7 | K6: =K14+K21+K27+K33+K39+K45 -> 5243900.8 | L6: =L14+L21+L27+L33+L39+L45 -> 7021823.8 | ... O6: =O14+O21+O27+O33+O39+O45 -> 5429858.3 | P6: =L6-#REF! -> #REF!
C7: областной бюджет | D7: =SUM(E7:O7) -> 18768481 | E7: =E15+E22+E28+E34+E40+E46 -> 1200430.2 | F7: =F15+F22+F28+F34+F40+F46 -> 1133207 | G7: =G15+G22+G28+G34+G40+G46 -> 1087822.1 | H7: =H15+H22+H28+H34+H40+H46 -> 1356948.3 | I7: =I15+I22+I28+I34+I40+I46 -> 1321655 | J7: =J15+J22+J28+J34+J40+J46 -> 1778262 | K7: =K15+K22+K28+K34+K40+K46 -> 1681483.4 | L7: =L15+L22+L28+L34+L40+L46 -> 2708167.3 | ... O7: =O15+O22+O28+O34+O40+O46 -> 2091805.1 | P7: =L7-#REF! -> #REF!
C8: федеральный бюджет (прогнозно) | D8: =SUM(E8:O8) -> 4090854 | E8: =E16+E23+E29+E35+E41+E47 -> 424910 | F8: =F16+F23+F29+F35+F41+F47 -> 350172.8 | G8: =G16+G23+G29+G35+G41+G47 -> 85202.5 | H8: =H16+H23+H29+H35+H41+H47 -> 92110.7 | I8: =I16+I23+I29+I35+I41+I47 -> 231410.3 | J8: =J16+J23+J29+J35+J41+J47 -> 308355.3 | K8: =K16+K23+K29+K35+K41+K47 -> 574476.2 | L8: =L16+L23+L29+L35+L41+L47 -> 795682.8 | ... O8: =O16+O23+O29+O35+O41+O47 -> 0 | P8: =L8-#REF! -> #REF!
C9: местные бюджеты (прогнозно) | D9: =SUM(E9:O9) -> 25043887 | E9: =E17+E24+E30+E36+E42+E48 -> 3069368 | F9: =F17+F24+F30+F36+F42+F48 -> 450341.2 | G9: =G17+G24+G30+G36+G42+G48 -> 569768 | H9: =H17+H24+H30+H36+H42+H48 -> 1012886 | I9: =I17+I24+I30+I36+I42+I48 -> 2480233.5 | J9: =J17+J24+J30+J36+J42+J48 -> 2728100.9 | K9: =K17+K24+K30+K36+K42+K48 -> 2698275.3 | L9: =L17+L24+L30+L36+L42+L48 -> 3146086.2 | ... O9: =O17+O24+O30+O36+O42+O48 -> 2910711.4 | P9: =L9-#REF! -> #REF!
C10: внебюджетные источники (прогнозно) | D10: =SUM(E10:O10) -> 3574712.4 | E10: =E18+E25+E31+E37+E43+E49 -> 170612 | F10: =F18+F25+F31+F37+F43+F49 -> 174537.3 | G10: =G18+G25+G31+G37+G43+G49 -> 184729 | H10: =H18+H25+H31+H37+H43+H49 -> 312071.6 | I10: =I18+I25+I31+I37+I43+I49 -> 476788.8 | J10: =J18+J25+J31+J37+J43+J49 -> 369613.2 | K10: =K18+K25+K31+K37+K43+K49 -> 289665.9 | L10: =L18+L25+L31+L37+L43+L49 -> 371887.5 | ... O10: =O18+O25+O31+O37+O43+O49 -> 427341.8 | P10: =L10-#REF! -> #REF!
C11: государственные внебюджетные фонды и иные безвозмездные поступления целевой направленности (прогнозно) | D11: =SUM(E11:O11) -> 272527.3 | E11: =E19+E26+E32+E38+E44+E50 -> 0 | F11: =F19+F26+F32+F38+F44+F50 -> 0 | G11: =G19+G26+G32+G38+G44+G50 -> 0 | H11: =H19+H26+H32+H38+H44+H50 -> 200000 | I11: =I19+I26+I32+I38+I44+I50 -> 0 | J11: =J19+J26+J32+J38+J44+J50 -> 72527.3 | K11: =K19+K26+K32+K38+K44+K50 -> 0 | L11: =L19+L26+L32+L38+L44+L50 -> 0 | ... O11: =O19+O26+O32+O38+O44+O50 -> 0 | P11: =L11-#REF! -> #REF!
P12: =L12-#REF! -> #REF!
B13: в том числе по исполнителям: | P13: =L13-#REF! -> #REF!
B14: министерство культуры области | C14: всего | D14: =SUM(E14:O14) -> 47549569 | E14: =E51+E87+E135+E171+E207+E243+E292+E461+E498+E836+E928 -> 4435640.7 | F14: =F51+F87+F135+F171+F207+F243+F292+F461+F498+F836+F928 -> 1765270.5 | G14: =G51+G87+G135+G171+G207+G243+G292+G461+G498+G836+G928 -> 1860957.7 | H14: =H51+H87+H135+H171+H207+H243+H292+H461+H498+H836+H928 -> 2895349.9 | I14: =I51+I87+I135+I171+I207+I243+I292+I461+I498+I836+I928 -> 4279028.8 | J14: =J51+J87+J135+J171+J207+J243+J292+J461+J498+J836+J928 -> 5079884.2 | K14: =K51+K87+K135+K171+K207+K243+K292+K461+K498+K836+K928 -> 4860391.6 | L14: =L51+L87+L135+L171+L207+L243+L292+L461+L498+L836+L928 -> 5846213.5 | ... O14: =O51+O87+O135+O171+O207+O243+O292+O461+O498+O836+O928 -> 5281448.8 | P14: =L14-#REF! -> #REF!
C15: областной бюджет | D15: =SUM(E15:O15) -> 16975485 | E15: =E52+E88+E136+E172+E208+E244+E293+E462+E499+E837+E929 -> 1080295.4 | F15: =F52+F88+F136+F172+F208+F244+F293+F462+F499+F837+F929 -> 1062934.1 | G15: =G52+G88+G136+G172+G208+G244+G293+G462+G499+G837+G929 -> 1037017.6 | H15: =H52+H88+H136+H172+H208+H244+H293+H462+H499+H837+H929 -> 1303576.7 | I15: =I52+I88+I136+I172+I208+I244+I293+I462+I499+I837+I929 -> 1238787.4 | J15: =J52+J88+J136+J172+J208+J244+J293+J462+J499+J837+J929 -> 1671770.6 | K15: =K52+K88+K136+K172+K208+K244+K293+K462+K499+K837+K929 -> 1509416.8 | L15: =L52+L88+L136+L172+L208+L244+L293+L462+L499+L837+L929 -> 2084340 | ... O15: =O52+O88+O136+O172+O208+O244+O293+O462+O499+O837+O929 -> 1959685.7 | P15: =L15-#REF! -> #REF!
C16: федеральный бюджет (прогнозно) | D16: =SUM(E16:O16) -> 1900516.1 | E16: =E53+E89+E137+E173+E209+E245+E294+E463+E500+E838+E930 -> 124730.6 | F16: =F53+F89+F137+F173+F209+F245+F294+F463+F500+F838+F930 -> 85429.9 | G16: =G53+G89+G137+G173+G209+G245+G294+G463+G500+G838+G930 -> 85122 | H16: =H53+H89+H137+H173+H209+H245+H294+H463+H500+H838+H930 -> 82605.4 | I16: =I53+I89+I137+I173+I209+I245+I294+I463+I500+I838+I930 -> 98984.6 | J16: =J53+J89+J137+J173+J209+J245+J294+J463+J500+J838+J930 -> 305987.9 | K16: =K53+K89+K137+K173+K209+K245+K294+K463+K500+K838+K930 -> 382966.8 | L16: =L53+L89+L137+L173+L209+L245+L294+L463+L500+L838+L930 -> 259967.5 | ... O16: =O53+O89+O137+O173+O209+O245+O294+O463+O500+O838+O930 -> 0 | P16: =L16-#REF! -> #REF!
C17: местные бюджеты (прогнозно) | D17: =SUM(E17:O17) -> 24940019 | E17: =E54+E90+E138+E174+E210+E246+E295+E464+E501+E839+E931 -> 3060342.7 | F17: =F54+F90+F138+F174+F210+F246+F295+F464+F501+F839+F931 -> 444154.1 | G17: =G54+G90+G138+G174+G210+G246+G295+G464+G501+G839+G931 -> 560801.7 | H17: =H54+H90+H138+H174+H210+H246+H295+H464+H501+H839+H931 -> 1003196.2 | I17: =I54+I90+I138+I174+I210+I246+I295+I464+I501+I839+I931 -> 2470568 | J17: =J54+J90+J138+J174+J210+J246+J295+J464+J501+J839+J931 -> 2720038.2 | K17: =K54+K90+K138+K174+K210+K246+K295+K464+K501+K839+K931 -> 2686542.1 | L17: =L54+L90+L138+L174+L210+L246+L295+L464+L501+L839+L931 -> 3136118.5 | ... O17: =O54+O90+O138+O174+O210+O246+O295+O464+O501+O839+O931 -> 2900521.3 | P17: =L17-#REF! -> #REF!
C18: внебюджетные источники (прогнозно) | D18: =SUM(E18:O18) -> 3514974.9 | E18: =E55+E91+E139+E175+E211+E247+E296+E465+E502+E840+E932 -> 170272 | F18: =F55+F91+F139+F175+F211+F247+F296+F465+F502+F840+F932 -> 172752.4 | G18: =G55+G91+G139+G175+G211+G247+G296+G465+G502+G840+G932 -> 178016.4 | H18: =H55+H91+H139+H175+H211+H247+H296+H465+H502+H840+H932 -> 305971.6 | I18: =I55+I91+I139+I175+I211+I247+I296+I465+I502+I840+I932 -> 470688.8 | J18: =J55+J91+J139+J175+J211+J247+J296+J465+J502+J840+J932 -> 363513.2 | K18: =K55+K91+K139+K175+K211+K247+K296+K465+K502+K840+K932 -> 281465.9 | L18: =L55+L91+L139+L175+L211+L247+L296+L465+L502+L840+L932 -> 365787.5 | ... O18: =O55+O91+O139+O175+O211+O247+O296+O465+O502+O840+O932 -> 421241.8 | P18: =L18-#REF! -> #REF!
C19: государственные внебюджетные фонды и иные безвозмездные поступления целевой направленности (прогнозно) | D19: =SUM(E19:O19) -> 218574.3 | E19: =E56+E92+E140+E176+E212+E248+E297+E466+E503+E841+E933 -> 0 | F19: =F56+F92+F140+F176+F212+F248+F297+F466+F503+F841+F933 -> 0 | G19: =G56+G92+G140+G176+G212+G248+G297+G466+G503+G841+G933 -> 0 | H19: =H56+H92+H140+H176+H212+H248+H297+H466+H503+H841+H933 -> 200000 | I19: =I56+I92+I140+I176+I212+I248+I297+I466+I503+I841+I933 -> 0 | J19: =J56+J92+J140+J176+J212+J248+J297+J466+J503+J841+J933 -> 18574.3 | K19: =K56+K92+K140+K176+K212+K248+K297+K466+K503+K841+K933 -> 0 | L19: =L56+L92+L140+L176+L212+L248+L297+L466+L503+L841+L933 -> 0 | ... O19: =O56+O92+O140+O176+O212+O248+O297+O466+O503+O841+O933 -> 0 | P19: =L19-#REF! -> #REF!
D20: =SUM(E20:O20) -> -2.0227162e-09 | E20: =E14-E15-E16-E17-E18-E19 -> -4.6566129e-10 | F20: =F14-F15-F16-F17-F18-F19 -> -5.8207661e-10 | G20: =G14-G15-G16-G17-G18-G19 -> 1.4551915e-10 | H20: =H14-H15-H16-H17-H18-H19 -> 0 | I20: =I14-I15-I16-I17-I18-I19 -> -1.7462298e-10 | J20: =J14-J15-J16-J17-J18-J19 -> 4.5110937e-10 | K20: =K14-K15-K16-K17-K18-K19 -> -1.1641532e-10 | L20: =L14-L15-L16-L17-L18-L19 -> 0 | ... O20: =O14-O15-O16-O17-O18-O19 -> -1.7462298e-10 | P20: =L20-#REF! -> #REF!
B21: управление делами Правительства области | C21: всего | D21: =SUM(E21:O21) -> 874431.2 | E21: =E443+E449+E455+E842+E940+E504 -> 53995 | F21: =F443+F449+F455+F842+F940+F504 -> 48924.7 | G21: =G443+G449+G455+G842+G940+G504 -> 53197.3 | H21: =H443+H449+H455+H842+H940+H504 -> 64193.3 | I21: =I443+I449+I455+I842+I940+I504 -> 58750.7 | J21: =J443+J449+J455+J842+J940+J504 -> 81348.3 | K21: =K443+K449+K455+K842+K940+K504 -> 99860.4 | L21: =L443+L449+L455+L842+L504 -> 103376 | M21: =M443+M449+M455+M842+M504 -> 103592.9 | N21: =N443+N449+N455+N842+N504 -> 103596.3 | O21: =O443+O449+O455+O842+O504 -> 103596.3 | P21: =L21-#REF! -> #REF!
C22: областной бюджет | D22: =SUM(E22:O22) -> 752196.8 | E22: =E444+E450+E456+E843+E941+E505 -> 44450.3 | F22: =F444+F450+F456+F843+F941+F505 -> 42074.8 | G22: =G444+G450+G456+G843+G941+G505 -> 43533.5 | H22: =H444+H450+H456+H843+H941+H505 -> 44998.2 | I22: =I444+I450+I456+I843+I941+I505 -> 46659.5 | J22: =J444+J450+J456+J843+J941+J505 -> 70918.2 | K22: =K444+K450+K456+K843+K941+K505 -> 85938.8 | L22: =L444+L450+L456+L843+L505 -> 93408.3 | M22: =M444+M450+M456+M843+M505 -> 93402.8 | N22: =N444+N450+N456+N843+N505 -> 93406.2 | O22: =O444+O450+O456+O843+O505 -> 93406.2 | P22: =L22-#REF! -> #REF!
C23: федеральный бюджет (прогнозно) | D23: =SUM(E23:O23) -> 16806.5 | E23: =E445+E451+E457+E844+E942+E506 -> 179.4 | F23: =F445+F451+F457+F844+F942+F506 -> 59.8 | G23: =G445+G451+G457+G844+G942+G506 -> 80.5 | H23: =H445+H451+H457+H844+H942+H506 -> 9505.3 | I23: =I445+I451+I457+I844+I942+I506 -> 2425.7 | J23: =J445+J451+J457+J844+J942+J506 -> 2367.4 | K23: =K445+K451+K457+K844+K942+K506 -> 2188.4 | L23: =L445+L451+L457+L844+L506 -> 0 | M23: =M445+M451+M457+M844+M506 -> 0 | N23: =N445+N451+N457+N844+N506 -> 0 | O23: =O445+O451+O457+O844+O506 -> 0 | P23: =L23-#REF! -> #REF!
C24: местные бюджеты (прогнозно) | D24: =SUM(E24:O24) -> 103867.9 | E24: =E446+E452+E458+E845+E943+E507 -> 9025.3 | F24: =F446+F452+F458+F845+F943+F507 -> 6187.1 | G24: =G446+G452+G458+G845+G943+G507 -> 8966.3 | H24: =H446+H452+H458+H845+H943+H507 -> 9689.8 | I24: =I446+I452+I458+I845+I943+I507 -> 9665.5 | J24: =J446+J452+J458+J845+J943+J507 -> 8062.7 | K24: =K446+K452+K458+K845+K943+K507 -> 11733.2 | L24: =L446+L452+L458+L845+L507 -> 9967.7 | M24: =M446+M452+M458+M845+M507 -> 10190.1 | N24: =N446+N452+N458+N845+N507 -> 10190.1 | O24: =O446+O452+O458+O845+O507 -> 10190.1 | P24: =L24-#REF! -> #REF!
C25: внебюджетные источники (прогнозно) | D25: =SUM(E25:O25) -> 1560 | E25: =E447+E453+E459+E846+E944+E508 -> 340 | F25: =F447+F453+F459+F846+F944+F508 -> 603 | G25: =G447+G453+G459+G846+G944+G508 -> 617 | H25: =H447+H453+H459+H846+H944+H508 -> 0 | I25: =I447+I453+I459+I846+I944+I508 -> 0 | J25: =J447+J453+J459+J846+J944+J508 -> 0 | K25: =K447+K453+K459+K846+K944+K508 -> 0 | L25: =L447+L453+L459+L846+L508 -> 0 | M25: =M447+M453+M459+M846+M508 -> 0 | N25: =N447+N453+N459+N846+N508 -> 0 | O25: =O447+O453+O459+O846+O508 -> 0 | P25: =L25-#REF! -> #REF!
C26: государственные внебюджетные фонды и иные безвозмездные поступления целевой направленности (прогнозно) | D26: =SUM(E26:O26) -> 0 | E26: =E448+E454+E460+E847+E945+E509 -> 0 | F26: =F448+F454+F460+F847+F945+F509 -> 0 | G26: =G448+G454+G460+G847+G945+G509 -> 0 | H26: =H448+H454+H460+H847+H945+H509 -> 0 | I26: =I448+I454+I460+I847+I945+I509 -> 0 | J26: =J448+J454+J460+J847+J945+J509 -> 0 | K26: =K448+K454+K460+K847+K945+K509 -> 0 | L26: =L448+L454+L460+L847+L509 -> 0 | M26: =M448+M454+M460+M847+M509 -> 0 | N26: =N448+N454+N460+N847+N509 -> 0 | O26: =O448+O454+O460+O847+O509 -> 0 | P26: =L26-#REF! -> #REF!
B27: комитет капитального строительства области, министерство строительства и жилищно-коммунального хозяйства области, государственное казенное учреждение Саратовской области "Управление капитального строительства" | C27: всего | D27: =SUM(E27:O27) -> 983629.5 | E27: =E510 -> 375684.5 | F27: =F510 -> 290527.3 | G27: =G510 -> 0 | H27: =H510 -> 847.7 | I27: =I510+I431 -> 151570 | J27: =J510+J431 -> 0 | K27: =K510+K431 -> 0 | L27: =L510+L431 -> 165000 | M27: =M510+M431 -> 0 | N27: =N510+N431 -> 0 | O27: =O510+O431 -> 0 | P27: =L27-#REF! -> #REF!
C28: областной бюджет | D28: =SUM(E28:O28) -> 288946.4 | E28: =E511 -> 75684.5 | F28: =F511 -> 25844.2 | G28: =G511 -> 0 | H28: =H511 -> 847.7 | I28: =I511+I432 -> 21570 | J28: =J511+J432 -> 0 | K28: =K511+K432 -> 0 | L28: =L511+L432 -> 165000 | M28: =M511+M432 -> 0 | N28: =N511+N432 -> 0 | O28: =O511+O432 -> 0 | P28: =L28-#REF! -> #REF!
C29: федеральный бюджет (прогнозно) | D29: =SUM(E29:O29) -> 694683.1 | E29: =E512 -> 300000 | F29: =F512 -> 264683.1 | G29: =G512 -> 0 | H29: =H512 -> 0 | I29: =I512+I433 -> 130000 | J29: =J512+J433 -> 0 | K29: =K512+K433 -> 0 | L29: =L512+L433 -> 0 | M29: =M512+M433 -> 0 | N29: =N512+N433 -> 0 | O29: =O512+O433 -> 0 | P29: =L29-#REF! -> #REF!
C30: местные бюджеты (прогнозно) | D30: =SUM(E30:O30) -> 0 | E30: =E513 -> 0 | F30: =F513 -> 0 | G30: =G513 -> 0 | H30: =H513 -> 0 | I30: =I513+I434 -> 0 | J30: =J513+J434 -> 0 | K30: =K513+K434 -> 0 | L30: =L513+L434 -> 0 | M30: =M513+M434 -> 0 | N30: =N513+N434 -> 0 | O30: =O513+O434 -> 0 | P30: =L30-#REF! -> #REF!
C31: внебюджетные источники (прогнозно) | D31: =SUM(E31:O31) -> 0 | E31: =E514 -> 0 | F31: =F514 -> 0 | G31: =G514 -> 0 | H31: =H514 -> 0 | I31: =I514+I435 -> 0 | J31: =J514+J435 -> 0 | K31: =K514+K435 -> 0 | L31: =L514+L435 -> 0 | M31: =M514+M435 -> 0 | N31: =N514+N435 -> 0 | O31: =O514+O435 -> 0 | P31: =L31-#REF! -> #REF!
C32: государственные внебюджетные фонды и иные безвозмездные поступления целевой направленности (прогнозно) | D32: =SUM(E32:O32) -> 0 | E32: =E515 -> 0 | F32: =F515 -> 0 | G32: =G515 -> 0 | H32: =H515 -> 0 | I32: =I515+I436 -> 0 | J32: =J515+J436 -> 0 | K32: =K515+K436 -> 0 | L32: =L515+L436 -> 0 | M32: =M515+M436 -> 0 | N32: =N515+N436 -> 0 | O32: =O515+O436 -> 0 | P32: =L32-#REF! -> #REF!
B33: управление по охране объектов культурного наследия Правительства области | C33: всего | D33: =SUM(E33:O33) -> 320564.2 | E33: =E298 -> 0 | F33: =F298 -> 3535.8 | G33: =G298 -> 13366.6 | H33: =H298 -> 13625.7 | I33: =I298 -> 20738.1 | J33: =J298 -> 38667.7 | K33: =K298 -> 31377.5 | L33: =L298 -> 64813.2 | ... O33: =O298 -> 44813.2 | P33: =L33-#REF! -> #REF!
C34: областной бюджет | D34: =SUM(E34:O34) -> 252386.7 | E34: =E299 -> 0 | F34: =F299 -> 2353.9 | G34: =G299 -> 7271 | H34: =H299 -> 7525.7 | I34: =I299 -> 14638.1 | J34: =J299 -> 22567.7 | K34: =K299 -> 23177.5 | L34: =L299 -> 58713.2 | ... O34: =O299 -> 38713.2 | P34: =L34-#REF! -> #REF!
C35: федеральный бюджет (прогнозно) | D35: =SUM(E35:O35) -> 0 | E35: =E300 -> 0 | F35: =F300 -> 0 | G35: =G300 -> 0 | H35: =H300 -> 0 | I35: =I300 -> 0 | J35: =J300 -> 0 | K35: =K300 -> 0 | L35: =L300 -> 0 | ... O35: =O300 -> 0 | P35: =L35-#REF! -> #REF!
C36: местные бюджеты (прогнозно) | D36: =SUM(E36:O36) -> 0 | E36: =E301 -> 0 | F36: =F301 -> 0 | G36: =G301 -> 0 | H36: =H301 -> 0 | I36: =I301 -> 0 | J36: =J301 -> 0 | K36: =K301 -> 0 | L36: =L301 -> 0 | ... O36: =O301 -> 0 | P36: =L36-#REF! -> #REF!
C37: внебюджетные источники (прогнозно) | D37: =SUM(E37:O37) -> 58177.5 | E37: =E302 -> 0 | F37: =F302 -> 1181.9 | G37: =G302 -> 6095.6 | H37: =H302 -> 6100 | I37: =I302 -> 6100 | J37: =J302 -> 6100 | K37: =K302 -> 8200 | L37: =L302 -> 6100 | ... O37: =O302 -> 6100 | P37: =L37-#REF! -> #REF!
C38: государственные внебюджетные фонды и иные безвозмездные поступления целевой направленности (прогнозно) | D38: =SUM(E38:O38) -> 10000 | E38: =E303 -> 0 | F38: =F303 -> 0 | G38: =G303 -> 0 | H38: =H303 -> 0 | I38: =I303 -> 0 | J38: =J303 -> 10000 | K38: =K303 -> 0 | L38: =L303 -> 0 | ... O38: =O303 -> 0 | P38: =L38-#REF! -> #REF!
B39: комитет по реализации инвестиционных проектов в строительстве области | C39: всего | D39: =SUM(E39:O39) -> 2020339.7 | E39: =E517 -> 0 | F39: =F517 -> 0 | G39: =G517 -> 0 | H39: =H517 -> 0 | I39: =I517 -> 0 | J39: =J517 -> 56958.5 | K39: =K517 -> 252271.3 | L39: =L517 -> 840493.8 | ... O39: =O517 -> 0 | P39: =L39-#REF! -> #REF!
C40: областной бюджет | D40: =SUM(E40:O40) -> 499253.7 | E40: =E518 -> 0 | F40: =F518 -> 0 | G40: =G518 -> 0 | H40: =H518 -> 0 | I40: =I518 -> 0 | J40: =J518 -> 13005.5 | K40: =K518 -> 62950.3 | L40: =L518 -> 306493.8 | ... O40: =O518 -> 0 | P40: =L40-#REF! -> #REF!
C41: федеральный бюджет (прогнозно) | D41: =SUM(E41:O41) -> 1477133 | E41: =E519 -> 0 | F41: =F519 -> 0 | G41: =G519 -> 0 | H41: =H519 -> 0 | I41: =I519 -> 0 | J41: =J519 -> 0 | K41: =K519 -> 189321 | L41: =L519 -> 534000 | ... O41: =O519 -> 0 | P41: =L41-#REF! -> #REF!
C42: местные бюджеты (прогнозно) | D42: =SUM(E42:O42) -> 0 | E42: =E520 -> 0 | F42: =F520 -> 0 | G42: =G520 -> 0 | H42: =H520 -> 0 | I42: =I520 -> 0 | J42: =J520 -> 0 | K42: =K520 -> 0 | L42: =L520 -> 0 | ... O42: =O520 -> 0 | P42: =L42-#REF! -> #REF!
...

Sheet ВЕРНАЯ на АВГУСТ с доп 2021
A3: Наименование государственной программы, подпрограммы, ведомственной целевой программы, основного мероприятия | B3: Ответственный исполнитель, соисполнитель, участник государственной программы (соисполнитель подпрограммы), плательщик (далее - исполнитель) | C3: Источники финансового обеспечения | D3: Объемы финансового обеспечения всего, (тыс. рублей) | E3: В том числе по годам реализации
E4: 2014 | F4: 2015 | G4: 2016 | H4: 2017 | I4: 2018 | J4: 2019 | K4: 2020 | L4: 2021 | M4: 2022 | N4: 2023 | O4: 2024
A5: 1 | B5: 2 | C5: 3 | D5: 4 | E5: 5 | F5: 6 | G5: 7 | H5: 8 | I5: 9 | J5: 10 | K5: 11 | L5: 12 | M5: 13 | N5: 14 | O5: 15
A6: Государственная программа Саратовской области "Культура Саратовской области" | C6: всего | D6: =SUM(E6:O6) -> 51714598 | E6: =E14+E21+E27+E33+E39+E45 -> 4865320.2 | F6: =F14+F21+F27+F33+F39+F45 -> 2108258.3 | G6: =G14+G21+G27+G33+G39+G45 -> 1927521.6 | H6: =H14+H21+H27+H33+H39+H45 -> 2974016.6 | I6: =I14+I21+I27+I33+I39+I45 -> 4510087.6 | J6: =J14+J21+J27+J33+J39+J45 -> 5256858.7 | K6: =K14+K21+K27+K33+K39+K45 -> 5243900.8 | L6: =L14+L21+L27+L33+L39+L45 -> 6985960.9 | ... O6: =O14+O21+O27+O33+O39+O45 -> 5429858.3 | P6: =L6-#REF! -> #REF! | Q6: =P6-'ВЕРНАЯ на АВГУСТ'!P6 -> #REF!
C7: областной бюджет | D7: =SUM(E7:O7) -> 18765062 | E7: =E15+E22+E28+E34+E40+E46 -> 1200430.2 | F7: =F15+F22+F28+F34+F40+F46 -> 1133207 | G7: =G15+G22+G28+G34+G40+G46 -> 1087822.1 | H7: =H15+H22+H28+H34+H40+H46 -> 1356948.3 | I7: =I15+I22+I28+I34+I40+I46 -> 1321655 | J7: =J15+J22+J28+J34+J40+J46 -> 1778262 | K7: =K15+K22+K28+K34+K40+K46 -> 1681483.4 | L7: =L15+L22+L28+L34+L40+L46 -> 2704748.4 | ... O7: =O15+O22+O28+O34+O40+O46 -> 2091805.1 | P7: =L7-#REF! -> #REF! | Q7: =P7-'ВЕРНАЯ на АВГУСТ'!P7 -> #REF! | S7: 3447987.2
C8: федеральный бюджет (прогнозно) | D8: =SUM(E8:O8) -> 4058410 | E8: =E16+E23+E29+E35+E41+E47 -> 424910 | F8: =F16+F23+F29+F35+F41+F47 -> 350172.8 | G8: =G16+G23+G29+G35+G41+G47 -> 85202.5 | H8: =H16+H23+H29+H35+H41+H47 -> 92110.7 | I8: =I16+I23+I29+I35+I41+I47 -> 231410.3 | J8: =J16+J23+J29+J35+J41+J47 -> 308355.3 | K8: =K16+K23+K29+K35+K41+K47 -> 574476.2 | L8: =L16+L23+L29+L35+L41+L47 -> 763238.8 | ... O8: =O16+O23+O29+O35+O41+O47 -> 0 | P8: =L8-#REF! -> #REF! | Q8: =P8-'ВЕРНАЯ на АВГУСТ'!P8 -> #REF!
C9: местные бюджеты (прогнозно) | D9: =SUM(E9:O9) -> 25043887 | E9: =E17+E24+E30+E36+E42+E48 -> 3069368 | F9: =F17+F24+F30+F36+F42+F48 -> 450341.2 | G9: =G17+G24+G30+G36+G42+G48 -> 569768 | H9: =H17+H24+H30+H36+H42+H48 -> 1012886 | I9: =I17+I24+I30+I36+I42+I48 -> 2480233.5 | J9: =J17+J24+J30+J36+J42+J48 -> 2728100.9 | K9: =K17+K24+K30+K36+K42+K48 -> 2698275.3 | L9: =L17+L24+L30+L36+L42+L48 -> 3146086.2 | ... O9: =O17+O24+O30+O36+O42+O48 -> 2910711.4 | P9: =L9-#REF! -> #REF! | Q9: =P9-'ВЕРНАЯ на АВГУСТ'!P9 -> #REF!
C10: внебюджетные источники (прогнозно) | D10: =SUM(E10:O10) -> 3574712.4 | E10: =E18+E25+E31+E37+E43+E49 -> 170612 | F10: =F18+F25+F31+F37+F43+F49 -> 174537.3 | G10: =G18+G25+G31+G37+G43+G49 -> 184729 | H10: =H18+H25+H31+H37+H43+H49 -> 312071.6 | I10: =I18+I25+I31+I37+I43+I49 -> 476788.8 | J10: =J18+J25+J31+J37+J43+J49 -> 369613.2 | K10: =K18+K25+K31+K37+K43+K49 -> 289665.9 | L10: =L18+L25+L31+L37+L43+L49 -> 371887.5 | ... O10: =O18+O25+O31+O37+O43+O49 -> 427341.8 | P10: =L10-#REF! -> #REF! | Q10: =P10-'ВЕРНАЯ на АВГУСТ'!P10 -> #REF!
C11: государственные внебюджетные фонды и иные безвозмездные поступления целевой направленности (прогнозно) | D11: =SUM(E11:O11) -> 272527.3 | E11: =E19+E26+E32+E38+E44+E50 -> 0 | F11: =F19+F26+F32+F38+F44+F50 -> 0 | G11: =G19+G26+G32+G38+G44+G50 -> 0 | H11: =H19+H26+H32+H38+H44+H50 -> 200000 | I11: =I19+I26+I32+I38+I44+I50 -> 0 | J11: =J19+J26+J32+J38+J44+J50 -> 72527.3 | K11: =K19+K26+K32+K38+K44+K50 -> 0 | L11: =L19+L26+L32+L38+L44+L50 -> 0 | ... O11: =O19+O26+O32+O38+O44+O50 -> 0 | P11: =L11-#REF! -> #REF! | Q11: =P11-'ВЕРНАЯ на АВГУСТ'!P11 -> #REF!
P12: =L12-#REF! -> #REF! | Q12: =P12-'ВЕРНАЯ на АВГУСТ'!P12 -> #REF!
B13: в том числе по исполнителям: | P13: =L13-#REF! -> #REF! | Q13: =P13-'ВЕРНАЯ на АВГУСТ'!P13 -> #REF!
B14: министерство культуры области | C14: всего | D14: =SUM(E14:O14) -> 47513706 | E14: =E51+E87+E135+E171+E207+E243+E292+E461+E498+E836+E928 -> 4435640.7 | F14: =F51+F87+F135+F171+F207+F243+F292+F461+F498+F836+F928 -> 1765270.5 | G14: =G51+G87+G135+G171+G207+G243+G292+G461+G498+G836+G928 -> 1860957.7 | H14: =H51+H87+H135+H171+H207+H243+H292+H461+H498+H836+H928 -> 2895349.9 | I14: =I51+I87+I135+I171+I207+I243+I292+I461+I498+I836+I928 -> 4279028.8 | J14: =J51+J87+J135+J171+J207+J243+J292+J461+J498+J836+J928 -> 5079884.2 | K14: =K51+K87+K135+K171+K207+K243+K292+K461+K498+K836+K928 -> 4860391.6 | L14: =L51+L87+L135+L171+L207+L243+L292+L461+L498+L836+L928 -> 5810350.6 | ... O14: =O51+O87+O135+O171+O207+O243+O292+O461+O498+O836+O928 -> 5281448.8 | P14: =L14-#REF! -> #REF! | Q14: =P14-'ВЕРНАЯ на АВГУСТ'!P14 -> #REF! | R14: =P14-Q14 -> #REF!
C15: областной бюджет | D15: =SUM(E15:O15) -> 16972066 | E15: =E52+E88+E136+E172+E208+E244+E293+E462+E499+E837+E929 -> 1080295.4 | F15: =F52+F88+F136+F172+F208+F244+F293+F462+F499+F837+F929 -> 1062934.1 | G15: =G52+G88+G136+G172+G208+G244+G293+G462+G499+G837+G929 -> 1037017.6 | H15: =H52+H88+H136+H172+H208+H244+H293+H462+H499+H837+H929 -> 1303576.7 | I15: =I52+I88+I136+I172+I208+I244+I293+I462+I499+I837+I929 -> 1238787.4 | J15: =J52+J88+J136+J172+J208+J244+J293+J462+J499+J837+J929 -> 1671770.6 | K15: =K52+K88+K136+K172+K208+K244+K293+K462+K499+K837+K929 -> 1509416.8 | L15: =L52+L88+L136+L172+L208+L244+L293+L462+L499+L837+L929 -> 2080921.1 | ... O15: =O52+O88+O136+O172+O208+O244+O293+O462+O499+O837+O929 -> 1959685.7 | P15: =L15-#REF! -> #REF! | Q15: =P15-'ВЕРНАЯ на АВГУСТ'!P15 -> #REF!
C16: федеральный бюджет (прогнозно) | D16: =SUM(E16:O16) -> 1868072.1 | E16: =E53+E89+E137+E173+E209+E245+E294+E463+E500+E838+E930 -> 124730.6 | F16: =F53+F89+F137+F173+F209+F245+F294+F463+F500+F838+F930 -> 85429.9 | G16: =G53+G89+G137+G173+G209+G245+G294+G463+G500+G838+G930 -> 85122 | H16: =H53+H89+H137+H173+H209+H245+H294+H463+H500+H838+H930 -> 82605.4 | I16: =I53+I89+I137+I173+I209+I245+I294+I463+I500+I838+I930 -> 98984.6 | J16: =J53+J89+J137+J173+J209+J245+J294+J463+J500+J838+J930 -> 305987.9 | K16: =K53+K89+K137+K173+K209+K245+K294+K463+K500+K838+K930 -> 382966.8 | L16: =L53+L89+L137+L173+L209+L245+L294+L463+L500+L838+L930 -> 227523.5 | ... O16: =O53+O89+O137+O173+O209+O245+O294+O463+O500+O838+O930 -> 0 | P16: =L16-#REF! -> #REF! | Q16: =P16-'ВЕРНАЯ на АВГУСТ'!P16 -> #REF!
C17: местные бюджеты (прогнозно) | D17: =SUM(E17:O17) -> 24940019 | E17: =E54+E90+E138+E174+E210+E246+E295+E464+E501+E839+E931 -> 3060342.7 | F17: =F54+F90+F138+F174+F210+F246+F295+F464+F501+F839+F931 -> 444154.1 | G17: =G54+G90+G138+G174+G210+G246+G295+G464+G501+G839+G931 -> 560801.7 | H17: =H54+H90+H138+H174+H210+H246+H295+H464+H501+H839+H931 -> 1003196.2 | I17: =I54+I90+I138+I174+I210+I246+I295+I464+I501+I839+I931 -> 2470568 | J17: =J54+J90+J138+J174+J210+J246+J295+J464+J501+J839+J931 -> 2720038.2 | K17: =K54+K90+K138+K174+K210+K246+K295+K464+K501+K839+K931 -> 2686542.1 | L17: =L54+L90+L138+L174+L210+L246+L295+L464+L501+L839+L931 -> 3136118.5 | ... O17: =O54+O90+O138+O174+O210+O246+O295+O464+O501+O839+O931 -> 2900521.3 | P17: =L17-#REF! -> #REF! | Q17: =P17-'ВЕРНАЯ на АВГУСТ'!P17 -> #REF!
C18: внебюджетные источники (прогнозно) | D18: =SUM(E18:O18) -> 3514974.9 | E18: =E55+E91+E139+E175+E211+E247+E296+E465+E502+E840+E932 -> 170272 | F18: =F55+F91+F139+F175+F211+F247+F296+F465+F502+F840+F932 -> 172752.4 | G18: =G55+G91+G139+G175+G211+G247+G296+G465+G502+G840+G932 -> 178016.4 | H18: =H55+H91+H139+H175+H211+H247+H296+H465+H502+H840+H932 -> 305971.6 | I18: =I55+I91+I139+I175+I211+I247+I296+I465+I502+I840+I932 -> 470688.8 | J18: =J55+J91+J139+J175+J211+J247+J296+J465+J502+J840+J932 -> 363513.2 | K18: =K55+K91+K139+K175+K211+K247+K296+K465+K502+K840+K932 -> 281465.9 | L18: =L55+L91+L139+L175+L211+L247+L296+L465+L502+L840+L932 -> 365787.5 | ... O18: =O55+O91+O139+O175+O211+O247+O296+O465+O502+O840+O932 -> 421241.8 | P18: =L18-#REF! -> #REF! | Q18: =P18-'ВЕРНАЯ на АВГУСТ'!P18 -> #REF!
C19: государственные внебюджетные фонды и иные безвозмездные поступления целевой направленности (прогнозно) | D19: =SUM(E19:O19) -> 218574.3 | E19: =E56+E92+E140+E176+E212+E248+E297+E466+E503+E841+E933 -> 0 | F19: =F56+F92+F140+F176+F212+F248+F297+F466+F503+F841+F933 -> 0 | G19: =G56+G92+G140+G176+G212+G248+G297+G466+G503+G841+G933 -> 0 | H19: =H56+H92+H140+H176+H212+H248+H297+H466+H503+H841+H933 -> 200000 | I19: =I56+I92+I140+I176+I212+I248+I297+I466+I503+I841+I933 -> 0 | J19: =J56+J92+J140+J176+J212+J248+J297+J466+J503+J841+J933 -> 18574.3 | K19: =K56+K92+K140+K176+K212+K248+K297+K466+K503+K841+K933 -> 0 | L19: =L56+L92+L140+L176+L212+L248+L297+L466+L503+L841+L933 -> 0 | ... O19: =O56+O92+O140+O176+O212+O248+O297+O466+O503+O841+O933 -> 0 | P19: =L19-#REF! -> #REF! | Q19: =P19-'ВЕРНАЯ на АВГУСТ'!P19 -> #REF!
D20: =SUM(E20:O20) -> -1.5570549e-09 | E20: =E14-E15-E16-E17-E18-E19 -> -4.6566129e-10 | F20: =F14-F15-F16-F17-F18-F19 -> -5.8207661e-10 | G20: =G14-G15-G16-G17-G18-G19 -> 1.4551915e-10 | H20: =H14-H15-H16-H17-H18-H19 -> 0 | I20: =I14-I15-I16-I17-I18-I19 -> -1.7462298e-10 | J20: =J14-J15-J16-J17-J18-J19 -> 4.5110937e-10 | K20: =K14-K15-K16-K17-K18-K19 -> -1.1641532e-10 | L20: =L14-L15-L16-L17-L18-L19 -> 4.6566129e-10 | ... O20: =O14-O15-O16-O17-O18-O19 -> -1.7462298e-10 | P20: =L20-#REF! -> #REF! | Q20: =P20-'ВЕРНАЯ на АВГУСТ'!P20 -> #REF!
B21: управление делами Правительства области | C21: всего | D21: =SUM(E21:O21) -> 874431.2 | E21: =E443+E449+E455+E842+E940+E504 -> 53995 | F21: =F443+F449+F455+F842+F940+F504 -> 48924.7 | G21: =G443+G449+G455+G842+G940+G504 -> 53197.3 | H21: =H443+H449+H455+H842+H940+H504 -> 64193.3 | I21: =I443+I449+I455+I842+I940+I504 -> 58750.7 | J21: =J443+J449+J455+J842+J940+J504 -> 81348.3 | K21: =K443+K449+K455+K842+K940+K504 -> 99860.4 | L21: =L443+L449+L455+L842+L504 -> 103376 | M21: =M443+M449+M455+M842+M504 -> 103592.9 | N21: =N443+N449+N455+N842+N504 -> 103596.3 | O21: =O443+O449+O455+O842+O504 -> 103596.3 | P21: =L21-#REF! -> #REF! | Q21: =P21-'ВЕРНАЯ на АВГУСТ'!P21 -> #REF!
C22: областной бюджет | D22: =SUM(E22:O22) -> 752196.8 | E22: =E444+E450+E456+E843+E941+E505 -> 44450.3 | F22: =F444+F450+F456+F843+F941+F505 -> 42074.8 | G22: =G444+G450+G456+G843+G941+G505 -> 43533.5 | H22: =H444+H450+H456+H843+H941+H505 -> 44998.2 | I22: =I444+I450+I456+I843+I941+I505 -> 46659.5 | J22: =J444+J450+J456+J843+J941+J505 -> 70918.2 | K22: =K444+K450+K456+K843+K941+K505 -> 85938.8 | L22: =L444+L450+L456+L843+L505 -> 93408.3 | M22: =M444+M450+M456+M843+M505 -> 93402.8 | N22: =N444+N450+N456+N843+N505 -> 93406.2 | O22: =O444+O450+O456+O843+O505 -> 93406.2 | P22: =L22-#REF! -> #REF! | Q22: =P22-'ВЕРНАЯ на АВГУСТ'!P22 -> #REF!
C23: федеральный бюджет (прогнозно) | D23: =SUM(E23:O23) -> 16806.5 | E23: =E445+E451+E457+E844+E942+E506 -> 179.4 | F23: =F445+F451+F457+F844+F942+F506 -> 59.8 | G23: =G445+G451+G457+G844+G942+G506 -> 80.5 | H23: =H445+H451+H457+H844+H942+H506 -> 9505.3 | I23: =I445+I451+I457+I844+I942+I506 -> 2425.7 | J23: =J445+J451+J457+J844+J942+J506 -> 2367.4 | K23: =K445+K451+K457+K844+K942+K506 -> 2188.4 | L23: =L445+L451+L457+L844+L506 -> 0 | M23: =M445+M451+M457+M844+M506 -> 0 | N23: =N445+N451+N457+N844+N506 -> 0 | O23: =O445+O451+O457+O844+O506 -> 0 | P23: =L23-#REF! -> #REF! | Q23: =P23-'ВЕРНАЯ на АВГУСТ'!P23 -> #REF!
C24: местные бюджеты (прогнозно) | D24: =SUM(E24:O24) -> 103867.9 | E24: =E446+E452+E458+E845+E943+E507 -> 9025.3 | F24: =F446+F452+F458+F845+F943+F507 -> 6187.1 | G24: =G446+G452+G458+G845+G943+G507 -> 8966.3 | H24: =H446+H452+H458+H845+H943+H507 -> 9689.8 | I24: =I446+I452+I458+I845+I943+I507 -> 9665.5 | J24: =J446+J452+J458+J845+J943+J507 -> 8062.7 | K24: =K446+K452+K458+K845+K943+K507 -> 11733.2 | L24: =L446+L452+L458+L845+L507 -> 9967.7 | M24: =M446+M452+M458+M845+M507 -> 10190.1 | N24: =N446+N452+N458+N845+N507 -> 10190.1 | O24: =O446+O452+O458+O845+O507 -> 10190.1 | P24: =L24-#REF! -> #REF! | Q24: =P24-'ВЕРНАЯ на АВГУСТ'!P24 -> #REF!
C25: внебюджетные источники (прогнозно) | D25: =SUM(E25:O25) -> 1560 | E25: =E447+E453+E459+E846+E944+E508 -> 340 | F25: =F447+F453+F459+F846+F944+F508 -> 603 | G25: =G447+G453+G459+G846+G944+G508 -> 617 | H25: =H447+H453+H459+H846+H944+H508 -> 0 | I25: =I447+I453+I459+I846+I944+I508 -> 0 | J25: =J447+J453+J459+J846+J944+J508 -> 0 | K25: =K447+K453+K459+K846+K944+K508 -> 0 | L25: =L447+L453+L459+L846+L508 -> 0 | M25: =M447+M453+M459+M846+M508 -> 0 | N25: =N447+N453+N459+N846+N508 -> 0 | O25: =O447+O453+O459+O846+O508 -> 0 | P25: =L25-#REF! -> #REF! | Q25: =P25-'ВЕРНАЯ на АВГУСТ'!P25 -> #REF!
C26: государственные внебюджетные фонды и иные безвозмездные поступления целевой направленности (прогнозно) | D26: =SUM(E26:O26) -> 0 | E26: =E448+E454+E460+E847+E945+E509 -> 0 | F26: =F448+F454+F460+F847+F945+F509 -> 0 | G26: =G448+G454+G460+G847+G945+G509 -> 0 | H26: =H448+H454+H460+H847+H945+H509 -> 0 | I26: =I448+I454+I460+I847+I945+I509 -> 0 | J26: =J448+J454+J460+J847+J945+J509 -> 0 | K26: =K448+K454+K460+K847+K945+K509 -> 0 | L26: =L448+L454+L460+L847+L509 -> 0 | M26: =M448+M454+M460+M847+M509 -> 0 | N26: =N448+N454+N460+N847+N509 -> 0 | O26: =O448+O454+O460+O847+O509 -> 0 | P26: =L26-#REF! -> #REF! | Q26: =P26-'ВЕРНАЯ на АВГУСТ'!P26 -> #REF!
B27: комитет капитального строительства области, министерство строительства и жилищно-коммунального хозяйства области, государственное казенное учреждение Саратовской области "Управление капитального строительства" | C27: всего | D27: =SUM(E27:O27) -> 983629.5 | E27: =E510 -> 375684.5 | F27: =F510 -> 290527.3 | G27: =G510 -> 0 | H27: =H510 -> 847.7 | I27: =I510+I431 -> 151570 | J27: =J510+J431 -> 0 | K27: =K510+K431 -> 0 | L27: =L510+L431 -> 165000 | M27: =M510+M431 -> 0 | N27: =N510+N431 -> 0 | O27: =O510+O431 -> 0 | P27: =L27-#REF! -> #REF! | Q27: =P27-'ВЕРНАЯ на АВГУСТ'!P27 -> #REF! | S27: 983629.5
C28: областной бюджет | D28: =SUM(E28:O28) -> 288946.4 | E28: =E511 -> 75684.5 | F28: =F511 -> 25844.2 | G28: =G511 -> 0 | H28: =H511 -> 847.7 | I28: =I511+I432 -> 21570 | J28: =J511+J432 -> 0 | K28: =K511+K432 -> 0 | L28: =L511+L432 -> 165000 | M28: =M511+M432 -> 0 | N28: =N511+N432 -> 0 | O28: =O511+O432 -> 0 | P28: =L28-#REF! -> #REF! | Q28: =P28-'ВЕРНАЯ на АВГУСТ'!P28 -> #REF!
C29: федеральный бюджет (прогнозно) | D29: =SUM(E29:O29) -> 694683.1 | E29: =E512 -> 300000 | F29: =F512 -> 264683.1 | G29: =G512 -> 0 | H29: =H512 -> 0 | I29: =I512+I433 -> 130000 | J29: =J512+J433 -> 0 | K29: =K512+K433 -> 0 | L29: =L512+L433 -> 0 | M29: =M512+M433 -> 0 | N29: =N512+N433 -> 0 | O29: =O512+O433 -> 0 | P29: =L29-#REF! -> #REF! | Q29: =P29-'ВЕРНАЯ на АВГУСТ'!P29 -> #REF!
C30: местные бюджеты (прогнозно) | D30: =SUM(E30:O30) -> 0 | E30: =E513 -> 0 | F30: =F513 -> 0 | G30: =G513 -> 0 | H30: =H513 -> 0 | I30: =I513+I434 -> 0 | J30: =J513+J434 -> 0 | K30: =K513+K434 -> 0 | L30: =L513+L434 -> 0 | M30: =M513+M434 -> 0 | N30: =N513+N434 -> 0 | O30: =O513+O434 -> 0 | P30: =L30-#REF! -> #REF! | Q30: =P30-'ВЕРНАЯ на АВГУСТ'!P30 -> #REF!
C31: внебюджетные источники (прогнозно) | D31: =SUM(E31:O31) -> 0 | E31: =E514 -> 0 | F31: =F514 -> 0 | G31: =G514 -> 0 | H31: =H514 -> 0 | I31: =I514+I435 -> 0 | J31: =J514+J435 -> 0 | K31: =K514+K435 -> 0 | L31: =L514+L435 -> 0 | M31: =M514+M435 -> 0 | N31: =N514+N435 -> 0 | O31: =O514+O435 -> 0 | P31: =L31-#REF! -> #REF! | Q31: =P31-'ВЕРНАЯ на АВГУСТ'!P31 -> #REF!
C32: государственные внебюджетные фонды и иные безвозмездные поступления целевой направленности (прогнозно) | D32: =SUM(E32:O32) -> 0 | E32: =E515 -> 0 | F32: =F515 -> 0 | G32: =G515 -> 0 | H32: =H515 -> 0 | I32: =I515+I436 -> 0 | J32: =J515+J436 -> 0 | K32: =K515+K436 -> 0 | L32: =L515+L436 -> 0 | M32: =M515+M436 -> 0 | N32: =N515+N436 -> 0 | O32: =O515+O436 -> 0 | P32: =L32-#REF! -> #REF! | Q32: =P32-'ВЕРНАЯ на АВГУСТ'!P32 -> #REF!
B33: управление по охране объектов культурного наследия Правительства области | C33: всего | D33: =SUM(E33:O33) -> 320564.2 | E33: =E298 -> 0 | F33: =F298 -> 3535.8 | G33: =G298 -> 13366.6 | H33: =H298 -> 13625.7 | I33: =I298 -> 20738.1 | J33: =J298 -> 38667.7 | K33: =K298 -> 31377.5 | L33: =L298 -> 64813.2 | ... O33: =O298 -> 44813.2 | P33: =L33-#REF! -> #REF! | Q33: =P33-'ВЕРНАЯ на АВГУСТ'!P33 -> #REF!
C34: областной бюджет | D34: =SUM(E34:O34) -> 252386.7 | E34: =E299 -> 0 | F34: =F299 -> 2353.9 | G34: =G299 -> 7271 | H34: =H299 -> 7525.7 | I34: =I299 -> 14638.1 | J34: =J299 -> 22567.7 | K34: =K299 -> 23177.5 | L34: =L299 -> 58713.2 | ... O34: =O299 -> 38713.2 | P34: =L34-#REF! -> #REF! | Q34: =P34-'ВЕРНАЯ на АВГУСТ'!P34 -> #REF!
C35: федеральный бюджет (прогнозно) | D35: =SUM(E35:O35) -> 0 | E35: =E300 -> 0 | F35: =F300 -> 0 | G35: =G300 -> 0 | H35: =H300 -> 0 | I35: =I300 -> 0 | J35: =J300 -> 0 | K35: =K300 -> 0 | L35: =L300 -> 0 | ... O35: =O300 -> 0 | P35: =L35-#REF! -> #REF! | Q35: =P35-'ВЕРНАЯ на АВГУСТ'!P35 -> #REF!
C36: местные бюджеты (прогнозно) | D36: =SUM(E36:O36) -> 0 | E36: =E301 -> 0 | F36: =F301 -> 0 | G36: =G301 -> 0 | H36: =H301 -> 0 | I36: =I301 -> 0 | J36: =J301 -> 0 | K36: =K301 -> 0 | L36: =L301 -> 0 | ... O36: =O301 -> 0 | P36: =L36-#REF! -> #REF! | Q36: =P36-'ВЕРНАЯ на АВГУСТ'!P36 -> #REF!
C37: внебюджетные источники (прогнозно) | D37: =SUM(E37:O37) -> 58177.5 | E37: =E302 -> 0 | F37: =F302 -> 1181.9 | G37: =G302 -> 6095.6 | H37: =H302 -> 6100 | I37: =I302 -> 6100 | J37: =J302 -> 6100 | K37: =K302 -> 8200 | L37: =L302 -> 6100 | ... O37: =O302 -> 6100 | P37: =L37-#REF! -> #REF! | Q37: =P37-'ВЕРНАЯ на АВГУСТ'!P37 -> #REF!
C38: государственные внебюджетные фонды и иные безвозмездные поступления целевой направленности (прогнозно) | D38: =SUM(E38:O38) -> 10000 | E38: =E303 -> 0 | F38: =F303 -> 0 | G38: =G303 -> 0 | H38: =H303 -> 0 | I38: =I303 -> 0 | J38: =J303 -> 10000 | K38: =K303 -> 0 | L38: =L303 -> 0 | ... O38: =O303 -> 0 | P38: =L38-#REF! -> #REF! | Q38: =P38-'ВЕРНАЯ на АВГУСТ'!P38 -> #REF!
B39: комитет по реализации инвестиционных проектов в строительстве области | C39: всего | D39: =SUM(E39:O39) -> 2020339.7 | E39: =E517 -> 0 | F39: =F517 -> 0 | G39: =G517 -> 0 | H39: =H517 -> 0 | I39: =I517 -> 0 | J39: =J517 -> 56958.5 | K39: =K517 -> 252271.3 | L39: =L517 -> 840493.8 | ... O39: =O517 -> 0 | P39: =L39-#REF! -> #REF! | Q39: =P39-'ВЕРНАЯ на АВГУСТ'!P39 -> #REF!
C40: областной бюджет | D40: =SUM(E40:O40) -> 499253.7 | E40: =E518 -> 0 | F40: =F518 -> 0 | G40: =G518 -> 0 | H40: =H518 -> 0 | I40: =I518 -> 0 | J40: =J518 -> 13005.5 | K40: =K518 -> 62950.3 | L40: =L518 -> 306493.8 | ... O40: =O518 -> 0 | P40: =L40-#REF! -> #REF! | Q40: =P40-'ВЕРНАЯ на АВГУСТ'!P40 -> #REF!
C41: федеральный бюджет (прогнозно) | D41: =SUM(E41:O41) -> 1477133 | E41: =E519 -> 0 | F41: =F519 -> 0 | G41: =G519 -> 0 | H41: =H519 -> 0 | I41: =I519 -> 0 | J41: =J519 -> 0 | K41: =K519 -> 189321 | L41: =L519 -> 534000 | ... O41: =O519 -> 0 | P41: =L41-#REF! -> #REF! | Q41: =P41-'ВЕРНАЯ на АВГУСТ'!P41 -> #REF!
C42: местные бюджеты (прогнозно) | D42: =SUM(E42:O42) -> 0 | E42: =E520 -> 0 | F42: =F520 -> 0 | G42: =G520 -> 0 | H42: =H520 -> 0 | I42: =I520 -> 0 | J42: =J520 -> 0 | K42: =K520 -> 0 | L42: =L520 -> 0 | ... O42: =O520 -> 0 | P42: =L42-#REF! -> #REF! | Q42: =P42-'ВЕРНАЯ на АВГУСТ'!P42 -> #REF!
...

Sheet ВЕРНАЯ на АВГУСТ+-30 млн
A3: Наименование государственной программы, подпрограммы, ведомственной целевой программы, основного мероприятия | B3: Ответственный исполнитель, соисполнитель, участник государственной программы (соисполнитель подпрограммы), плательщик (далее - исполнитель) | C3: Источники финансового обеспечения | D3: Объемы финансового обеспечения всего, (тыс. рублей) | E3: В том числе по годам реализации
E4: 2014 | F4: 2015 | G4: 2016 | H4: 2017 | I4: 2018 | J4: 2019 | K4: 2020 | L4: 2021 | M4: 2022 | N4: 2023 | O4: 2024
A5: 1 | B5: 2 | C5: 3 | D5: 4 | E5: 5 | F5: 6 | G5: 7 | H5: 8 | I5: 9 | J5: 10 | K5: 11 | L5: 12 | M5: 13 | N5: 14 | O5: 15 | U5: 6985960.9 | V5: 2704748.4
A6: Государственная программа Саратовской области "Культура Саратовской области" | C6: всего | D6: =SUM(E6:O6) -> 51714598 | E6: =E14+E21+E27+E33+E39+E45 -> 4865320.2 | F6: =F14+F21+F27+F33+F39+F45 -> 2108258.3 | G6: =G14+G21+G27+G33+G39+G45 -> 1927521.6 | H6: =H14+H21+H27+H33+H39+H45 -> 2974016.6 | I6: =I14+I21+I27+I33+I39+I45 -> 4510087.6 | J6: =J14+J21+J27+J33+J39+J45 -> 5256858.7 | K6: =K14+K21+K27+K33+K39+K45 -> 5243900.8 | L6: =L14+L21+L27+L33+L39+L45 -> 6985960.9 | ... O6: =O14+O21+O27+O33+O39+O45 -> 5429858.3 | P6: =L6-#REF! -> #REF! | Q6: =P6-'ВЕРНАЯ на АВГУСТ'!P6 -> #REF!
C7: областной бюджет | D7: =SUM(E7:O7) -> 18765062 | E7: =E15+E22+E28+E34+E40+E46 -> 1200430.2 | F7: =F15+F22+F28+F34+F40+F46 -> 1133207 | G7: =G15+G22+G28+G34+G40+G46 -> 1087822.1 | H7: =H15+H22+H28+H34+H40+H46 -> 1356948.3 | I7: =I15+I22+I28+I34+I40+I46 -> 1321655 | J7: =J15+J22+J28+J34+J40+J46 -> 1778262 | K7: =K15+K22+K28+K34+K40+K46 -> 1681483.4 | L7: =L15+L22+L28+L34+L40+L46 -> 2704748.4 | ... O7: =O15+O22+O28+O34+O40+O46 -> 2091805.1 | P7: =L7-#REF! -> #REF! | Q7: =P7-'ВЕРНАЯ на АВГУСТ'!P7 -> #REF! | S7: 3447987.2 | T7: =S7-Q7 -> #REF! | U7: 51714598 | V7: 18765062
C8: федеральный бюджет (прогнозно) | D8: =SUM(E8:O8) -> 4058410 | E8: =E16+E23+E29+E35+E41+E47 -> 424910 | F8: =F16+F23+F29+F35+F41+F47 -> 350172.8 | G8: =G16+G23+G29+G35+G41+G47 -> 85202.5 | H8: =H16+H23+H29+H35+H41+H47 -> 92110.7 | I8: =I16+I23+I29+I35+I41+I47 -> 231410.3 | J8: =J16+J23+J29+J35+J41+J47 -> 308355.3 | K8: =K16+K23+K29+K35+K41+K47 -> 574476.2 | L8: =L16+L23+L29+L35+L41+L47 -> 763238.8 | ... O8: =O16+O23+O29+O35+O41+O47 -> 0 | P8: =L8-#REF! -> #REF! | Q8: =P8-'ВЕРНАЯ на АВГУСТ'!P8 -> #REF!
C9: местные бюджеты (прогнозно) | D9: =SUM(E9:O9) -> 25043887 | E9: =E17+E24+E30+E36+E42+E48 -> 3069368 | F9: =F17+F24+F30+F36+F42+F48 -> 450341.2 | G9: =G17+G24+G30+G36+G42+G48 -> 569768 | H9: =H17+H24+H30+H36+H42+H48 -> 1012886 | I9: =I17+I24+I30+I36+I42+I48 -> 2480233.5 | J9: =J17+J24+J30+J36+J42+J48 -> 2728100.9 | K9: =K17+K24+K30+K36+K42+K48 -> 2698275.3 | L9: =L17+L24+L30+L36+L42+L48 -> 3146086.2 | ... O9: =O17+O24+O30+O36+O42+O48 -> 2910711.4 | P9: =L9-#REF! -> #REF! | Q9: =P9-'ВЕРНАЯ на АВГУСТ'!P9 -> #REF! | T9: 2704748.4
C10: внебюджетные источники (прогнозно) | D10: =SUM(E10:O10) -> 3574712.4 | E10: =E18+E25+E31+E37+E43+E49 -> 170612 | F10: =F18+F25+F31+F37+F43+F49 -> 174537.3 | G10: =G18+G25+G31+G37+G43+G49 -> 184729 | H10: =H18+H25+H31+H37+H43+H49 -> 312071.6 | I10: =I18+I25+I31+I37+I43+I49 -> 476788.8 | J10: =J18+J25+J31+J37+J43+J49 -> 369613.2 | K10: =K18+K25+K31+K37+K43+K49 -> 289665.9 | L10: =L18+L25+L31+L37+L43+L49 -> 371887.5 | ... O10: =O18+O25+O31+O37+O43+O49 -> 427341.8 | P10: =L10-#REF! -> #REF! | Q10: =P10-'ВЕРНАЯ на АВГУСТ'!P10 -> #REF!
C11: государственные внебюджетные фонды и иные безвозмездные поступления целевой направленности (прогнозно) | D11: =SUM(E11:O11) -> 272527.3 | E11: =E19+E26+E32+E38+E44+E50 -> 0 | F11: =F19+F26+F32+F38+F44+F50 -> 0 | G11: =G19+G26+G32+G38+G44+G50 -> 0 | H11: =H19+H26+H32+H38+H44+H50 -> 200000 | I11: =I19+I26+I32+I38+I44+I50 -> 0 | J11: =J19+J26+J32+J38+J44+J50 -> 72527.3 | K11: =K19+K26+K32+K38+K44+K50 -> 0 | L11: =L19+L26+L32+L38+L44+L50 -> 0 | ... O11: =O19+O26+O32+O38+O44+O50 -> 0 | P11: =L11-#REF! -> #REF! | Q11: =P11-'ВЕРНАЯ на АВГУСТ'!P11 -> #REF! | T11: 6985960.9
P12: =L12-#REF! -> #REF! | Q12: =P12-'ВЕРНАЯ на АВГУСТ'!P12 -> #REF!
B13: в том числе по исполнителям: | P13: =L13-#REF! -> #REF! | Q13: =P13-'ВЕРНАЯ на АВГУСТ'!P13 -> #REF!
B14: министерство культуры области | C14: всего | D14: =SUM(E14:O14) -> 47483706 | E14: =E51+E87+E135+E171+E207+E243+E292+E461+E498+E836+E928 -> 4435640.7 | F14: =F51+F87+F135+F171+F207+F243+F292+F461+F498+F836+F928 -> 1765270.5 | G14: =G51+G87+G135+G171+G207+G243+G292+G461+G498+G836+G928 -> 1860957.7 | H14: =H51+H87+H135+H171+H207+H243+H292+H461+H498+H836+H928 -> 2895349.9 | I14: =I51+I87+I135+I171+I207+I243+I292+I461+I498+I836+I928 -> 4279028.8 | J14: =J51+J87+J135+J171+J207+J243+J292+J461+J498+J836+J928 -> 5079884.2 | K14: =K51+K87+K135+K171+K207+K243+K292+K461+K498+K836+K928 -> 4860391.6 | L14: =L51+L87+L135+L171+L207+L243+L292+L461+L498+L836+L928 -> 5780350.6 | ... O14: =O51+O87+O135+O171+O207+O243+O292+O461+O498+O836+O928 -> 5281448.8 | P14: =L14-#REF! -> #REF! | Q14: =P14-'ВЕРНАЯ на АВГУСТ'!P14 -> #REF! | R14: =P14-Q14 -> #REF!
C15: областной бюджет | D15: =SUM(E15:O15) -> 16942066 | E15: =E52+E88+E136+E172+E208+E244+E293+E462+E499+E837+E929 -> 1080295.4 | F15: =F52+F88+F136+F172+F208+F244+F293+F462+F499+F837+F929 -> 1062934.1 | G15: =G52+G88+G136+G172+G208+G244+G293+G462+G499+G837+G929 -> 1037017.6 | H15: =H52+H88+H136+H172+H208+H244+H293+H462+H499+H837+H929 -> 1303576.7 | I15: =I52+I88+I136+I172+I208+I244+I293+I462+I499+I837+I929 -> 1238787.4 | J15: =J52+J88+J136+J172+J208+J244+J293+J462+J499+J837+J929 -> 1671770.6 | K15: =K52+K88+K136+K172+K208+K244+K293+K462+K499+K837+K929 -> 1509416.8 | L15: =L52+L88+L136+L172+L208+L244+L293+L462+L499+L837+L929 -> 2050921.1 | ... O15: =O52+O88+O136+O172+O208+O244+O293+O462+O499+O837+O929 -> 1959685.7 | P15: =L15-#REF! -> #REF! | Q15: =P15-'ВЕРНАЯ на АВГУСТ'!P15 -> #REF!
C16: федеральный бюджет (прогнозно) | D16: =SUM(E16:O16) -> 1868072.1 | E16: =E53+E89+E137+E173+E209+E245+E294+E463+E500+E838+E930 -> 124730.6 | F16: =F53+F89+F137+F173+F209+F245+F294+F463+F500+F838+F930 -> 85429.9 | G16: =G53+G89+G137+G173+G209+G245+G294+G463+G500+G838+G930 -> 85122 | H16: =H53+H89+H137+H173+H209+H245+H294+H463+H500+H838+H930 -> 82605.4 | I16: =I53+I89+I137+I173+I209+I245+I294+I463+I500+I838+I930 -> 98984.6 | J16: =J53+J89+J137+J173+J209+J245+J294+J463+J500+J838+J930 -> 305987.9 | K16: =K53+K89+K137+K173+K209+K245+K294+K463+K500+K838+K930 -> 382966.8 | L16: =L53+L89+L137+L173+L209+L245+L294+L463+L500+L838+L930 -> 227523.5 | ... O16: =O53+O89+O137+O173+O209+O245+O294+O463+O500+O838+O930 -> 0 | P16: =L16-#REF! -> #REF! | Q16: =P16-'ВЕРНАЯ на АВГУСТ'!P16 -> #REF!
C17: местные бюджеты (прогнозно) | D17: =SUM(E17:O17) -> 24940019 | E17: =E54+E90+E138+E174+E210+E246+E295+E464+E501+E839+E931 -> 3060342.7 | F17: =F54+F90+F138+F174+F210+F246+F295+F464+F501+F839+F931 -> 444154.1 | G17: =G54+G90+G138+G174+G210+G246+G295+G464+G501+G839+G931 -> 560801.7 | H17: =H54+H90+H138+H174+H210+H246+H295+H464+H501+H839+H931 -> 1003196.2 | I17: =I54+I90+I138+I174+I210+I246+I295+I464+I501+I839+I931 -> 2470568 | J17: =J54+J90+J138+J174+J210+J246+J295+J464+J501+J839+J931 -> 2720038.2 | K17: =K54+K90+K138+K174+K210+K246+K295+K464+K501+K839+K931 -> 2686542.1 | L17: =L54+L90+L138+L174+L210+L246+L295+L464+L501+L839+L931 -> 3136118.5 | ... O17: =O54+O90+O138+O174+O210+O246+O295+O464+O501+O839+O931 -> 2900521.3 | P17: =L17-#REF! -> #REF! | Q17: =P17-'ВЕРНАЯ на АВГУСТ'!P17 -> #REF!
