Workbook

Sheet Приложение 5 (06.10.23 МИНЭКО)
C1: =C2-C3 -> 0 | D1: =D2-D3 -> -0.1 | E1: =E2-E3 -> 0.1 | F1: =F2-F3 -> 77961.6 | G1: =G2-G3 -> 77961.6 | H1: =H2-H3 -> 77961.6 | I1: =I2-I3 -> 77961.6 | J1: =J2-J3 -> -21340128
C2: 4078718 | D2: 2927079.8 | E2: 2929235.4 | F2: 2929235.4 | G2: 2929235.4 | H2: 2929235.4 | I2: 2929235.4
C3: =C8+C10 -> 4078718 | D3: =D8+D10 -> 2927079.9 | E3: =E8+E10 -> 2929235.3 | F3: =F8+F10 -> 2851273.8 | G3: =G8+G10 -> 2851273.8 | H3: =H8+H10 -> 2851273.8 | I3: =I8+I10 -> 2851273.8 | J3: =J8+J10 -> 21340128
A4: Наименование государственной программы, структурного элемента/источник финансового обеспечения | B4: Объемы финансового обеспечения всего, (тыс. рублей) | C4: Объемы финансового обеспечения по годам реализации, тыс. рублей
C5: 2024 | D5: 2025 | E5: 2026 | F5: 2027 | G5: 2028 | H5: 2029 | I5: 2030 | J5: всего
A6: 1 | B6: 4 | C6: 2 | D6: 3 | E6: 4 | F6: 5 | G6: 6 | H6: 7 | I6: 8 | J6: 9
A7: Государственная программа Саратовской области "Культура Саратовской области" | B7: 39483185 | C7: =C19+C61+C103+C145+C163+C181+C265+C307+C343+C367+C379+C391+C469+C506+C524+C536+C656+C740+C752+C764 -> 6958742.3 | D7: =D19+D61+D103+D145+D163+D181+D265+D307+D343+D367+D379+D391+D469+D506+D524+D536+D656+D740+D752+D764 -> 5810899.7 | E7: =E19+E61+E103+E145+E163+E181+E265+E307+E343+E367+E379+E391+E469+E506+E524+E536+E656+E740+E752+E764 -> 5813055.1 | F7: =F19+F61+F103+F145+F163+F181+F265+F307+F343+F367+F379+F391+F469+F506+F524+F536+F656+F740+F752+F764 -> 5735093.6 | G7: =G19+G61+G103+G145+G163+G181+G265+G307+G343+G367+G379+G391+G469+G506+G524+G536+G656+G740+G752+G764 -> 5735093.6 | H7: =H19+H61+H103+H145+H163+H181+H265+H307+H343+H367+H379+H391+H469+H506+H524+H536+H656+H740+H752+H764 -> 5735093.6 | I7: =I19+I61+I103+I145+I163+I181+I265+I307+I343+I367+I379+I391+I469+I506+I524+I536+I656+I740+I752+I764 -> 5735093.6 | J7: =SUM(C7:I7) -> 41523072
A8: федеральный бюджет | C8: =C20+C62+C104+C146+C164+C182+C266+C308+C344+C368+C380+C392+C470+C507+C525+C537+C657+C741+C753+C765 -> 806542 | D8: =D20+D62+D104+D146+D164+D182+D266+D308+D344+D368+D380+D392+D470+D507+D525+D537+D657+D741+D753+D765 -> 67361 | E8: =E20+E62+E104+E146+E164+E182+E266+E308+E344+E368+E380+E392+E470+E507+E525+E537+E657+E741+E753+E765 -> 69385.8 | F8: =F20+F62+F104+F146+F164+F182+F266+F308+F344+F368+F380+F392+F470+F507+F525+F537+F657+F741+F753+F765 -> 0 | G8: =G20+G62+G104+G146+G164+G182+G266+G308+G344+G368+G380+G392+G470+G507+G525+G537+G657+G741+G753+G765 -> 0 | H8: =H20+H62+H104+H146+H164+H182+H266+H308+H344+H368+H380+H392+H470+H507+H525+H537+H657+H741+H753+H765 -> 0 | I8: =I20+I62+I104+I146+I164+I182+I266+I308+I344+I368+I380+I392+I470+I507+I525+I537+I657+I741+I753+I765 -> 0 | J8: =SUM(C8:I8) -> 943288.8
A9: консолидированный бюджет области (всего), в том числе: | C9: =C21+C63+C105+C147+C165+C183+C267+C309+C345+C369+C381+C393+C471+C508+C526+C538+C658+C742+C754+C766 -> 5986289.3 | D9: =D21+D63+D105+D147+D165+D183+D267+D309+D345+D369+D381+D393+D471+D508+D526+D538+D658+D742+D754+D766 -> 5577627.7 | E9: =E21+E63+E105+E147+E165+E183+E267+E309+E345+E369+E381+E393+E471+E508+E526+E538+E658+E742+E754+E766 -> 5577758.3 | F9: =F21+F63+F105+F147+F165+F183+F267+F309+F345+F369+F381+F393+F471+F508+F526+F538+F658+F742+F754+F766 -> 5569182.6 | G9: =G21+G63+G105+G147+G165+G183+G267+G309+G345+G369+G381+G393+G471+G508+G526+G538+G658+G742+G754+G766 -> 5569182.6 | H9: =H21+H63+H105+H147+H165+H183+H267+H309+H345+H369+H381+H393+H471+H508+H526+H538+H658+H742+H754+H766 -> 5569182.6 | I9: =I21+I63+I105+I147+I165+I183+I267+I309+I345+I369+I381+I393+I471+I508+I526+I538+I658+I742+I754+I766 -> 5569182.6 | J9: =SUM(C9:I9) -> 39418406
A10: областной бюджет | B10: 18384878 | C10: =C22+C64+C106+C148+C166+C184+C268+C310+C346+C370+C382+C394+C472+C509+C527+C539+C659+C743+C755+C767 -> 3272176 | D10: =D22+D64+D106+D148+D166+D184+D268+D310+D346+D370+D382+D394+D472+D509+D527+D539+D659+D743+D755+D767 -> 2859718.9 | E10: =E22+E64+E106+E148+E166+E184+E268+E310+E346+E370+E382+E394+E472+E509+E527+E539+E659+E743+E755+E767 -> 2859849.5 | F10: =F22+F64+F106+F148+F166+F184+F268+F310+F346+F370+F382+F394+F472+F509+F527+F539+F659+F743+F755+F767 -> 2851273.8 | G10: =G22+G64+G106+G148+G166+G184+G268+G310+G346+G370+G382+G394+G472+G509+G527+G539+G659+G743+G755+G767 -> 2851273.8 | H10: =H22+H64+H106+H148+H166+H184+H268+H310+H346+H370+H382+H394+H472+H509+H527+H539+H659+H743+H755+H767 -> 2851273.8 | I10: =I22+I64+I106+I148+I166+I184+I268+I310+I346+I370+I382+I394+I472+I509+I527+I539+I659+I743+I755+I767 -> 2851273.8 | J10: =SUM(C10:I10) -> 20396840
A11: местные бюджеты | B11: 18993391 | C11: =C23+C65+C107+C149+C167+C185+C269+C311+C347+C371+C383+C395+C473+C510+C528+C540+C660+C744+C756+C768 -> 2714113.3 | D11: =D23+D65+D107+D149+D167+D185+D269+D311+D347+D371+D383+D395+D473+D510+D528+D540+D660+D744+D756+D768 -> 2717908.8 | E11: =E23+E65+E107+E149+E167+E185+E269+E311+E347+E371+E383+E395+E473+E510+E528+E540+E660+E744+E756+E768 -> 2717908.8 | F11: =F23+F65+F107+F149+F167+F185+F269+F311+F347+F371+F383+F395+F473+F510+F528+F540+F660+F744+F756+F768 -> 2717908.8 | G11: =G23+G65+G107+G149+G167+G185+G269+G311+G347+G371+G383+G395+G473+G510+G528+G540+G660+G744+G756+G768 -> 2717908.8 | H11: =H23+H65+H107+H149+H167+H185+H269+H311+H347+H371+H383+H395+H473+H510+H528+H540+H660+H744+H756+H768 -> 2717908.8 | I11: =I23+I65+I107+I149+I167+I185+I269+I311+I347+I371+I383+I395+I473+I510+I528+I540+I660+I744+I756+I768 -> 2717908.8 | J11: =SUM(C11:I11) -> 19021566
A12: внебюджетные источники | B12: 1161377 | C12: =C24+C66+C108+C150+C168+C186+C270+C312+C348+C372+C384+C396+C474+C511+C529+C541+C661+C745+C757+C769 -> 165911 | D12: =D24+D66+D108+D150+D168+D186+D270+D312+D348+D372+D384+D396+D474+D511+D529+D541+D661+D745+D757+D769 -> 165911 | E12: =E24+E66+E108+E150+E168+E186+E270+E312+E348+E372+E384+E396+E474+E511+E529+E541+E661+E745+E757+E769 -> 165911 | F12: =F24+F66+F108+F150+F168+F186+F270+F312+F348+F372+F384+F396+F474+F511+F529+F541+F661+F745+F757+F769 -> 165911 | G12: =G24+G66+G108+G150+G168+G186+G270+G312+G348+G372+G384+G396+G474+G511+G529+G541+G661+G745+G757+G769 -> 165911 | H12: =H24+H66+H108+H150+H168+H186+H270+H312+H348+H372+H384+H396+H474+H511+H529+H541+H661+H745+H757+H769 -> 165911 | I12: =I24+I66+I108+I150+I168+I186+I270+I312+I348+I372+I384+I396+I474+I511+I529+I541+I661+I745+I757+I769 -> 165911 | J12: =SUM(C12:I12) -> 1161377
A13: Подпрограмма 1 "Развитие искусства и творчества" Комплекс процессных мероприятий 1 «Создание условий для развития искусства и творчества» | B13: 1981815.5 | C13: =C19+C61+C103+C145+C163 -> 3593923.6 | D13: =D19+D61+D103+D145+D163 -> 3570844.1 | E13: =E19+E61+E103+E145+E163 -> 3570604.1 | F13: =F19+F61+F103+F145+F163 -> 3570604.1 | G13: =G19+G61+G103+G145+G163 -> 3570604.1 | H13: =H19+H61+H103+H145+H163 -> 3570604.1 | I13: =I19+I61+I103+I145+I163 -> 3570604.1 | J13: =SUM(C13:I13) -> 25017788
A14: федеральный бюджет | B14: 0 | C14: =C20+C62+C104+C146+C164 -> 0 | D14: =D20+D62+D104+D146+D164 -> 0 | E14: =E20+E62+E104+E146+E164 -> 0 | F14: =F20+F62+F104+F146+F164 -> 0 | G14: =G20+G62+G104+G146+G164 -> 0 | H14: =H20+H62+H104+H146+H164 -> 0 | I14: =I20+I62+I104+I146+I164 -> 0 | J14: =SUM(C14:I14) -> 0
A15: консолидированный бюджет области (всего), в том числе: | C15: =C21+C63+C105+C147+C165 -> 3456597.7 | D15: =D21+D63+D105+D147+D165 -> 3433518.2 | E15: =E21+E63+E105+E147+E165 -> 3433278.2 | F15: =F21+F63+F105+F147+F165 -> 3433278.2 | G15: =G21+G63+G105+G147+G165 -> 3433278.2 | H15: =H21+H63+H105+H147+H165 -> 3433278.2 | I15: =I21+I63+I105+I147+I165 -> 3433278.2 | J15: =SUM(C15:I15) -> 24056507
A16: областной бюджет | B16: 1453389.7 | C16: =C22+C64+C106+C148+C166 -> 1498163.4 | D16: =D22+D64+D106+D148+D166 -> 1475083.9 | E16: =E22+E64+E106+E148+E166 -> 1474843.9 | F16: =F22+F64+F106+F148+F166 -> 1474843.9 | G16: =G22+G64+G106+G148+G166 -> 1474843.9 | H16: =H22+H64+H106+H148+H166 -> 1474843.9 | I16: =I22+I64+I106+I148+I166 -> 1474843.9 | J16: =SUM(C16:I16) -> 10347467
A17: местные бюджеты | B17: 387573.9 | C17: =C23+C65+C107+C149+C167 -> 1958434.3 | D17: =D23+D65+D107+D149+D167 -> 1958434.3 | E17: =E23+E65+E107+E149+E167 -> 1958434.3 | F17: =F23+F65+F107+F149+F167 -> 1958434.3 | G17: =G23+G65+G107+G149+G167 -> 1958434.3 | H17: =H23+H65+H107+H149+H167 -> 1958434.3 | I17: =I23+I65+I107+I149+I167 -> 1958434.3 | J17: =SUM(C17:I17) -> 13709040
A18: внебюджетные источники | B18: 140851.9 | C18: =C24+C66+C108+C150+C168 -> 137325.9 | D18: =D24+D66+D108+D150+D168 -> 137325.9 | E18: =E24+E66+E108+E150+E168 -> 137325.9 | F18: =F24+F66+F108+F150+F168 -> 137325.9 | G18: =G24+G66+G108+G150+G168 -> 137325.9 | H18: =H24+H66+H108+H150+H168 -> 137325.9 | I18: =I24+I66+I108+I150+I168 -> 137325.9 | J18: =SUM(C18:I18) -> 961281.3
A19: Комплекс процессных мероприятий 1.1 «Музеи» | B19: 1981815.5 | C19: =C31 -> 323947.4 | D19: =D31 -> 300294.3 | E19: =E31 -> 300294.3 | F19: =F31 -> 300294.3 | G19: =G31 -> 300294.3 | H19: =H31 -> 300294.3 | I19: =I31 -> 300294.3 | J19: =SUM(C19:I19) -> 2125713.2
A20: федеральный бюджет (прогнозно) | B20: 0 | C20: =C32 -> 0 | D20: =D32 -> 0 | E20: =E32 -> 0 | F20: =F32 -> 0 | G20: =G32 -> 0 | H20: =H32 -> 0 | I20: =I32 -> 0 | J20: =SUM(C20:I20) -> 0
A21: консолидированный бюджет области (всего), в том числе: | C21: =C33 -> 303825.7 | D21: =D33 -> 280172.6 | E21: =E33 -> 280172.6 | F21: =F33 -> 280172.6 | G21: =G33 -> 280172.6 | H21: =H33 -> 280172.6 | I21: =I33 -> 280172.6 | J21: =SUM(C21:I21) -> 1984861.3
A22: областной бюджет | B22: 1453389.7 | C22: =C34 -> 248458 | D22: =D34 -> 224804.9 | E22: =E34 -> 224804.9 | F22: =F34 -> 224804.9 | G22: =G34 -> 224804.9 | H22: =H34 -> 224804.9 | I22: =I34 -> 224804.9 | J22: =SUM(C22:I22) -> 1597287.4
A23: местные бюджеты | B23: 387573.9 | C23: =C35 -> 55367.7 | D23: =D35 -> 55367.7 | E23: =E35 -> 55367.7 | F23: =F35 -> 55367.7 | G23: =G35 -> 55367.7 | H23: =H35 -> 55367.7 | I23: =I35 -> 55367.7 | J23: =SUM(C23:I23) -> 387573.9
A24: внебюджетные источники | B24: 140851.9 | C24: =C36 -> 20121.7 | D24: =D36 -> 20121.7 | E24: =E36 -> 20121.7 | F24: =F36 -> 20121.7 | G24: =G36 -> 20121.7 | H24: =H36 -> 20121.7 | I24: =I36 -> 20121.7 | J24: =SUM(C24:I24) -> 140851.9
A25: Мероприятие (результат) 1.1.1"Оказаны государственные услуги населению музеями" | B25: 1940060.5 | C25: =C26+C27 -> 277151.5 | D25: =D26+D27 -> 277151.5 | E25: =E26+E27 -> 277151.5 | F25: =F26+F27 -> 277151.5 | G25: =G26+G27 -> 277151.5 | H25: =H26+H27 -> 277151.5 | I25: =I26+I27 -> 277151.5 | J25: =SUM(C25:I25) -> 1940060.5
A26: федеральный бюджет | B26: 0 | C26: 0 | D26: 0 | E26: 0 | F26: 0 | G26: 0 | H26: 0 | I26: 0 | J26: =SUM(C26:I26) -> 0
A27: консолидированный бюджет области (всего), в том числе: | B27: =B28+B29 -> 1799208.6 | C27: =C28+C29+C30 -> 277151.5 | D27: =D28+D29+D30 -> 277151.5 | E27: =E28+E29+E30 -> 277151.5 | F27: =F28+F29+F30 -> 277151.5 | G27: =G28+G29+G30 -> 277151.5 | H27: =H28+H29+H30 -> 277151.5 | I27: =I28+I29+I30 -> 277151.5 | J27: =SUM(C27:I27) -> 1940060.5
A28: областной бюджет | B28: 1411634.7 | C28: 201662.1 | D28: 201662.1 | E28: 201662.1 | F28: 201662.1 | G28: 201662.1 | H28: 201662.1 | I28: 201662.1 | J28: =SUM(C28:I28) -> 1411634.7
A29: местные бюджеты | B29: 387573.9 | C29: 55367.7 | D29: 55367.7 | E29: 55367.7 | F29: 55367.7 | G29: 55367.7 | H29: 55367.7 | I29: 55367.7 | J29: =SUM(C29:I29) -> 387573.9
A30: внебюджетные источники | B30: 140851.9 | C30: =3087.7+17034 -> 20121.7 | D30: =3087.7+17034 -> 20121.7 | E30: =3087.7+17034 -> 20121.7 | F30: =3087.7+17034 -> 20121.7 | G30: =3087.7+17034 -> 20121.7 | H30: =3087.7+17034 -> 20121.7 | I30: =3087.7+17034 -> 20121.7 | J30: =SUM(C30:I30) -> 140851.9
A31: Мероприятие (результат) 1.1.1"Организованы и проведены мероприятия музеями" | B31: 1940060.5 | C31: =C32+C33+C36 -> 323947.4 | D31: =D32+D33+D36 -> 300294.3 | E31: =E32+E33+E36 -> 300294.3 | F31: =F32+F33+F36 -> 300294.3 | G31: =G32+G33+G36 -> 300294.3 | H31: =H32+H33+H36 -> 300294.3 | I31: =I32+I33+I36 -> 300294.3 | J31: =SUM(C31:I31) -> 2125713.2
A32: федеральный бюджет | B32: 0 | C32: =C38+C44+C50+C56+C26 -> 0 | D32: =D38+D44+D50+D56+D26 -> 0 | E32: =E38+E44+E50+E56+E26 -> 0 | F32: =F38+F44+F50+F56+F26 -> 0 | G32: =G38+G44+G50+G56+G26 -> 0 | H32: =H38+H44+H50+H56+H26 -> 0 | I32: =I38+I44+I50+I56+I26 -> 0 | J32: =SUM(C32:I32) -> 0
A33: консолидированный бюджет области (всего), в том числе: | B33: =B34+B35 -> 1799208.6 | C33: =C34+C35 -> 303825.7 | D33: =D34+D35 -> 280172.6 | E33: =E34+E35 -> 280172.6 | F33: =F34+F35 -> 280172.6 | G33: =G34+G35 -> 280172.6 | H33: =H34+H35 -> 280172.6 | I33: =I34+I35 -> 280172.6 | J33: =SUM(C33:I33) -> 1984861.3
A34: областной бюджет | B34: 1411634.7 | C34: 248458 | D34: 224804.9 | E34: 224804.9 | F34: 224804.9 | G34: 224804.9 | H34: 224804.9 | I34: 224804.9 | J34: =SUM(C34:I34) -> 1597287.4
A35: местные бюджеты | B35: 387573.9 | C35: 55367.7 | D35: 55367.7 | E35: 55367.7 | F35: 55367.7 | G35: 55367.7 | H35: 55367.7 | I35: 55367.7 | J35: =SUM(C35:I35) -> 387573.9
A36: внебюджетные источники | B36: 140851.9 | C36: 20121.7 | D36: 20121.7 | E36: 20121.7 | F36: 20121.7 | G36: 20121.7 | H36: 20121.7 | I36: 20121.7 | J36: =SUM(C36:I36) -> 140851.9
A37: Мероприятие (результат) 1.2"Обеспеченна сохранность музейных предметов и музейных коллекций, находящихся в государственной собственности области" | B37: 1575 | C37: =C38+C39 -> 225 | D37: =D38+D39 -> 225 | E37: =E38+E39 -> 225 | F37: =F38+F39 -> 225 | G37: =G38+G39 -> 225 | H37: =H38+H39 -> 225 | I37: =I38+I39 -> 225 | J37: =SUM(C37:I37) -> 1575
A38: федеральный бюджет | B38: 0 | C38: 0 | D38: 0 | E38: 0 | F38: 0 | G38: 0 | H38: 0 | I38: 0 | J38: =SUM(C38:I38) -> 0
A39: консолидированный бюджет области (всего), в том числе: | B39: 0 | C39: =C40+C41+C42 -> 225 | D39: =D40+D41+D42 -> 225 | E39: =E40+E41+E42 -> 225 | F39: =F40+F41+F42 -> 225 | G39: =G40+G41+G42 -> 225 | H39: =H40+H41+H42 -> 225 | I39: =I40+I41+I42 -> 225 | J39: =SUM(C39:I39) -> 1575
A40: областной бюджет | B40: 1575 | C40: 225 | D40: 225 | E40: 225 | F40: 225 | G40: 225 | H40: 225 | I40: 225 | J40: =SUM(C40:I40) -> 1575
A41: местные бюджеты | B41: 0 | C41: 0 | D41: 0 | E41: 0 | F41: 0 | G41: 0 | H41: 0 | I41: 0 | J41: =SUM(C41:I41) -> 0
A42: внебюджетные источники | B42: 0 | C42: 0 | D42: 0 | E42: 0 | F42: 0 | G42: 0 | H42: 0 | I42: 0 | J42: =SUM(C42:I42) -> 0
A43: Мероприятие (результат) 1.3 "Обеспечено пополнение и комплектование фондов областных музеев новыми уникальными экспонатами" | B43: 3290 | C43: =C44+C45 -> 470 | D43: =D44+D45 -> 470 | E43: =E44+E45 -> 470 | F43: =F44+F45 -> 470 | G43: =G44+G45 -> 470 | H43: =H44+H45 -> 470 | I43: =I44+I45 -> 470 | J43: =SUM(C43:I43) -> 3290
A44: федеральный бюджет | B44: 0 | C44: 0 | D44: 0 | E44: 0 | F44: 0 | G44: 0 | H44: 0 | I44: 0 | J44: =SUM(C44:I44) -> 0
A45: консолидированный бюджет области (всего), в том числе: | C45: =C46+C47+C48 -> 470 | D45: =D46+D47+D48 -> 470 | E45: =E46+E47+E48 -> 470 | F45: =F46+F47+F48 -> 470 | G45: =G46+G47+G48 -> 470 | H45: =H46+H47+H48 -> 470 | I45: =I46+I47+I48 -> 470 | J45: =SUM(C45:I45) -> 3290
A46: областной бюджет | B46: 3290 | C46: 470 | D46: 470 | E46: 470 | F46: 470 | G46: 470 | H46: 470 | I46: 470 | J46: =SUM(C46:I46) -> 3290
A47: местные бюджеты | B47: 0 | C47: 0 | D47: 0 | E47: 0 | F47: 0 | G47: 0 | H47: 0 | I47: 0 | J47: =SUM(C47:I47) -> 0
A48: внебюджетные источники | B48: 0 | C48: 0 | D48: 0 | E48: 0 | F48: 0 | G48: 0 | H48: 0 | I48: 0 | J48: =SUM(C48:I48) -> 0
A49: Мероприятие (результат) 1.4 "Организованна и проведена выставочная деятельность музеев на территории Саратовской области, в субъектах Российской Федерации и в зарубежных странах" | B49: 23450 | C49: =C50+C51 -> 3350 | D49: =D50+D51 -> 3350 | E49: =E50+E51 -> 3350 | F49: =F50+F51 -> 3350 | G49: =G50+G51 -> 3350 | H49: =H50+H51 -> 3350 | I49: =I50+I51 -> 3350 | J49: =SUM(C49:I49) -> 23450
A50: федеральный бюджет | B50: 0 | C50: 0 | D50: 0 | E50: 0 | F50: 0 | G50: 0 | H50: 0 | I50: 0 | J50: =SUM(C50:I50) -> 0
A51: консолидированный бюджет области (всего), в том числе: | C51: =C52+C53+C54 -> 3350 | D51: =D52+D53+D54 -> 3350 | E51: =SUM(E52:E54) -> 3350 | F51: =SUM(F52:F54) -> 3350 | G51: =SUM(G52:G54) -> 3350 | H51: =SUM(H52:H54) -> 3350 | I51: =SUM(I52:I54) -> 3350 | J51: =SUM(C51:I51) -> 23450
A52: областной бюджет | B52: 23450 | C52: 3350 | D52: 3350 | E52: 3350 | F52: 3350 | G52: 3350 | H52: 3350 | I52: 3350 | J52: =SUM(C52:I52) -> 23450
A53: местные бюджеты | B53: 0 | C53: 0 | D53: 0 | E53: 0 | F53: 0 | G53: 0 | H53: 0 | I53: 0 | J53: =SUM(C53:I53) -> 0
A54: внебюджетные источники | B54: 0 | C54: 0 | D54: 0 | E54: 0 | F54: 0 | G54: 0 | H54: 0 | I54: 0 | J54: =SUM(C54:I54) -> 0
A55: Мероприятие (результат) 1.5 "Организованны и проведены мероприятия по популяризации музейного дела" | B55: 13440 | C55: =C56+C57 -> 1220 | D55: =D56+D57 -> 1220 | E55: =SUM(E56:E57) -> 1220 | F55: =SUM(F56:F57) -> 1220 | G55: =SUM(G56:G57) -> 1220 | H55: =SUM(H56:H57) -> 1220 | I55: =SUM(I56:I57) -> 1220 | J55: =SUM(C55:I55) -> 8540
A56: федеральный бюджет | B56: 0 | C56: 0 | D56: 0 | E56: 0 | F56: 0 | G56: 0 | H56: 0 | I56: 0 | J56: =SUM(C56:I56) -> 0
A57: консолидированный бюджет области (всего), в том числе: | C57: =C58+C59+C60 -> 1220 | D57: =D58+D59+D60 -> 1220 | E57: =SUM(E58:E60) -> 1220 | F57: =SUM(F58:F60) -> 1220 | G57: =SUM(G58:G60) -> 1220 | H57: =SUM(H58:H60) -> 1220 | I57: =SUM(I58:I60) -> 1220 | J57: =SUM(C57:I57) -> 8540
A58: областной бюджет | B58: 13440 | C58: =1920-700 -> 1220 | D58: =1920-700 -> 1220 | E58: =1920-700 -> 1220 | F58: =1920-700 -> 1220 | G58: =1920-700 -> 1220 | H58: =1920-700 -> 1220 | I58: =1920-700 -> 1220 | J58: =SUM(C58:I58) -> 8540
A59: местные бюджеты | B59: 0 | C59: 0 | D59: 0 | E59: 0 | F59: 0 | G59: 0 | H59: 0 | I59: 0 | J59: =SUM(C59:I59) -> 0
A60: внебюджетные источники | B60: 0 | C60: 0 | D60: 0 | E60: 0 | F60: 0 | G60: 0 | H60: 0 | I60: 0 | J60: =SUM(C60:I60) -> 0
A61: Комплекс процессных мероприятий 1.2 «Театры» | B61: 5542166.1 | C61: =C73 -> 839457.1 | D61: =D73 -> 840030.7 | E61: =E73 -> 839790.7 | F61: =F73 -> 839790.7 | G61: =G73 -> 839790.7 | H61: =H73 -> 839790.7 | I61: =I73 -> 839790.7 | J61: =SUM(C61:I61) -> 5878441.3
A62: федеральный бюджет | B62: 66781.9 | C62: =C74 -> 0 | D62: =D74 -> 0 | E62: =E74 -> 0 | F62: =F74 -> 0 | G62: =G74 -> 0 | H62: =H74 -> 0 | I62: =I74 -> 0 | J62: =SUM(C62:I62) -> 0
A63: консолидированный бюджет области (всего), в том числе: | C63: =C75 -> 763228.6 | D63: =D75 -> 763802.2 | E63: =E75 -> 763562.2 | F63: =F75 -> 763562.2 | G63: =G75 -> 763562.2 | H63: =H75 -> 763562.2 | I63: =I75 -> 763562.2 | J63: =SUM(C63:I63) -> 5344841.8
A64: областной бюджет | B64: 4299050.3 | C64: =C76 -> 671409.4 | D64: =D76 -> 671983 | E64: =E76 -> 671743 | F64: =F76 -> 671743 | G64: =G76 -> 671743 | H64: =H76 -> 671743 | I64: =I76 -> 671743 | J64: =SUM(C64:I64) -> 4702107.4
A65: местные бюджеты | B65: 642734.4 | C65: =C77 -> 91819.2 | D65: =D77 -> 91819.2 | E65: =E77 -> 91819.2 | F65: =F77 -> 91819.2 | G65: =G77 -> 91819.2 | H65: =H77 -> 91819.2 | I65: =I77 -> 91819.2 | J65: =SUM(C65:I65) -> 642734.4
A66: внебюджетные источники | B66: 533599.5 | C66: =C78 -> 76228.5 | D66: =D78 -> 76228.5 | E66: =E78 -> 76228.5 | F66: =F78 -> 76228.5 | G66: =G78 -> 76228.5 | H66: =H78 -> 76228.5 | I66: =I78 -> 76228.5 | J66: =SUM(C66:I66) -> 533599.5
A67: Мероприятие (результат) 1.2.1"Оказаны государственные услуги населению театрами" | B67: 5369067.9 | C67: =C68+C69 -> 767009.7 | D67: =D68+D69 -> 767009.7 | E67: =SUM(E68:E69) -> 767009.7 | F67: =SUM(F68:F69) -> 767009.7 | G67: =SUM(G68:G69) -> 767009.7 | H67: =SUM(H68:H69) -> 767009.7 | I67: =SUM(I68:I69) -> 767009.7 | J67: =SUM(C67:I67) -> 5369067.9
A68: федеральный бюджет | B68: 0 | C68: 0 | D68: 0 | E68: 0 | F68: 0 | G68: 0 | H68: 0 | I68: 0 | J68: =SUM(C68:I68) -> 0
A69: консолидированный бюджет области (всего), в том числе: | C69: =C70+C71+C72 -> 767009.7 | D69: =D70+D71+D72 -> 767009.7 | E69: =SUM(E70:E72) -> 767009.7 | F69: =SUM(F70:F72) -> 767009.7 | G69: =SUM(G70:G72) -> 767009.7 | H69: =SUM(H70:H72) -> 767009.7 | I69: =SUM(I70:I72) -> 767009.7 | J69: =SUM(C69:I69) -> 5369067.9
A70: областной бюджет | B70: 4192734 | C70: 598962 | D70: 598962 | E70: 598962 | F70: 598962 | G70: 598962 | H70: 598962 | I70: 598962 | J70: =SUM(C70:I70) -> 4192734
A71: местные бюджеты | B71: 642734.4 | C71: 91819.2 | D71: 91819.2 | E71: 91819.2 | F71: 91819.2 | G71: 91819.2 | H71: 91819.2 | I71: 91819.2 | J71: =SUM(C71:I71) -> 642734.4
A72: внебюджетные источники | B72: 533599.5 | C72: =15950+60278.5 -> 76228.5 | D72: =15950+60278.5 -> 76228.5 | E72: =15950+60278.5 -> 76228.5 | F72: =15950+60278.5 -> 76228.5 | G72: =15950+60278.5 -> 76228.5 | H72: =15950+60278.5 -> 76228.5 | I72: =15950+60278.5 -> 76228.5 | J72: =SUM(C72:I72) -> 533599.5
A73: Мероприятие (результат) 1.2.1 "Организованы и проведены мероприятия театрами" | B73: 5369067.9 | C73: =C74+C75+C78 -> 839457.1 | D73: =D74+D75+D78 -> 840030.7 | E73: =E74+E75+E78 -> 839790.7 | F73: =F74+F75+F78 -> 839790.7 | G73: =G74+G75+G78 -> 839790.7 | H73: =H74+H75+H78 -> 839790.7 | I73: =I74+I75+I78 -> 839790.7 | J73: =SUM(C73:I73) -> 5878441.3
A74: федеральный бюджет | B74: 0 | C74: =C80+C86+C92+C98+C68 -> 0 | D74: =D80+D86+D92+D98+D68 -> 0 | E74: =E80+E86+E92+E98+E68 -> 0 | F74: =F80+F86+F92+F98+F68 -> 0 | G74: =G80+G86+G92+G98+G68 -> 0 | H74: =H80+H86+H92+H98+H68 -> 0 | I74: =I80+I86+I92+I98+I68 -> 0 | J74: =SUM(C74:I74) -> 0
A75: консолидированный бюджет области (всего), в том числе: | C75: =C76+C77 -> 763228.6 | D75: =D76+D77 -> 763802.2 | E75: =E76+E77 -> 763562.2 | F75: =F76+F77 -> 763562.2 | G75: =G76+G77 -> 763562.2 | H75: =H76+H77 -> 763562.2 | I75: =I76+I77 -> 763562.2 | J75: =SUM(C75:I75) -> 5344841.8
A76: областной бюджет | B76: 4192734 | C76: 671409.4 | D76: 671983 | E76: 671743 | F76: 671743 | G76: 671743 | H76: 671743 | I76: 671743 | J76: =SUM(C76:I76) -> 4702107.4
A77: местные бюджеты | B77: 642734.4 | C77: =C83+C89+C95+C101+C71 -> 91819.2 | D77: =D83+D89+D95+D101+D71 -> 91819.2 | E77: =E83+E89+E95+E101+E71 -> 91819.2 | F77: =F83+F89+F95+F101+F71 -> 91819.2 | G77: =G83+G89+G95+G101+G71 -> 91819.2 | H77: =H83+H89+H95+H101+H71 -> 91819.2 | I77: =I83+I89+I95+I101+I71 -> 91819.2 | J77: =SUM(C77:I77) -> 642734.4
A78: внебюджетные источники | B78: 533599.5 | C78: =C84+C90+C96+C102+C72 -> 76228.5 | D78: =D84+D90+D96+D102+D72 -> 76228.5 | E78: =E84+E90+E96+E102+E72 -> 76228.5 | F78: =F84+F90+F96+F102+F72 -> 76228.5 | G78: =G84+G90+G96+G102+G72 -> 76228.5 | H78: =H84+H90+H96+H102+H72 -> 76228.5 | I78: =I84+I90+I96+I102+I72 -> 76228.5 | J78: =SUM(C78:I78) -> 533599.5
A79: Мероприятие (результат) 2.2 "Созданы новые спектакли в областных театрах" | B79: 44800 | C79: =C80+C81 -> 6400 | D79: =D80+D81 -> 6400 | E79: =SUM(E80:E81) -> 6400 | F79: =SUM(F80:F81) -> 6400 | G79: =SUM(G80:G81) -> 6400 | H79: =SUM(H80:H81) -> 6400 | I79: =SUM(I80:I81) -> 6400 | J79: =SUM(C79:I79) -> 44800
A80: федеральный бюджет | B80: 0 | C80: 0 | D80: 0 | E80: 0 | F80: 0 | G80: 0 | H80: 0 | I80: 0 | J80: =SUM(C80:I80) -> 0
A81: консолидированный бюджет области (всего), в том числе: | C81: =C82+C83+C84 -> 6400 | D81: =D82+D83+D84 -> 6400 | E81: =SUM(E82:E84) -> 6400 | F81: =SUM(F82:F84) -> 6400 | G81: =SUM(G82:G84) -> 6400 | H81: =SUM(H82:H84) -> 6400 | I81: =SUM(I82:I84) -> 6400 | J81: =SUM(C81:I81) -> 44800
A82: областной бюджет | B82: 44800 | C82: 6400 | D82: 6400 | E82: 6400 | F82: 6400 | G82: 6400 | H82: 6400 | I82: 6400 | J82: =SUM(C82:I82) -> 44800
A83: местные бюджеты | B83: 0 | C83: 0 | D83: 0 | E83: 0 | F83: 0 | G83: 0 | H83: 0 | I83: 0 | J83: =SUM(C83:I83) -> 0
A84: внебюджетные источники | B84: 0 | C84: 0 | D84: 0 | E84: 0 | F84: 0 | G84: 0 | H84: 0 | I84: 0 | J84: =SUM(C84:I84) -> 0
A85: Мероприятие (результат) 2.3 "Осуществлена областными театрами фестивальная деятельность" | B85: 41650 | C85: =C86+C87 -> 5950 | D85: =D86+D87 -> 5950 | E85: =SUM(E86:E87) -> 5950 | F85: =SUM(F86:F87) -> 5950 | G85: =SUM(G86:G87) -> 5950 | H85: =SUM(H86:H87) -> 5950 | I85: =SUM(I86:I87) -> 5950 | J85: =SUM(C85:I85) -> 41650
A86: федеральный бюджет | B86: 0 | C86: 0 | D86: 0 | E86: 0 | F86: 0 | G86: 0 | H86: 0 | I86: 0 | J86: =SUM(C86:I86) -> 0
A87: консолидированный бюджет области (всего), в том числе: | B87: 41650 | C87: =C88+C89+C90 -> 5950 | D87: =D88+D89+D90 -> 5950 | E87: =SUM(E88:E90) -> 5950 | F87: =SUM(F88:F90) -> 5950 | G87: =SUM(G88:G90) -> 5950 | H87: =SUM(H88:H90) -> 5950 | I87: =SUM(I88:I90) -> 5950 | J87: =SUM(C87:I87) -> 41650
A88: областной бюджет | C88: 5950 | D88: 5950 | E88: 5950 | F88: 5950 | G88: 5950 | H88: 5950 | I88: 5950 | J88: =SUM(C88:I88) -> 41650
A89: местные бюджеты | C89: 0 | D89: 0 | E89: 0 | F89: 0 | G89: 0 | H89: 0 | I89: 0 | J89: =SUM(C89:I89) -> 0
A90: внебюджетные источники | B90: 0 | C90: 0 | D90: 0 | E90: 0 | F90: 0 | G90: 0 | H90: 0 | I90: 0 | J90: =SUM(C90:I90) -> 0
A91: Мероприятие (результат) 2.4 "Осуществлена гастрольная деятельность областных театров на территории Саратовской области, в субъектах Российской Федерации и в зарубежных странах" | B91: 7000 | C91: =C92+C93 -> 1000 | D91: =D92+D93 -> 1000 | E91: =SUM(E92:E93) -> 1000 | F91: =SUM(F92:F93) -> 1000 | G91: =SUM(G92:G93) -> 1000 | H91: =SUM(H92:H93) -> 1000 | I91: =SUM(I92:I93) -> 1000 | J91: =SUM(C91:I91) -> 7000
A92: федеральный бюджет | B92: 0 | C92: 0 | D92: 0 | E92: 0 | F92: 0 | G92: 0 | H92: 0 | I92: 0 | J92: =SUM(C92:I92) -> 0
A93: консолидированный бюджет области (всего), в том числе: | C93: =C94+C95+C96 -> 1000 | D93: =D94+D95+D96 -> 1000 | E93: =SUM(E94:E96) -> 1000 | F93: =SUM(F94:F96) -> 1000 | G93: =SUM(G94:G96) -> 1000 | H93: =SUM(H94:H96) -> 1000 | I93: =SUM(I94:I96) -> 1000 | J93: =SUM(C93:I93) -> 7000
A94: областной бюджет | B94: 7000 | C94: 1000 | D94: 1000 | E94: 1000 | F94: 1000 | G94: 1000 | H94: 1000 | I94: 1000 | J94: =SUM(C94:I94) -> 7000
A95: местные бюджеты | B95: 0 | C95: 0 | D95: 0 | E95: 0 | F95: 0 | G95: 0 | H95: 0 | I95: 0 | J95: =SUM(C95:I95) -> 0
A96: внебюджетные источники | B96: 0 | C96: 0 | D96: 0 | E96: 0 | F96: 0 | G96: 0 | H96: 0 | I96: 0 | J96: =SUM(C96:I96) -> 0
A97: Мероприятие (результат) 2.5 "Организованы и проведены мероприятия по популяризации театрального дела" | B97: 4200 | C97: =C98+C99 -> 400 | D97: =D98+D99 -> 400 | E97: =SUM(E98:E99) -> 400 | F97: =SUM(F98:F99) -> 400 | G97: =SUM(G98:G99) -> 400 | H97: =SUM(H98:H99) -> 400 | I97: =SUM(I98:I99) -> 400 | J97: =SUM(C97:I97) -> 2800
A98: федеральный бюджет | B98: 0 | C98: 0 | D98: 0 | E98: 0 | F98: 0 | G98: 0 | H98: 0 | I98: 0 | J98: =SUM(C98:I98) -> 0
A99: консолидированный бюджет области (всего), в том числе: | C99: =C100+C101+C102 -> 400 | D99: =D100+D101+D102 -> 400 | E99: =SUM(E100:E102) -> 400 | F99: =SUM(F100:F102) -> 400 | G99: =SUM(G100:G102) -> 400 | H99: =SUM(H100:H102) -> 400 | I99: =SUM(I100:I102) -> 400 | J99: =SUM(C99:I99) -> 2800
A100: областной бюджет | B100: 4200 | C100: =600-200 -> 400 | D100: =600-200 -> 400 | E100: =600-200 -> 400 | F100: =600-200 -> 400 | G100: =600-200 -> 400 | H100: =600-200 -> 400 | I100: =600-200 -> 400 | J100: =SUM(C100:I100) -> 2800
...

Sheet приложение 15
B1: Сведения о расходах на реализацию государственной программы
B2: "Культура Саратовской области"
B3: произведенных за 2025 год за счет соответствующих источников финансового обеспечения
A5: № п/п | B5: Наименование государственной программы (комплексной программы), подпрограммы, структурных элементов | C5: Ответственный исполнитель | D5: Источники финансового обеспечения | E5: Предусмотрено в государственной программе | F5: Утверждено в законе об областном бюджете на соответствующий год <*> | G5: Выделены лимиты бюджетных обязательств за счет средств областного бюджета | H5: Исполнено | J5: Процент исполнения | L5: комментарий
H6: Кассовое исполнение | I6: Фактические исполнение | J6: фактическое исполнение (гр. 9 / гр. 5) | K6: кассовое исполнение (гр. 8 / гр. 6)
A7: 1 | B7: 2 | C7: 3 | D7: 4 | E7: 5 | F7: 6 | G7: 7 | H7: 8 | I7: 9 | J7: 10 | K7: 11 | L7: 12
A8: 1. | B8: Государственная программа Саратовской области "Культура Саратовской области" | C8: министерство культуры Саратовской области | D8: всего | E8: =E9+E10+E11+E13+E14+E15 -> 7704489.5 | F8: х | G8: х | H8: х | I8: =I9+I10+I11+I13+I14+I15 -> 7095581.4 | J8: =I8/E8*100 -> 92.09671 | K8: х
D9: федеральный бюджет | E9: =E25+E49+E65+E73+E81+E89+E97+E113+E129+E145+E161+E169+E177+E209+E233+E241+E249+E353+E425+E441+E481+E505+E457 -> 599623.1 | F9: =F25+F49+F65+F73+F81+F89+F97+F113+F129+F145+F161+F169+F177+F209+F233+F241+F249+F353+F425+F441+F481+F505 -> 599623.1 | G9: =G25+G49+G65+G73+G81+G89+G97+G113+G129+G145+G161+G169+G177+G209+G233+G241+G249+G353+G425+G441+G481+G505 -> 599623.1 | H9: =H25+H49+H65+H73+H81+H89+H97+H113+H129+H145+H161+H169+H177+H209+H233+H241+H249+H353+H425+H441+H481+H505 -> 599623.1 | I9: =I25+I49+I65+I73+I81+I89+I97+I113+I129+I145+I161+I169+I177+I209+I233+I241+I249+I353+I425+I441+I481+I505+I457 -> 599623.1 | J9: =I9/E9*100 -> 100 | K9: 100
D10: бюджеты государственных внебюджетных фондов | E10: =E26+E50+E66+E74+E82+E90+E98+E114+E130+E146+E162+E170+E178+E210+E234+E242+E250+E354+E426+E442+E482+E506+E458 -> 0 | F10: =F26+F50+F66+F74+F82+F90+F98+F114+F130+F146+F162+F170+F178+F210+F234+F242+F250+F354+F426+F442+F482+F506 -> 0 | G10: =G26+G50+G66+G74+G82+G90+G98+G114+G130+G146+G162+G170+G178+G210+G234+G242+G250+G354+G426+G442+G482+G506 -> 0 | H10: =H26+H50+H66+H74+H82+H90+H98+H114+H130+H146+H162+H170+H178+H210+H234+H242+H250+H354+H426+H442+H482+H506 -> 0 | I10: =I26+I50+I66+I74+I82+I90+I98+I114+I130+I146+I162+I170+I178+I210+I234+I242+I250+I354+I426+I442+I482+I506+I458 -> 0 | J10: 0 | K10: 0
D11: иные безвозмездные поступления целевой направленности | E11: =E27+E51+E67+E75+E83+E91+E99+E115+E131+E147+E163+E171+E179+E211+E235+E243+E251+E355+E427+E443+E483+E507+E459 -> 0 | F11: =F27+F51+F67+F75+F83+F91+F99+F115+F131+F147+F163+F171+F179+F211+F235+F243+F251+F355+F427+F443+F483+F507 -> 0 | G11: =G27+G51+G67+G75+G83+G91+G99+G115+G131+G147+G163+G171+G179+G211+G235+G243+G251+G355+G427+G443+G483+G507 -> 0 | H11: =H27+H51+H67+H75+H83+H91+H99+H115+H131+H147+H163+H171+H179+H211+H235+H243+H251+H355+H427+H443+H483+H507 -> 0 | I11: =I27+I51+I67+I75+I83+I91+I99+I115+I131+I147+I163+I171+I179+I211+I235+I243+I251+I355+I427+I443+I483+I507+I459 -> 0 | J11: 0 | K11: 0
D12: консолидированный бюджет области (всего), в том числе: | E12: =E28+E52+E68+E76+E84+E92+E100+E116+E132+E148+E164+E172+E180+E212+E236+E244+E252+E356+E428+E444+E484+E508+E460 -> 7039699.2 | F12: х | G12: х | H12: х | I12: =I28+I52+I68+I76+I84+I92+I100+I116+I132+I148+I164+I172+I180+I212+I236+I244+I252+I356+I428+I444+I484+I508+I460 -> 6430791 | J12: =I12/E12*100 -> 91.350366 | K12: х
D13: областной бюджет | E13: =E29+E53+E69+E77+E85+E93+E101+E117+E133+E149+E165+E173+E181+E213+E237+E245+E253+E357+E429+E445+E485+E509+E461 -> 4614557.9 | F13: =F29+F53+F69+F77+F85+F93+F101+F117+F133+F149+F165+F173+F181+F213+F237+F245+F253+F357+F429+F445+F485+F509+F461 -> 4614557.9 | G13: =G29+G53+G69+G77+G85+G93+G101+G117+G133+G149+G165+G173+G181+G213+G237+G245+G253+G357+G429+G445+G485+G509+G461 -> 4614557.9 | H13: =H29+H53+H69+H77+H85+H93+H101+H117+H133+H149+H165+H173+H181+H213+H237+H245+H253+H357+H429+H445+H485+H509+H461 -> 4005649.8 | I13: =I29+I53+I69+I77+I85+I93+I101+I117+I133+I149+I165+I173+I181+I213+I237+I245+I253+I357+I429+I445+I485+I509+I461 -> 4005649.8 | J13: =I13/E13*100 -> 86.804627 | K13: =H13/F13*100 -> 86.804627
D14: местные бюджеты | E14: =E30+E54+E70+E78+E86+E94+E102+E118+E134+E150+E166+E174+E182+E214+E238+E246+E254+E358+E430+E446+E486+E510+E462 -> 2425141.3 | F14: х | G14: х | H14: х | I14: =I30+I54+I70+I78+I86+I94+I102+I118+I134+I150+I166+I174+I182+I214+I238+I246+I254+I358+I430+I446+I486+I510+I462 -> 2425141.3 | J14: =I14/E14*100 -> 100 | K14: х
D15: внебюджетные источники | E15: =E31+E55+E71+E79+E87+E95+E103+E119+E135+E151+E167+E175+E183+E215+E239+E247+E255+E359+E431+E447+E487+E511+E463 -> 65167.2 | F15: х | G15: х | H15: х | I15: =I31+I55+I71+I79+I87+I95+I103+I119+I135+I151+I167+I175+I183+I215+I239+I247+I255+I359+I431+I447+I487+I511+I463 -> 65167.2 | J15: =I15/E15*100 -> 100 | K15: х
A16: 2 | B16: Подпрограмма 1 "Развитие искусства и творчества" | C16: министерство культуры Саратовской области | D16: всего | E16: =E24+E48+E64+E72+E80+E88+E96 -> 3725713.8 | F16: х | G16: х | H16: х | I16: =I24+I48+I64+I72+I80+I88+I96 -> 3725696.7 | J16: =I16/E16*100 -> 99.999542 | K16: х
D17: федеральный бюджет | E17: =E25+E49+E65+E73+E81+E89+E97 -> 32886.4 | F17: =F25+F49+F65+F73+F81+F89+F97 -> 32886.4 | G17: =G25+G49+G65+G73+G81+G89+G97 -> 32886.4 | H17: =H25+H49+H65+H73+H81+H89+H97 -> 32886.4 | I17: =I25+I49+I65+I73+I81+I89+I97 -> 32886.4 | J17: =I17/E17*100 -> 100 | K17: 100
D18: бюджеты государственных внебюджетных фондов | E18: =E26+E50+E66+E74+E82+E90+E98 -> 0 | F18: 0 | G18: 0 | H18: 0 | I18: 0 | J18: 0 | K18: 0
D19: иные безвозмездные поступления целевой направленности | E19: =E27+E51+E67+E75+E83+E91+E99 -> 0 | F19: 0 | G19: 0 | H19: 0 | I19: 0 | J19: 0 | K19: 0
D20: консолидированный бюджет области (всего), в том числе: | E20: =E28+E52+E68+E76+E84+E92+E100 -> 3642129.7 | F20: х | G20: х | H20: х | I20: 3642129.8 | J20: =I20/E20*100 -> 100 | K20: х
D21: областной бюджет | E21: =E29+E53+E69+E77+E85+E93+E101 -> 1875243.2 | F21: =F29+F53+F69+F77+F85+F93+F101 -> 1875243.2 | G21: =G29+G53+G69+G77+G85+G93+G101 -> 1875243.2 | H21: =H29+H53+H69+H77+H85+H93+H101 -> 1875226.1 | I21: =I29+I53+I69+I77+I85+I93+I101 -> 1875226.1 | J21: =I21/E21*100 -> 99.99909 | K21: 100
D22: местные бюджеты | E22: =E30+E54+E70+E78+E86+E94+E102 -> 1766886.6 | F22: х | G22: х | H22: х | I22: 1766886.6 | J22: =I22/E22*100 -> 100 | K22: х
D23: внебюджетные источники | E23: =E71+E79+E87+E95+E103 -> 50697.6 | F23: х | G23: х | H23: х | I23: 50697.6 | J23: =I23/E23*100 -> 100 | K23: х
B24: Региональный проект «Развитие театральной деятельности» | C24: министерство культуры Саратовской области | D24: всего | E24: =E32+E40 -> 26376.97 | F24: х | G24: х | H24: х | I24: 26376.97 | J24: =I24/E24*100 -> 100 | K24: х
D25: федеральный бюджет | E25: =E33+E41 -> 23475.5 | F25: =F33+F41 -> 23475.5 | G25: =G33+G41 -> 23475.5 | H25: =H33+H41 -> 23475.5 | I25: =I33+I41 -> 23475.5 | J25: =I25/E25*100 -> 100 | K25: 100
D26: бюджеты государственных внебюджетных фондов | E26: =E34+E42 -> 0 | F26: 0 | G26: 0 | H26: 0 | I26: 0 | J26: 0 | K26: 0
D27: иные безвозмездные поступления целевой направленности | E27: =E35+E43 -> 0 | F27: 0 | G27: 0 | H27: 0 | I27: 0 | J27: 0 | K27: 0
D28: консолидированный бюджет области (всего), в том числе: | E28: =E29+E30 -> 2901.47 | F28: х | G28: х | H28: х | I28: =I29+I30 -> 2901.47 | J28: =I28/E28*100 -> 100 | K28: х
D29: областной бюджет | E29: =E37+E45 -> 2901.47 | F29: =F37+F45 -> 2901.47 | G29: =G37+G45 -> 2901.47 | H29: =H37+H45 -> 2901.47 | I29: =I37+I45 -> 2901.47 | J29: =I29/E29*100 -> 100 | K29: 100
D30: местные бюджеты | E30: =E38+E46 -> 0 | F30: х | G30: х | H30: х | I30: 0 | J30: 0 | K30: х
D31: внебюджетные источники | E31: =E39+E47 -> 0 | F31: х | G31: х | H31: х | I31: 0 | J31: 0 | K31: 0
B32: Мероприятие (результат) «Усовершенствованы профессиональные репертуарные театры, находящиеся в населённых пунктах с численностью населения до 300 тыс. человек, путем создания новых постановок и (или) улучшения материально-технического оснащения» | C32: министерство культуры Саратовской области | D32: всего | E32: =E33+E37+E38+E39 -> 9527.64 | F32: х | G32: х | H32: х | I32: 9527.64 | J32: =I32/E32*100 -> 100 | K32: х
D33: федеральный бюджет | E33: 8479.6 | F33: 8479.6 | G33: 8479.6 | H33: 8479.6 | I33: 8479.6 | J33: =I33/E33*100 -> 100 | K33: 100
D34: бюджеты государственных внебюджетных фондов | E34: 0 | F34: 0 | G34: 0 | H34: 0 | I34: 0 | J34: 0 | K34: 0
D35: иные безвозмездные поступления целевой направленности | E35: 0 | F35: 0 | G35: 0 | H35: 0 | I35: 0 | J35: 0 | K35: 0
D36: консолидированный бюджет области (всего), в том числе: | E36: =E37+E38 -> 1048.04 | F36: х | G36: х | H36: х | I36: =I37 -> 1048.04 | J36: =I36/E36*100 -> 100 | K36: х
D37: областной бюджет | E37: 1048.04 | F37: 1048.04 | G37: 1048.04 | H37: 1048.04 | I37: 1048.04 | J37: =I37/E37*100 -> 100 | K37: 100
D38: местные бюджеты | E38: 0 | F38: х | G38: х | H38: х | I38: 0 | J38: 0 | K38: х
D39: внебюджетные источники | E39: 0 | F39: х | G39: х | H39: х | I39: 0 | J39: 0 | K39: х
B40: Мероприятие (результат) «Усовершенствованы детские и кукольные театры путем создания новых постановок и (или) улучшения технического оснащения» | C40: министерство культуры Саратовской области | D40: всего | E40: =E41+E42+E43+E45+E46+E47 -> 16849.33 | F40: х | G40: х | H40: х | I40: =I41+I42+I43+I45+I46+I47 -> 16849.33 | J40: =I40/E40*100 -> 100 | K40: х
D41: федеральный бюджет | E41: 14995.9 | F41: 14995.9 | G41: 14995.9 | H41: 14995.9 | I41: 14995.9 | J41: =I41/E41*100 -> 100 | K41: 100
D42: бюджеты государственных внебюджетных фондов | E42: 0 | F42: 0 | G42: 0 | H42: 0 | I42: 0 | J42: 0 | K42: 0
D43: иные безвозмездные поступления целевой направленности | E43: 0 | F43: 0 | G43: 0 | H43: 0 | I43: 0 | J43: 0 | K43: 0
D44: консолидированный бюджет области (всего), в том числе: | E44: 1853.43 | F44: х | G44: х | H44: х | I44: 1853.43 | J44: =I44/E44*100 -> 100 | K44: х
D45: областной бюджет | E45: 1853.43 | F45: 1853.43 | G45: 1853.43 | H45: 1853.43 | I45: 1853.43 | J45: =I45/E45*100 -> 100 | K45: 100
D46: местные бюджеты | E46: 0 | F46: х | G46: х | H46: х | I46: 0 | J46: 0 | K46: 0
D47: внебюджетные источники | E47: 0 | F47: х | G47: х | H47: х | I47: 0 | J47: 0 | K47: х
B48: Региональный проект «Сохранение культурного и исторического наследия» | C48: министерство культуры Саратовской области | D48: всего | E48: =E56 -> 10574.04 | F48: x | G48: x | H48: x | I48: 10574.04 | J48: =I48/E48*100 -> 100 | K48: х
D49: федеральный бюджет | E49: =E57 -> 9410.9 | F49: =F57 -> 9410.9 | G49: =G57 -> 9410.9 | H49: =H57 -> 9410.9 | I49: =I57 -> 9410.9 | J49: =I49/E49*100 -> 100 | K49: 100
D50: бюджеты государственных внебюджетных фондов | E50: =E58 -> 0 | F50: 0 | G50: 0 | H50: 0 | I50: 0 | J50: 0 | K50: 0
D51: иные безвозмездные поступления целевой направленности | E51: =E59 -> 0 | F51: 0 | G51: 0 | H51: 0 | I51: 0 | J51: 0 | K51: 0
D52: консолидированный бюджет области (всего), в том числе: | E52: =E60 -> 1163.14 | F52: x | G52: x | H52: x | I52: 1163.14 | J52: =I52/E52*100 -> 100 | K52: х
D53: областной бюджет | E53: =E61 -> 1163.14 | F53: 1163.14 | G53: 1163.14 | H53: 1163.14 | I53: 1163.14 | J53: =I53/E53*100 -> 100 | K53: 100
D54: местные бюджеты | E54: =E62 -> 0 | F54: x | G54: x | H54: x | I54: 0 | J54: 0 | K54: 0
D55: внебюджетные источники | E55: =E63 -> 0 | F55: x | G55: x | H55: x | I55: 0 | J55: 0 | K55: 0
B56: Мероприятие (результат) «Проведены мероприятия по комплектованию книжных фондов библиотек муниципальных образований и государственных общедоступных библиотек субъектов Российской Федерации» | C56: министерство культуры Саратовской области | D56: всего | E56: =E57+E61+E63+E62 -> 10574.04 | F56: x | G56: x | H56: x | I56: =I57+I61+I63+I62 -> 10574.04 | J56: =I56/E56*100 -> 100 | K56: х
D57: федеральный бюджет | E57: 9410.9 | F57: 9410.9 | G57: 9410.9 | H57: 9410.9 | I57: 9410.9 | J57: =I57/E57*100 -> 100 | K57: 100
D58: бюджеты государственных внебюджетных фондов | E58: 0 | F58: 0 | G58: 0 | H58: 0 | I58: 0 | J58: 0 | K58: 0
D59: иные безвозмездные поступления целевой направленности | E59: 0 | F59: 0 | G59: 0 | H59: 0 | I59: 0 | J59: 0 | K59: 0
D60: консолидированный бюджет области (всего), в том числе: | E60: 1163.14 | F60: x | G60: x | H60: x | I60: 1163.14 | J60: =I60/E60*100 -> 100 | K60: х
D61: областной бюджет | E61: 1163.14 | F61: 1163.14 | G61: 1163.14 | H61: 1163.14 | I61: 1163.14 | J61: =I61/E61*100 -> 100 | K61: 100
D62: местные бюджеты | E62: 0 | F62: x | G62: x | H62: x | I62: 0 | J62: 0 | K62: 0
D63: внебюджетные источники | E63: 0 | F63: x | G63: x | H63: x | I63: 0 | J63: 0 | K63: 0
B64: Комплекс процессных мероприятий «Музеи» | C64: министерство культуры Саратовской области | D64: всего | E64: =E65+E69+E70+E71 -> 382011.19 | F64: x | G64: x | H64: x | I64: =I65+I69+I70+I71 -> 382003.1 | J64: =I64/E64*100 -> 99.997882 | K64: х
D65: федеральный бюджет (прогнозно) | E65: 0 | F65: 0 | G65: 0 | H65: 0 | I65: 0 | J65: 0 | K65: 0
D66: бюджеты государственных внебюджетных фондов | E66: 0 | F66: 0 | G66: 0 | H66: 0 | I66: 0 | J66: 0 | K66: 0
D67: иные безвозмездные поступления целевой направленности | E67: 0 | F67: 0 | G67: 0 | H67: 0 | I67: 0 | J67: 0 | K67: 0
D68: консолидированный бюджет области (всего), в том числе: | E68: =E69+E70 -> 381586.19 | F68: x | G68: x | H68: x | I68: =I69+I70 -> 381578.1 | J68: =I68/E68*100 -> 99.99788 | K68: х
D69: областной бюджет | E69: 299818.19 | F69: 299818.19 | G69: 299818.19 | H69: 299810.1 | I69: 299810.1 | J69: =I69/E69*100 -> 99.997302 | K69: 100
D70: местные бюджеты | E70: 81768 | F70: x | G70: x | H70: x | I70: 81768 | J70: =I70/E70*100 -> 100 | K70: х
D71: внебюджетные источники | E71: 425 | F71: x | G71: x | H71: x | I71: 425 | J71: =I71/E71*100 -> 100 | K71: х
B72: Комплекс процессных мероприятий «Театры» | C72: министерство культуры Саратовской области | D72: всего | E72: =E77+E78+E79+E73 -> 958117.23 | F72: x | G72: x | H72: x | I72: =I77+I78+I79+I73 -> 958116.97 | J72: =I72/E72*100 -> 99.999973 | K72: х
D73: федеральный бюджет | E73: 0 | F73: 0 | G73: 0 | H73: 0 | I73: 0 | J73: 0 | K73: 0
D74: бюджеты государственных внебюджетных фондов | E74: 0 | F74: 0 | G74: 0 | H74: 0 | I74: 0 | J74: 0 | K74: 0
D75: иные безвозмездные поступления целевой направленности | E75: 0 | F75: 0 | G75: 0 | H75: 0 | I75: 0 | J75: 0 | K75: 0
D76: консолидированный бюджет области (всего), в том числе: | E76: =E77+E78 -> 949181.93 | F76: x | G76: x | H76: x | I76: =I77+I78 -> 949181.67 | J76: =I76/E76*100 -> 99.999973 | K76: х
D77: областной бюджет | E77: 857363.13 | F77: 857363.13 | G77: 857363.13 | H77: 857362.87 | I77: 857362.87 | J77: =I77/E77*100 -> 99.99997 | K77: 100
D78: местные бюджеты | E78: 91818.8 | F78: x | G78: x | H78: x | I78: 91818.8 | J78: =I78/E78*100 -> 100 | K78: х
D79: внебюджетные источники | E79: 8935.3 | F79: x | G79: x | H79: x | I79: 8935.3 | J79: =I79/E79*100 -> 100 | K79: х
B80: Комплекс процессных мероприятий "Концертные организации и цирковые коллективы" | C80: министерство культуры Саратовской области | D80: всего | E80: =E81+E82+E83+E85+E86+E87 -> 304973.68 | F80: x | G80: x | H80: x | I80: =I81+I82+I83+I85+I86+I87 -> 304973.35 | J80: =I80/E80*100 -> 99.999892 | K80: х
D81: федеральный бюджет | E81: 0 | F81: 0 | G81: 0 | H81: 0 | I81: 0 | J81: 0 | K81: 0
D82: бюджеты государственных внебюджетных фондов | E82: 0 | F82: 0 | G82: 0 | H82: 0 | I82: 0 | J82: 0 | K82: 0
D83: иные безвозмездные поступления целевой направленности | E83: 0 | F83: 0 | G83: 0 | H83: 0 | I83: 0 | J83: 0 | K83: 0
D84: консолидированный бюджет области (всего), в том числе: | E84: =E85 -> 287654.48 | F84: x | G84: x | H84: x | I84: =I85 -> 287654.15 | J84: =I84/E84*100 -> 99.999885 | K84: х
D85: областной бюджет | E85: 287654.48 | F85: 287654.48 | G85: 287654.48 | H85: 287654.15 | I85: 287654.15 | J85: =I85/E85*100 -> 99.999885 | K85: 100
D86: местные бюджеты | E86: 0 | F86: x | G86: x | H86: x | I86: 0 | J86: 0 | K86: х
D87: внебюджетные источники | E87: 17319.2 | F87: x | G87: x | H87: x | I87: 17319.2 | J87: =I87/E87*100 -> 100 | K87: х
B88: Комплекс процессных мероприятий "Библиотеки" | C88: министерство культуры Саратовской области | D88: всего | E88: 632065.93 | F88: x | G88: x | H88: x | I88: =I89+I90+I91+I93+I94+I95 -> 632065.86 | J88: =I88/E88*100 -> 99.999989 | K88: х
D89: федеральный бюджет | E89: 0 | F89: 0 | G89: 0 | H89: 0 | I89: 0 | J89: 0 | K89: 0
D90: бюджеты государственных внебюджетных фондов | E90: 0 | F90: 0 | G90: 0 | H90: 0 | I90: 0 | J90: 0 | K90: 0
D91: иные безвозмездные поступления целевой направленности | E91: 0 | F91: 0 | G91: 0 | H91: 0 | I91: 0 | J91: 0 | K91: 0
D92: консолидированный бюджет области (всего), в том числе: | E92: =E93+E94 -> 625322.93 | F92: x | G92: x | H92: x | I92: =I93+I94 -> 625322.86 | J92: =I92/E92*100 -> 99.999989 | K92: 100
D93: областной бюджет | E93: 178842.06 | F93: 178842.06 | G93: 178842.06 | H93: 178841.99 | I93: 178841.99 | J93: =I93/E93*100 -> 99.999961 | K93: 100
D94: местные бюджеты | E94: 446480.87 | F94: x | G94: x | H94: x | I94: 446480.87 | J94: =I94/E94*100 -> 100 | K94: х
D95: внебюджетные источники | E95: 6743 | F95: x | G95: x | H95: x | I95: 6743 | J95: =I95/E95*100 -> 100 | K95: х
B96: Комплекс процессных мероприятий "Культурно-досуговые учреждения" | C96: министерство культуры Саратовской области | D96: всего | E96: 1411594.7 | F96: x | G96: x | H96: x | I96: =I101+I102+I103 -> 1411586.4 | J96: =I96/E96*100 -> 99.999411 | K96: х
D97: федеральный бюджет | E97: 0 | F97: 0 | G97: 0 | H97: 0 | I97: 0 | J97: 0 | K97: 0
D98: бюджеты государственных внебюджетных фондов | E98: 0 | F98: 0 | G98: 0 | H98: 0 | I98: 0 | J98: 0 | K98: 0
D99: иные безвозмездные поступления целевой направленности | E99: 0 | F99: 0 | G99: 0 | H99: 0 | I99: 0 | J99: 0 | K99: 0
D100: консолидированный бюджет области (всего), в том числе: | E100: =E101+E102 -> 1394319.6 | F100: x | G100: x | H100: x | I100: =I101+I102 -> 1394311.3 | J100: =I100/E100*100 -> 99.999403 | K100: х
D101: областной бюджет | E101: 247500.71 | F101: 247500.71 | G101: 247500.71 | H101: 247492.39 | I101: 247492.39 | J101: =I101/E101*100 -> 99.996638 | K101: 100
...

Sheet приложение 16
B1: Сведения о расходах на реализацию комплекса процессных мероприятий "Музеи"
B2: произведенных за 2025 год за счет соответствующих источников финансового обеспечения
A3: № п/п | B3: Наименование государственной программы (комплексной программы), подпрограммы, структурных элементов | C3: Ответственный исполнитель | D3: Источники финансового обеспечения | E3: Предусмотрено в государственной программе | F3: Утверждено в законе об областном бюджете на соответствующий год <*> | G3: Выделены лимиты бюджетных обязательств за счет средств областного бюджета | H3: Исполнено | J3: Процент исполнения | L3: комментарий
H4: Кассовое исполнение | I4: Фактические исполнение | J4: фактическое исполнение (гр. 9 / гр. 5) | K4: кассовое исполнение (гр. 8 / гр. 6)
A5: 1 | B5: 2 | C5: 3 | D5: 4 | E5: 5 | F5: 6 | G5: 7 | H5: 8 | I5: 9 | J5: 10 | K5: 11 | L5: 12
B6: Комплекс процессных мероприятий «Музеи» | C6: министерство культуры Саратовской области | D6: всего | E6: =E14 -> 382011.19 | F6: х | G6: х | H6: х | I6: =I14 -> 382003.2 | J6: =I6/E6*100 -> 99.997908 | K6: х
D7: федеральный бюджет (прогнозно) | E7: =E15 -> 0 | F7: 0 | G7: 0 | H7: 0 | I7: 0 | J7: 0 | K7: 0
D8: бюджеты государственных внебюджетных фондов | E8: =E16 -> 0 | F8: 0 | G8: 0 | H8: 0 | I8: 0 | J8: 0 | K8: 0
D9: иные безвозмездные поступления целевой направленности | E9: =E17 -> 0 | F9: 0 | G9: 0 | H9: 0 | I9: 0 | J9: 0 | K9: 0
D10: консолидированный бюджет области (всего), в том числе: | E10: =E18 -> 381586.19 | F10: х | G10: х | H10: х | I10: 381586.19 | J10: =I10/E10*100 -> 100 | K10: х
D11: областной бюджет | E11: =E19 -> 299818.19 | F11: 299818.19 | G11: 299818.19 | H11: 299818.2 | I11: 299810.2 | J11: 100 | K11: 100
D12: местные бюджеты | E12: =E20 -> 81768 | F12: х | G12: х | H12: х | I12: 81768 | J12: 100 | K12: х
D13: внебюджетные источники | E13: =E21 -> 425 | F13: х | G13: х | H13: х | I13: 425 | J13: 100 | K13: х
B14: Мероприятие (результат) "Организованы и проведены мероприятия музеями" | C14: министерство культуры Саратовской области | D14: Всего | E14: 382011.19 | F14: х | G14: х | H14: х | I14: =I19+I20+I21 -> 382003.2 | J14: 100 | K14: 100
D15: федеральный бюджет | E15: 0 | F15: 0 | G15: 0 | H15: 0 | I15: 0 | J15: 0 | K15: 0
D16: бюджеты государственных внебюджетных фондов | E16: 0 | F16: 0 | G16: 0 | H16: 0 | I16: 0 | J16: 0 | K16: 0
D17: иные безвозмездные поступления целевой направленности | E17: 0 | F17: 0 | G17: 0 | H17: 0 | I17: 0 | J17: 0 | K17: 0
D18: консолидированный бюджет области (всего), в том числе: | E18: =E19+E20 -> 381586.19 | F18: х | G18: х | H18: х | I18: =I19+I20 -> 381578.2 | J18: 100 | K18: х
D19: областной бюджет | E19: 299818.19 | F19: 299818.19 | G19: 299818.19 | H19: 299818.19 | I19: 299810.2 | J19: 100 | K19: 100
D20: местные бюджеты | E20: 81768 | F20: х | G20: х | H20: х | I20: 81768 | J20: 100 | K20: х
D21: внебюджетные источники | E21: 425 | F21: х | G21: х | H21: х | I21: 425 | J21: 100 | K21: х
B23: Сведения о расходах на реализацию комплекса процессных мероприятий "Театры"
B24: произведенных за 2025 год за счет соответствующих источников финансового обеспечения
B25: Комплекс процессных мероприятий «Театры» | C25: министерство культуры Саратовской области | D25: Всего | E25: =E33 -> 958117.23 | F25: х | G25: х | H25: х | I25: =I26+I27+I28+I30+I31+I32 -> 958116.97 | J25: 100 | K25: 100
D26: федеральный бюджет | E26: =E34 -> 0 | F26: 0 | G26: 0 | H26: 0 | I26: 0 | J26: 0 | K26: 0
D27: бюджеты государственных внебюджетных фондов | E27: =E35 -> 0 | F27: 0 | G27: 0 | H27: 0 | I27: 0 | J27: 0 | K27: 0
D28: иные безвозмездные поступления целевой направленности | E28: =E36 -> 0 | F28: 0 | G28: 0 | H28: 0 | I28: 0 | J28: 0 | K28: 0
D29: консолидированный бюджет области (всего), в том числе: | E29: =E37 -> 949181.93 | F29: х | G29: х | H29: х | I29: 949181.93 | J29: 100 | K29: х
D30: областной бюджет | E30: =E38 -> 857363.13 | F30: 857363.13 | G30: 857363.13 | H30: 857362.87 | I30: 857362.87 | J30: 100 | K30: 100
D31: местные бюджеты | E31: =E39 -> 91818.8 | F31: х | G31: х | H31: х | I31: 91818.8 | J31: 100 | K31: х
D32: внебюджетные источники | E32: =E40 -> 8935.3 | F32: х | G32: х | H32: х | I32: 8935.3 | J32: 100 | K32: х
B33: Мероприятие (результат) "Организованы и проведены мероприятия театрами" | C33: министерство культуры Саратовской области | D33: Всего | E33: 958117.23 | F33: х | G33: х | H33: х | I33: =I38+I39+I40 -> 958116.97 | J33: 100 | K33: 100
D34: федеральный бюджет | E34: 0 | F34: 0 | G34: 0 | H34: 0 | I34: 0 | J34: 0 | K34: 0
D35: бюджеты государственных внебюджетных фондов | E35: 0 | F35: 0 | G35: 0 | H35: 0 | I35: 0 | J35: 0 | K35: 0
D36: иные безвозмездные поступления целевой направленности | E36: 0 | F36: 0 | G36: 0 | H36: 0 | I36: 0 | J36: 0 | K36: 0
D37: консолидированный бюджет области (всего), в том числе: | E37: 949181.93 | F37: х | G37: х | H37: х | I37: 949181.93 | J37: 100 | K37: х
D38: областной бюджет | E38: 857363.13 | F38: 857363.13 | G38: 857363.13 | H38: 857362.87 | I38: 857362.87 | J38: 100 | K38: 100
D39: местные бюджеты | E39: 91818.8 | F39: х | G39: х | H39: х | I39: 91818.8 | J39: 100 | K39: х
D40: внебюджетные источники | E40: 8935.3 | F40: х | G40: х | H40: х | I40: 8935.3 | J40: 100 | K40: х
B42: Сведения о расходах на реализацию комплекса процессных мероприятий "Концертные организации и цирковые коллективы"
B43: произведенных за 2025 год за счет соответствующих источников финансового обеспечения
B44: Комплекс процессных мероприятий "Концертные организации и цирковые коллективы" | C44: министерство культуры Саратовской области | D44: Всего | E44: =E52 -> 304973.68 | F44: х | G44: х | H44: х | I44: =I45+I46+I47+I49+I50+I51 -> 304973.35 | J44: 100 | K44: 100
D45: федеральный бюджет | E45: =E53 -> 0 | F45: 0 | G45: 0 | H45: 0 | I45: 0 | J45: 0 | K45: 0
D46: бюджеты государственных внебюджетных фондов | E46: =E54 -> 0 | F46: 0 | G46: 0 | H46: 0 | I46: 0 | J46: 0 | K46: 0
D47: иные безвозмездные поступления целевой направленности | E47: =E55 -> 0 | F47: 0 | G47: 0 | H47: 0 | I47: 0 | J47: 0 | K47: 0
D48: консолидированный бюджет области (всего), в том числе: | E48: =E49+E50 -> 287654.48 | F48: х | G48: х | H48: х | I48: =I49+I50 -> 287654.15 | J48: 100 | K48: х
D49: областной бюджет | E49: =E57 -> 287654.48 | F49: 287654.48 | G49: 287654.48 | H49: =H57 -> 287654.15 | I49: =I57 -> 287654.15 | J49: 100 | K49: 100
D50: местные бюджеты | E50: =E58 -> 0 | F50: х | G50: х | H50: х | I50: 0 | J50: 0 | K50: х
D51: внебюджетные источники | E51: =E59 -> 17319.2 | F51: х | G51: х | H51: х | I51: 17319.2 | J51: 100 | K51: х
B52: Мероприятие (результат) "Организованы и проведены мероприятия концертными организациями и цирковыми коллективами" | C52: министерство культуры Саратовской области | D52: Всего | E52: 304973.68 | F52: х | G52: х | H52: х | I52: 304973.68 | J52: 100 | K52: 100
D53: федеральный бюджет | E53: 0 | F53: 0 | G53: 0 | H53: 0 | I53: 0 | J53: 0 | K53: 0
D54: бюджеты государственных внебюджетных фондов | E54: 0 | F54: 0 | G54: 0 | H54: 0 | I54: 0 | J54: 0 | K54: 0
D55: иные безвозмездные поступления целевой направленности | E55: 0 | F55: 0 | G55: 0 | H55: 0 | I55: 0 | J55: 0 | K55: 0
D56: консолидированный бюджет области (всего), в том числе: | E56: 287654.48 | F56: х | G56: х | H56: х | I56: 287654.48 | J56: 100 | K56: х
D57: областной бюджет | E57: 287654.48 | F57: 287654.48 | G57: 287654.48 | H57: 287654.15 | I57: 287654.15 | J57: 100 | K57: 100
D58: местные бюджеты | E58: 0 | F58: х | G58: х | H58: х | I58: 0 | J58: 0 | K58: х
D59: внебюджетные источники | E59: 17319.2 | F59: х | G59: х | H59: х | I59: 17319.2 | J59: 100 | K59: х
B61: Сведения о расходах на реализацию комплекса процессных мероприятий "Библиотеки"
B62: произведенных за 2025 год за счет соответствующих источников финансового обеспечения
B63: Комплекс процессных мероприятий "Библиотеки" | C63: министерство культуры Саратовской области | D63: всего | E63: =E71 -> 632065.93 | F63: x | G63: x | H63: x | I63: =I64+I65+I66+I68+I70+I69 -> 632065.86 | J63: 100 | K63: х
D64: федеральный бюджет | E64: =E72 -> 0 | F64: 0 | G64: 0 | H64: 0 | I64: 0 | J64: 0 | K64: 0
D65: бюджеты государственных внебюджетных фондов | E65: =E73 -> 0 | F65: 0 | G65: 0 | H65: 0 | I65: 0 | J65: 0 | K65: 0
D66: иные безвозмездные поступления целевой направленности | E66: =E74 -> 0 | F66: 0 | G66: 0 | H66: 0 | I66: 0 | J66: 0 | K66: 0
D67: консолидированный бюджет области (всего), в том числе: | E67: =E75 -> 625322.93 | F67: x | G67: x | H67: x | I67: 625322.93 | J67: 100 | K67: х
D68: областной бюджет | E68: =E76 -> 178842.06 | F68: 178842.06 | G68: 178842.06 | H68: 178841.99 | I68: 178841.99 | J68: 100 | K68: 100
D69: местные бюджеты | E69: =E77 -> 446480.87 | F69: x | G69: x | H69: x | I69: 446480.87 | J69: 100 | K69: х
D70: внебюджетные источники | E70: =E78 -> 6743 | F70: x | G70: x | H70: x | I70: 6743 | J70: 100 | K70: х
B71: Мероприятие (результат) "Организованы и проведены мероприятия библиотеками" | C71: министерство культуры Саратовской области | D71: всего | E71: 632065.93 | F71: x | G71: x | H71: x | I71: 632065.93 | J71: 100 | K71: х
D72: федеральный бюджет | E72: 0 | F72: 0 | G72: 0 | H72: 0 | I72: 0 | J72: 0 | K72: 0
D73: бюджеты государственных внебюджетных фондов | E73: 0 | F73: 0 | G73: 0 | H73: 0 | I73: 0 | J73: 0 | K73: 0
D74: иные безвозмездные поступления целевой направленности | E74: 0 | F74: 0 | G74: 0 | H74: 0 | I74: 0 | J74: 0 | K74: 0
D75: консолидированный бюджет области (всего), в том числе: | E75: =E76+E77 -> 625322.93 | F75: x | G75: x | H75: x | I75: =I76+I77 -> 625322.86 | J75: 100 | K75: х
D76: областной бюджет | E76: 178842.06 | F76: 178842.06 | G76: 178842.06 | H76: 178841.99 | I76: 178841.99 | J76: 100 | K76: 100
D77: местные бюджеты | E77: 446480.87 | F77: x | G77: x | H77: x | I77: 446480.87 | J77: 100 | K77: х
D78: внебюджетные источники | E78: 6743 | F78: x | G78: x | H78: x | I78: 6743 | J78: 100 | K78: х
B79: Сведения о расходах на реализацию комплекса процессных мероприятий "Культурно-досуговые учреждения"
B80: произведенных за 2025 год за счет соответствующих источников финансового обеспечения
B81: Комплекс процессных мероприятий "Культурно-досуговые учреждения" | C81: министерство культуры Саратовской области | D81: всего | E81: =E89 -> 1411594.7 | F81: x | G81: x | H81: x | I81: =I89 -> 1411586.4 | J81: 100 | K81: х
D82: федеральный бюджет | E82: 0 | F82: 0 | G82: 0 | H82: 0 | I82: 0 | J82: 0 | K82: 0
D83: бюджеты государственных внебюджетных фондов | E83: 0 | F83: 0 | G83: 0 | H83: 0 | I83: 0 | J83: 0 | K83: 0
D84: иные безвозмездные поступления целевой направленности | E84: 0 | F84: 0 | G84: 0 | H84: 0 | I84: 0 | J84: 0 | K84: 0
D85: консолидированный бюджет области (всего), в том числе: | E85: =E86+E87 -> 1394319.6 | F85: x | G85: x | H85: x | I85: =I86+I87 -> 1394319.6 | J85: 100 | K85: х
D86: областной бюджет | E86: =E94 -> 247500.71 | F86: 247500.71 | G86: 247500.71 | H86: 247500.71 | I86: 247500.71 | J86: 100 | K86: 100
D87: местные бюджеты | E87: =E95 -> 1146818.9 | F87: x | G87: x | H87: x | I87: 1146818.9 | J87: 100 | K87: х
D88: внебюджетные источники | E88: =E96 -> 17275.1 | F88: x | G88: x | H88: x | I88: 17275.1 | J88: 100 | K88: х
B89: Мероприятие (результат) "Организованы и проведены мероприятия культурно-досуговыми учреждениями" | C89: министерство культуры Саратовской области | D89: всего | E89: 1411594.7 | F89: x | G89: x | H89: x | I89: =I94+I95+I96 -> 1411586.4 | J89: 100 | K89: х
D90: федеральный бюджет | E90: 0 | F90: 0 | G90: 0 | H90: 0 | I90: 0 | J90: 0 | K90: 0
D91: бюджеты государственных внебюджетных фондов | E91: 0 | F91: 0 | G91: 0 | H91: 0 | I91: 0 | J91: 0 | K91: 0
D92: иные безвозмездные поступления целевой направленности | E92: 0 | F92: 0 | G92: 0 | H92: 0 | I92: 0 | J92: 0 | K92: 0
D93: консолидированный бюджет области (всего), в том числе: | E93: 1394319.6 | F93: x | G93: x | H93: x | I93: 1394319.6 | J93: =I93/E93*100 -> 100 | K93: х
D94: областной бюджет | E94: 247500.71 | F94: 247500.71 | G94: 247500.71 | H94: 247492.39 | I94: 247492.39 | J94: =I94/E94*100 -> 99.996638 | K94: 100
D95: местные бюджеты | E95: 1146818.9 | F95: x | G95: x | H95: x | I95: 1146818.9 | J95: =I95/E95*100 -> 100 | K95: х
D96: внебюджетные источники | E96: 17275.1 | F96: x | G96: x | H96: x | I96: 17275.1 | J96: =I96/E96*100 -> 100 | K96: х
B97: Сведения о расходах на реализацию комплекса процессных мероприятий "Создание условий для развития образования в сфере культуры"
B98: произведенных за 2025 год за счет соответствующих источников финансового обеспечения
B99: Комплекс процессных мероприятий "Создание условий для развития образования в сфере культуры" | C99: министерство культуры Саратовской области | D99: Всего | E99: =E107+E115+E123 -> 2073691.6 | F99: x | G99: x | H99: x | I99: =I104+I105+I106 -> 2073309.3 | J99: 99.98 | K99: х
D100: федеральный бюджет | E100: 0 | F100: 0 | G100: 0 | H100: 0 | I100: 0 | J100: 0 | K100: 0
D101: бюджеты государственных внебюджетных фондов | E101: 0 | F101: 0 | G101: 0 | H101: 0 | I101: 0 | J101: 0 | K101: 0
D102: иные безвозмездные поступления целевой направленности | E102: 0 | F102: 0 | G102: 0 | H102: 0 | I102: 0 | J102: 0 | K102: 0
D103: консолидированный бюджет области (всего), в том числе: | E103: =E111+E119+E127 -> 2060600.3 | F103: x | G103: x | H103: x | I103: =I111+I119+I127 -> 2060226.2 | J103: 99.98 | K103: х
...

Sheet ВЕРНАЯ сентябрь с доп 2021
A3: Наименование государственной программы, подпрограммы, ведомственной целевой программы, основного мероприятия | B3: Ответственный исполнитель, соисполнитель, участник государственной программы (соисполнитель подпрограммы), плательщик (далее - исполнитель) | C3: Источники финансового обеспечения | D3: Объемы финансового обеспечения всего, (тыс. рублей) | E3: В том числе по годам реализации
E4: 2014 | F4: 2015 | G4: 2016 | H4: 2017 | I4: 2018 | J4: 2019 | K4: 2020 | L4: 2021 | M4: 2022 | N4: 2023 | O4: 2024
A5: 1 | B5: 2 | C5: 3 | D5: 4 | E5: 5 | F5: 6 | G5: 7 | H5: 8 | I5: 9 | J5: 10 | K5: 11 | L5: 12 | M5: 13 | N5: 14 | O5: 15
A6: Государственная программа Саратовской области "Культура Саратовской области" | C6: всего | D6: =SUM(E6:O6) -> 51750461 | E6: =E14+E21+E27+E33+E39+E45 -> 4865320.2 | F6: =F14+F21+F27+F33+F39+F45 -> 2108258.3 | G6: =G14+G21+G27+G33+G39+G45 -> 1927521.6 | H6: =H14+H21+H27+H33+H39+H45 -> 2974016.6 | I6: =I14+I21+I27+I33+I39+I45 -> 4510087.6 | J6: =J14+J21+J27+J33+J39+J45 -> 5256858.7 | K6: =K14+K21+K27+K33+K39+K45 -> 5243900.8 | L6: =L14+L21+L27+L33+L39+L45 -> 7021823.8 | ... O6: =O14+O21+O27+O33+O39+O45 -> 5429858.3 | P6: =L6-#REF! -> #REF!
C7: областной бюджет | D7: =SUM(E7:O7) -> 18768481 | E7: =E15+E22+E28+E34+E40+E46 -> 1200430.2 | F7: =F15+F22+F28+F34+F40+F46 -> 1133207 | G7: =G15+G22+G28+G34+G40+G46 -> 1087822.1 | H7: =H15+H22+H28+H34+H40+H46 -> 1356948.3 | I7: =I15+I22+I28+I34+I40+I46 -> 1321655 | J7: =J15+J22+J28+J34+J40+J46 -> 1778262 | K7: =K15+K22+K28+K34+K40+K46 -> 1681483.4 | L7: =L15+L22+L28+L34+L40+L46 -> 2708167.3 | ... O7: =O15+O22+O28+O34+O40+O46 -> 2091805.1 | P7: =L7-#REF! -> #REF!
C8: федеральный бюджет (прогнозно) | D8: =SUM(E8:O8) -> 4090854 | E8: =E16+E23+E29+E35+E41+E47 -> 424910 | F8: =F16+F23+F29+F35+F41+F47 -> 350172.8 | G8: =G16+G23+G29+G35+G41+G47 -> 85202.5 | H8: =H16+H23+H29+H35+H41+H47 -> 92110.7 | I8: =I16+I23+I29+I35+I41+I47 -> 231410.3 | J8: =J16+J23+J29+J35+J41+J47 -> 308355.3 | K8: =K16+K23+K29+K35+K41+K47 -> 574476.2 | L8: =L16+L23+L29+L35+L41+L47 -> 795682.8 | ... O8: =O16+O23+O29+O35+O41+O47 -> 0 | P8: =L8-#REF! -> #REF!
C9: местные бюджеты (прогнозно) | D9: =SUM(E9:O9) -> 25043887 | E9: =E17+E24+E30+E36+E42+E48 -> 3069368 | F9: =F17+F24+F30+F36+F42+F48 -> 450341.2 | G9: =G17+G24+G30+G36+G42+G48 -> 569768 | H9: =H17+H24+H30+H36+H42+H48 -> 1012886 | I9: =I17+I24+I30+I36+I42+I48 -> 2480233.5 | J9: =J17+J24+J30+J36+J42+J48 -> 2728100.9 | K9: =K17+K24+K30+K36+K42+K48 -> 2698275.3 | L9: =L17+L24+L30+L36+L42+L48 -> 3146086.2 | ... O9: =O17+O24+O30+O36+O42+O48 -> 2910711.4 | P9: =L9-#REF! -> #REF!
C10: внебюджетные источники (прогнозно) | D10: =SUM(E10:O10) -> 3574712.4 | E10: =E18+E25+E31+E37+E43+E49 -> 170612 | F10: =F18+F25+F31+F37+F43+F49 -> 174537.3 | G10: =G18+G25+G31+G37+G43+G49 -> 184729 | H10: =H18+H25+H31+H37+H43+H49 -> 312071.6 | I10: =I18+I25+I31+I37+I43+I49 -> 476788.8 | J10: =J18+J25+J31+J37+J43+J49 -> 369613.2 | K10: =K18+K25+K31+K37+K43+K49 -> 289665.9 | L10: =L18+L25+L31+L37+L43+L49 -> 371887.5 | ... O10: =O18+O25+O31+O37+O43+O49 -> 427341.8 | P10: =L10-#REF! -> #REF!
C11: государственные внебюджетные фонды и иные безвозмездные поступления целевой направленности (прогнозно) | D11: =SUM(E11:O11) -> 272527.3 | E11: =E19+E26+E32+E38+E44+E50 -> 0 | F11: =F19+F26+F32+F38+F44+F50 -> 0 | G11: =G19+G26+G32+G38+G44+G50 -> 0 | H11: =H19+H26+H32+H38+H44+H50 -> 200000 | I11: =I19+I26+I32+I38+I44+I50 -> 0 | J11: =J19+J26+J32+J38+J44+J50 -> 72527.3 | K11: =K19+K26+K32+K38+K44+K50 -> 0 | L11: =L19+L26+L32+L38+L44+L50 -> 0 | ... O11: =O19+O26+O32+O38+O44+O50 -> 0 | P11: =L11-#REF! -> #REF!
P12: =L12-#REF! -> #REF!
B13: в том числе по исполнителям: | P13: =L13-#REF! -> #REF!
B14: министерство культуры области | C14: всего | D14: =SUM(E14:O14) -> 47549569 | E14: =E51+E87+E135+E171+E207+E243+E292+E461+E498+E836+E928 -> 4435640.7 | F14: =F51+F87+F135+F171+F207+F243+F292+F461+F498+F836+F928 -> 1765270.5 | G14: =G51+G87+G135+G171+G207+G243+G292+G461+G498+G836+G928 -> 1860957.7 | H14: =H51+H87+H135+H171+H207+H243+H292+H461+H498+H836+H928 -> 2895349.9 | I14: =I51+I87+I135+I171+I207+I243+I292+I461+I498+I836+I928 -> 4279028.8 | J14: =J51+J87+J135+J171+J207+J243+J292+J461+J498+J836+J928 -> 5079884.2 | K14: =K51+K87+K135+K171+K207+K243+K292+K461+K498+K836+K928 -> 4860391.6 | L14: =L51+L87+L135+L171+L207+L243+L292+L461+L498+L836+L928 -> 5846213.5 | ... O14: =O51+O87+O135+O171+O207+O243+O292+O461+O498+O836+O928 -> 5281448.8 | P14: =L14-#REF! -> #REF!
C15: областной бюджет | D15: =SUM(E15:O15) -> 16975485 | E15: =E52+E88+E136+E172+E208+E244+E293+E462+E499+E837+E929 -> 1080295.4 | F15: =F52+F88+F136+F172+F208+F244+F293+F462+F499+F837+F929 -> 1062934.1 | G15: =G52+G88+G136+G172+G208+G244+G293+G462+G499+G837+G929 -> 1037017.6 | H15: =H52+H88+H136+H172+H208+H244+H293+H462+H499+H837+H929 -> 1303576.7 | I15: =I52+I88+I136+I172+I208+I244+I293+I462+I499+I837+I929 -> 1238787.4 | J15: =J52+J88+J136+J172+J208+J244+J293+J462+J499+J837+J929 -> 1671770.6 | K15: =K52+K88+K136+K172+K208+K244+K293+K462+K499+K837+K929 -> 1509416.8 | L15: =L52+L88+L136+L172+L208+L244+L293+L462+L499+L837+L929 -> 2084340 | ... O15: =O52+O88+O136+O172+O208+O244+O293+O462+O499+O837+O929 -> 1959685.7 | P15: =L15-#REF! -> #REF!
C16: федеральный бюджет (прогнозно) | D16: =SUM(E16:O16) -> 1900516.1 | E16: =E53+E89+E137+E173+E209+E245+E294+E463+E500+E838+E930 -> 124730.6 | F16: =F53+F89+F137+F173+F209+F245+F294+F463+F500+F838+F930 -> 85429.9 | G16: =G53+G89+G137+G173+G209+G245+G294+G463+G500+G838+G930 -> 85122 | H16: =H53+H89+H137+H173+H209+H245+H294+H463+H500+H838+H930 -> 82605.4 | I16: =I53+I89+I137+I173+I209+I245+I294+I463+I500+I838+I930 -> 98984.6 | J16: =J53+J89+J137+J173+J209+J245+J294+J463+J500+J838+J930 -> 305987.9 | K16: =K53+K89+K137+K173+K209+K245+K294+K463+K500+K838+K930 -> 382966.8 | L16: =L53+L89+L137+L173+L209+L245+L294+L463+L500+L838+L930 -> 259967.5 | ... O16: =O53+O89+O137+O173+O209+O245+O294+O463+O500+O838+O930 -> 0 | P16: =L16-#REF! -> #REF!
C17: местные бюджеты (прогнозно) | D17: =SUM(E17:O17) -> 24940019 | E17: =E54+E90+E138+E174+E210+E246+E295+E464+E501+E839+E931 -> 3060342.7 | F17: =F54+F90+F138+F174+F210+F246+F295+F464+F501+F839+F931 -> 444154.1 | G17: =G54+G90+G138+G174+G210+G246+G295+G464+G501+G839+G931 -> 560801.7 | H17: =H54+H90+H138+H174+H210+H246+H295+H464+H501+H839+H931 -> 1003196.2 | I17: =I54+I90+I138+I174+I210+I246+I295+I464+I501+I839+I931 -> 2470568 | J17: =J54+J90+J138+J174+J210+J246+J295+J464+J501+J839+J931 -> 2720038.2 | K17: =K54+K90+K138+K174+K210+K246+K295+K464+K501+K839+K931 -> 2686542.1 | L17: =L54+L90+L138+L174+L210+L246+L295+L464+L501+L839+L931 -> 3136118.5 | ... O17: =O54+O90+O138+O174+O210+O246+O295+O464+O501+O839+O931 -> 2900521.3 | P17: =L17-#REF! -> #REF!
C18: внебюджетные источники (прогнозно) | D18: =SUM(E18:O18) -> 3514974.9 | E18: =E55+E91+E139+E175+E211+E247+E296+E465+E502+E840+E932 -> 170272 | F18: =F55+F91+F139+F175+F211+F247+F296+F465+F502+F840+F932 -> 172752.4 | G18: =G55+G91+G139+G175+G211+G247+G296+G465+G502+G840+G932 -> 178016.4 | H18: =H55+H91+H139+H175+H211+H247+H296+H465+H502+H840+H932 -> 305971.6 | I18: =I55+I91+I139+I175+I211+I247+I296+I465+I502+I840+I932 -> 470688.8 | J18: =J55+J91+J139+J175+J211+J247+J296+J465+J502+J840+J932 -> 363513.2 | K18: =K55+K91+K139+K175+K211+K247+K296+K465+K502+K840+K932 -> 281465.9 | L18: =L55+L91+L139+L175+L211+L247+L296+L465+L502+L840+L932 -> 365787.5 | ... O18: =O55+O91+O139+O175+O211+O247+O296+O465+O502+O840+O932 -> 421241.8 | P18: =L18-#REF! -> #REF!
C19: государственные внебюджетные фонды и иные безвозмездные поступления целевой направленности (прогнозно) | D19: =SUM(E19:O19) -> 218574.3 | E19: =E56+E92+E140+E176+E212+E248+E297+E466+E503+E841+E933 -> 0 | F19: =F56+F92+F140+F176+F212+F248+F297+F466+F503+F841+F933 -> 0 | G19: =G56+G92+G140+G176+G212+G248+G297+G466+G503+G841+G933 -> 0 | H19: =H56+H92+H140+H176+H212+H248+H297+H466+H503+H841+H933 -> 200000 | I19: =I56+I92+I140+I176+I212+I248+I297+I466+I503+I841+I933 -> 0 | J19: =J56+J92+J140+J176+J212+J248+J297+J466+J503+J841+J933 -> 18574.3 | K19: =K56+K92+K140+K176+K212+K248+K297+K466+K503+K841+K933 -> 0 | L19: =L56+L92+L140+L176+L212+L248+L297+L466+L503+L841+L933 -> 0 | ... O19: =O56+O92+O140+O176+O212+O248+O297+O466+O503+O841+O933 -> 0 | P19: =L19-#REF! -> #REF!
D20: =SUM(E20:O20) -> -2.0227162e-09 | E20: =E14-E15-E16-E17-E18-E19 -> -4.6566129e-10 | F20: =F14-F15-F16-F17-F18-F19 -> -5.8207661e-10 | G20: =G14-G15-G16-G17-G18-G19 -> 1.4551915e-10 | H20: =H14-H15-H16-H17-H18-H19 -> 0 | I20: =I14-I15-I16-I17-I18-I19 -> -1.7462298e-10 | J20: =J14-J15-J16-J17-J18-J19 -> 4.5110937e-10 | K20: =K14-K15-K16-K17-K18-K19 -> -1.1641532e-10 | L20: =L14-L15-L16-L17-L18-L19 -> 0 | ... O20: =O14-O15-O16-O17-O18-O19 -> -1.7462298e-10 | P20: =L20-#REF! -> #REF!
B21: управление делами Правительства области | C21: всего | D21: =SUM(E21:O21) -> 874431.2 | E21: =E443+E449+E455+E842+E940+E504 -> 53995 | F21: =F443+F449+F455+F842+F940+F504 -> 48924.7 | G21: =G443+G449+G455+G842+G940+G504 -> 53197.3 | H21: =H443+H449+H455+H842+H940+H504 -> 64193.3 | I21: =I443+I449+I455+I842+I940+I504 -> 58750.7 | J21: =J443+J449+J455+J842+J940+J504 -> 81348.3 | K21: =K443+K449+K455+K842+K940+K504 -> 99860.4 | L21: =L443+L449+L455+L842+L504 -> 103376 | M21: =M443+M449+M455+M842+M504 -> 103592.9 | N21: =N443+N449+N455+N842+N504 -> 103596.3 | O21: =O443+O449+O455+O842+O504 -> 103596.3 | P21: =L21-#REF! -> #REF!
C22: областной бюджет | D22: =SUM(E22:O22) -> 752196.8 | E22: =E444+E450+E456+E843+E941+E505 -> 44450.3 | F22: =F444+F450+F456+F843+F941+F505 -> 42074.8 | G22: =G444+G450+G456+G843+G941+G505 -> 43533.5 | H22: =H444+H450+H456+H843+H941+H505 -> 44998.2 | I22: =I444+I450+I456+I843+I941+I505 -> 46659.5 | J22: =J444+J450+J456+J843+J941+J505 -> 70918.2 | K22: =K444+K450+K456+K843+K941+K505 -> 85938.8 | L22: =L444+L450+L456+L843+L505 -> 93408.3 | M22: =M444+M450+M456+M843+M505 -> 93402.8 | N22: =N444+N450+N456+N843+N505 -> 93406.2 | O22: =O444+O450+O456+O843+O505 -> 93406.2 | P22: =L22-#REF! -> #REF!
C23: федеральный бюджет (прогнозно) | D23: =SUM(E23:O23) -> 16806.5 | E23: =E445+E451+E457+E844+E942+E506 -> 179.4 | F23: =F445+F451+F457+F844+F942+F506 -> 59.8 | G23: =G445+G451+G457+G844+G942+G506 -> 80.5 | H23: =H445+H451+H457+H844+H942+H506 -> 9505.3 | I23: =I445+I451+I457+I844+I942+I506 -> 2425.7 | J23: =J445+J451+J457+J844+J942+J506 -> 2367.4 | K23: =K445+K451+K457+K844+K942+K506 -> 2188.4 | L23: =L445+L451+L457+L844+L506 -> 0 | M23: =M445+M451+M457+M844+M506 -> 0 | N23: =N445+N451+N457+N844+N506 -> 0 | O23: =O445+O451+O457+O844+O506 -> 0 | P23: =L23-#REF! -> #REF!
C24: местные бюджеты (прогнозно) | D24: =SUM(E24:O24) -> 103867.9 | E24: =E446+E452+E458+E845+E943+E507 -> 9025.3 | F24: =F446+F452+F458+F845+F943+F507 -> 6187.1 | G24: =G446+G452+G458+G845+G943+G507 -> 8966.3 | H24: =H446+H452+H458+H845+H943+H507 -> 9689.8 | I24: =I446+I452+I458+I845+I943+I507 -> 9665.5 | J24: =J446+J452+J458+J845+J943+J507 -> 8062.7 | K24: =K446+K452+K458+K845+K943+K507 -> 11733.2 | L24: =L446+L452+L458+L845+L507 -> 9967.7 | M24: =M446+M452+M458+M845+M507 -> 10190.1 | N24: =N446+N452+N458+N845+N507 -> 10190.1 | O24: =O446+O452+O458+O845+O507 -> 10190.1 | P24: =L24-#REF! -> #REF!
C25: внебюджетные источники (прогнозно) | D25: =SUM(E25:O25) -> 1560 | E25: =E447+E453+E459+E846+E944+E508 -> 340 | F25: =F447+F453+F459+F846+F944+F508 -> 603 | G25: =G447+G453+G459+G846+G944+G508 -> 617 | H25: =H447+H453+H459+H846+H944+H508 -> 0 | I25: =I447+I453+I459+I846+I944+I508 -> 0 | J25: =J447+J453+J459+J846+J944+J508 -> 0 | K25: =K447+K453+K459+K846+K944+K508 -> 0 | L25: =L447+L453+L459+L846+L508 -> 0 | M25: =M447+M453+M459+M846+M508 -> 0 | N25: =N447+N453+N459+N846+N508 -> 0 | O25: =O447+O453+O459+O846+O508 -> 0 | P25: =L25-#REF! -> #REF!
C26: государственные внебюджетные фонды и иные безвозмездные поступления целевой направленности (прогнозно) | D26: =SUM(E26:O26) -> 0 | E26: =E448+E454+E460+E847+E945+E509 -> 0 | F26: =F448+F454+F460+F847+F945+F509 -> 0 | G26: =G448+G454+G460+G847+G945+G509 -> 0 | H26: =H448+H454+H460+H847+H945+H509 -> 0 | I26: =I448+I454+I460+I847+I945+I509 -> 0 | J26: =J448+J454+J460+J847+J945+J509 -> 0 | K26: =K448+K454+K460+K847+K945+K509 -> 0 | L26: =L448+L454+L460+L847+L509 -> 0 | M26: =M448+M454+M460+M847+M509 -> 0 | N26: =N448+N454+N460+N847+N509 -> 0 | O26: =O448+O454+O460+O847+O509 -> 0 | P26: =L26-#REF! -> #REF!
B27: комитет капитального строительства области, министерство строительства и жилищно-коммунального хозяйства области, государственное казенное учреждение Саратовской области "Управление капитального строительства" | C27: всего | D27: =SUM(E27:O27) -> 983629.5 | E27: =E510 -> 375684.5 | F27: =F510 -> 290527.3 | G27: =G510 -> 0 | H27: =H510 -> 847.7 | I27: =I510+I431 -> 151570 | J27: =J510+J431 -> 0 | K27: =K510+K431 -> 0 | L27: =L510+L431 -> 165000 | M27: =M510+M431 -> 0 | N27: =N510+N431 -> 0 | O27: =O510+O431 -> 0 | P27: =L27-#REF! -> #REF!
C28: областной бюджет | D28: =SUM(E28:O28) -> 288946.4 | E28: =E511 -> 75684.5 | F28: =F511 -> 25844.2 | G28: =G511 -> 0 | H28: =H511 -> 847.7 | I28: =I511+I432 -> 21570 | J28: =J511+J432 -> 0 | K28: =K511+K432 -> 0 | L28: =L511+L432 -> 165000 | M28: =M511+M432 -> 0 | N28: =N511+N432 -> 0 | O28: =O511+O432 -> 0 | P28: =L28-#REF! -> #REF!
C29: федеральный бюджет (прогнозно) | D29: =SUM(E29:O29) -> 694683.1 | E29: =E512 -> 300000 | F29: =F512 -> 264683.1 | G29: =G512 -> 0 | H29: =H512 -> 0 | I29: =I512+I433 -> 130000 | J29: =J512+J433 -> 0 | K29: =K512+K433 -> 0 | L29: =L512+L433 -> 0 | M29: =M512+M433 -> 0 | N29: =N512+N433 -> 0 | O29: =O512+O433 -> 0 | P29: =L29-#REF! -> #REF!
C30: местные бюджеты (прогнозно) | D30: =SUM(E30:O30) -> 0 | E30: =E513 -> 0 | F30: =F513 -> 0 | G30: =G513 -> 0 | H30: =H513 -> 0 | I30: =I513+I434 -> 0 | J30: =J513+J434 -> 0 | K30: =K513+K434 -> 0 | L30: =L513+L434 -> 0 | M30: =M513+M434 -> 0 | N30: =N513+N434 -> 0 | O30: =O513+O434 -> 0 | P30: =L30-#REF! -> #REF!
C31: внебюджетные источники (прогнозно) | D31: =SUM(E31:O31) -> 0 | E31: =E514 -> 0 | F31: =F514 -> 0 | G31: =G514 -> 0 | H31: =H514 -> 0 | I31: =I514+I435 -> 0 | J31: =J514+J435 -> 0 | K31: =K514+K435 -> 0 | L31: =L514+L435 -> 0 | M31: =M514+M435 -> 0 | N31: =N514+N435 -> 0 | O31: =O514+O435 -> 0 | P31: =L31-#REF! -> #REF!
C32: государственные внебюджетные фонды и иные безвозмездные поступления целевой направленности (прогнозно) | D32: =SUM(E32:O32) -> 0 | E32: =E515 -> 0 | F32: =F515 -> 0 | G32: =G515 -> 0 | H32: =H515 -> 0 | I32: =I515+I436 -> 0 | J32: =J515+J436 -> 0 | K32: =K515+K436 -> 0 | L32: =L515+L436 -> 0 | M32: =M515+M436 -> 0 | N32: =N515+N436 -> 0 | O32: =O515+O436 -> 0 | P32: =L32-#REF! -> #REF!
B33: управление по охране объектов культурного наследия Правительства области | C33: всего | D33: =SUM(E33:O33) -> 320564.2 | E33: =E298 -> 0 | F33: =F298 -> 3535.8 | G33: =G298 -> 13366.6 | H33: =H298 -> 13625.7 | I33: =I298 -> 20738.1 | J33: =J298 -> 38667.7 | K33: =K298 -> 31377.5 | L33: =L298 -> 64813.2 | ... O33: =O298 -> 44813.2 | P33: =L33-#REF! -> #REF!
C34: областной бюджет | D34: =SUM(E34:O34) -> 252386.7 | E34: =E299 -> 0 | F34: =F299 -> 2353.9 | G34: =G299 -> 7271 | H34: =H299 -> 7525.7 | I34: =I299 -> 14638.1 | J34: =J299 -> 22567.7 | K34: =K299 -> 23177.5 | L34: =L299 -> 58713.2 | ... O34: =O299 -> 38713.2 | P34: =L34-#REF! -> #REF!
C35: федеральный бюджет (прогнозно) | D35: =SUM(E35:O35) -> 0 | E35: =E300 -> 0 | F35: =F300 -> 0 | G35: =G300 -> 0 | H35: =H300 -> 0 | I35: =I300 -> 0 | J35: =J300 -> 0 | K35: =K300 -> 0 | L35: =L300 -> 0 | ... O35: =O300 -> 0 | P35: =L35-#REF! -> #REF!
C36: местные бюджеты (прогнозно) | D36: =SUM(E36:O36) -> 0 | E36: =E301 -> 0 | F36: =F301 -> 0 | G36: =G301 -> 0 | H36: =H301 -> 0 | I36: =I301 -> 0 | J36: =J301 -> 0 | K36: =K301 -> 0 | L36: =L301 -> 0 | ... O36: =O301 -> 0 | P36: =L36-#REF! -> #REF!
C37: внебюджетные источники (прогнозно) | D37: =SUM(E37:O37) -> 58177.5 | E37: =E302 -> 0 | F37: =F302 -> 1181.9 | G37: =G302 -> 6095.6 | H37: =H302 -> 6100 | I37: =I302 -> 6100 | J37: =J302 -> 6100 | K37: =K302 -> 8200 | L37: =L302 -> 6100 | ... O37: =O302 -> 6100 | P37: =L37-#REF! -> #REF!
C38: государственные внебюджетные фонды и иные безвозмездные поступления целевой направленности (прогнозно) | D38: =SUM(E38:O38) -> 10000 | E38: =E303 -> 0 | F38: =F303 -> 0 | G38: =G303 -> 0 | H38: =H303 -> 0 | I38: =I303 -> 0 | J38: =J303 -> 10000 | K38: =K303 -> 0 | L38: =L303 -> 0 | ... O38: =O303 -> 0 | P38: =L38-#REF! -> #REF!
B39: комитет по реализации инвестиционных проектов в строительстве области | C39: всего | D39: =SUM(E39:O39) -> 2020339.7 | E39: =E517 -> 0 | F39: =F517 -> 0 | G39: =G517 -> 0 | H39: =H517 -> 0 | I39: =I517 -> 0 | J39: =J517 -> 56958.5 | K39: =K517 -> 252271.3 | L39: =L517 -> 840493.8 | ... O39: =O517 -> 0 | P39: =L39-#REF! -> #REF!
C40: областной бюджет | D40: =SUM(E40:O40) -> 499253.7 | E40: =E518 -> 0 | F40: =F518 -> 0 | G40: =G518 -> 0 | H40: =H518 -> 0 | I40: =I518 -> 0 | J40: =J518 -> 13005.5 | K40: =K518 -> 62950.3 | L40: =L518 -> 306493.8 | ... O40: =O518 -> 0 | P40: =L40-#REF! -> #REF!
C41: федеральный бюджет (прогнозно) | D41: =SUM(E41:O41) -> 1477133 | E41: =E519 -> 0 | F41: =F519 -> 0 | G41: =G519 -> 0 | H41: =H519 -> 0 | I41: =I519 -> 0 | J41: =J519 -> 0 | K41: =K519 -> 189321 | L41: =L519 -> 534000 | ... O41: =O519 -> 0 | P41: =L41-#REF! -> #REF!
C42: местные бюджеты (прогнозно) | D42: =SUM(E42:O42) -> 0 | E42: =E520 -> 0 | F42: =F520 -> 0 | G42: =G520 -> 0 | H42: =H520 -> 0 | I42: =I520 -> 0 | J42: =J520 -> 0 | K42: =K520 -> 0 | L42: =L520 -> 0 | ... O42: =O520 -> 0 | P42: =L42-#REF! -> #REF!
C43: внебюджетные источники (прогнозно) | D43: =SUM(E43:O43) -> 0 | E43: =E521 -> 0 | F43: =F521 -> 0 | G43: =G521 -> 0 | H43: =H521 -> 0 | I43: =I521 -> 0 | J43: =J521 -> 0 | K43: =K521 -> 0 | L43: =L521 -> 0 | ... O43: =O521 -> 0 | P43: =L43-#REF! -> #REF!
C44: государственные внебюджетные фонды и иные безвозмездные поступления целевой направленности (прогнозно) | D44: =SUM(E44:O44) -> 43953 | E44: =E522 -> 0 | F44: =F522 -> 0 | G44: =G522 -> 0 | H44: =H522 -> 0 | I44: =I522 -> 0 | J44: =J522 -> 43953 | K44: =K522 -> 0 | L44: =L522 -> 0 | ... O44: =O522 -> 0 | P44: =L44-#REF! -> #REF!
B45: министерство внутренней политики и общественных отношений области | C45: всего | D45: =SUM(E45:O45) -> 1927.3 | E45: 0 | F45: 0 | G45: 0 | H45: 0 | I45: 0 | J45: 0 | K45: 0 | L45: =L940 -> 1927.3 | M45: =M940 -> 0 | N45: =N940 -> 0 | O45: =O940 -> 0 | P45: =L45-#REF! -> #REF!
C46: областной бюджет | D46: =SUM(E46:O46) -> 212 | E46: 0 | F46: 0 | G46: 0 | H46: 0 | I46: 0 | J46: 0 | K46: 0 | L46: =L941 -> 212 | M46: =M941 -> 0 | N46: =N941 -> 0 | O46: =O941 -> 0 | P46: =L46-#REF! -> #REF!
C47: федеральный бюджет (прогнозно) | D47: =SUM(E47:O47) -> 1715.3 | E47: 0 | F47: 0 | G47: 0 | H47: 0 | I47: 0 | J47: 0 | K47: 0 | L47: =L942 -> 1715.3 | M47: =M942 -> 0 | N47: =N942 -> 0 | O47: =O942 -> 0 | P47: =L47-#REF! -> #REF!
C48: местные бюджеты (прогнозно) | D48: =SUM(E48:O48) -> 0 | E48: 0 | F48: 0 | G48: 0 | H48: 0 | I48: 0 | J48: 0 | K48: 0 | L48: =L943 -> 0 | M48: =M943 -> 0 | N48: =N943 -> 0 | O48: =O943 -> 0 | P48: =L48-#REF! -> #REF!
C49: внебюджетные источники (прогнозно) | D49: =SUM(E49:O49) -> 0 | E49: 0 | F49: 0 | G49: 0 | H49: 0 | I49: 0 | J49: 0 | K49: 0 | L49: =L944 -> 0 | M49: =M944 -> 0 | N49: =N944 -> 0 | O49: =O944 -> 0 | P49: =L49-#REF! -> #REF!
C50: государственные внебюджетные фонды и иные безвозмездные поступления целевой направленности (прогнозно) | D50: =SUM(E50:O50) -> 0 | E50: 0 | F50: 0 | G50: 0 | H50: 0 | I50: 0 | J50: 0 | K50: 0 | L50: =L945 -> 0 | M50: =M945 -> 0 | N50: =N945 -> 0 | O50: =O945 -> 0 | P50: =L50-#REF! -> #REF!
A51: Подпрограмма 1 "Музеи" | C51: всего | D51: =SUM(E51:O51) -> 3074896.6 | E51: =E57+E63+E69+E75+E81 -> 1003594.2 | F51: =F57+F63+F69+F75+F81 -> 92934.2 | G51: =G57+G63+G69+G75+G81 -> 94181.4 | H51: =H57+H63+H69+H75+H81 -> 103736.2 | I51: =I57+I63+I69+I75+I81 -> 169506.2 | J51: =J57+J63+J69+J75+J81 -> 235463.3 | K51: =K57+K63+K69+K75+K81 -> 220908.6 | L51: =L57+L63+L69+L75+L81 -> 327230.4 | ... O51: =O57+O63+O69+O75+O81 -> 277007 | P51: =L51-#REF! -> #REF!
C52: областной бюджет | D52: =SUM(E52:O52) -> 1519480 | E52: =E58+E64+E70+E76+E82 -> 75475.2 | F52: =F58+F64+F70+F76+F82 -> 81558.7 | G52: =G58+G64+G70+G76+G82 -> 84020.8 | H52: =H58+H64+H70+H76+H82 -> 86216.2 | I52: =I58+I64+I70+I76+I82 -> 108424.6 | J52: =J58+J64+J70+J76+J82 -> 159758.5 | K52: =K58+K64+K70+K76+K82 -> 151943.2 | L52: =L58+L64+L70+L76+L82 -> 209785 | ... O52: =O58+O64+O70+O76+O82 -> 187432.6 | P52: =L52-#REF! -> #REF! | R52: 211022.4 | S52: =R52-L52 -> 1237.4
C53: федеральный бюджет (прогнозно) | D53: =SUM(E53:O53) -> 0 | E53: =E59+E65+E71+E77+E83 -> 0 | F53: =F59+F65+F71+F77+F83 -> 0 | G53: =G59+G65+G71+G77+G83 -> 0 | H53: =H59+H65+H71+H77+H83 -> 0 | I53: =I59+I65+I71+I77+I83 -> 0 | J53: =J59+J65+J71+J77+J83 -> 0 | K53: =K59+K65+K71+K77+K83 -> 0 | L53: =L59+L65+L71+L77+L83 -> 0 | ... O53: =O59+O65+O71+O77+O83 -> 0 | P53: =L53-#REF! -> #REF! | S53: =R53-L53 -> 0
C54: местные бюджеты (прогнозно) | D54: =SUM(E54:O54) -> 1388332.1 | E54: =E60+E66+E72+E78+E84 -> 918319 | F54: =F60+F66+F72+F78+F84 -> 1134.5 | G54: =G60+G66+G72+G78+G84 -> 1359 | H54: =H60+H66+H72+H78+H84 -> 7744.9 | I54: =I60+I66+I72+I78+I84 -> 48853.3 | J54: =J60+J66+J72+J78+J84 -> 55947.8 | K54: =K60+K66+K72+K78+K84 -> 57638.7 | L54: =L60+L66+L72+L78+L84 -> 97688.4 | ... O54: =O60+O66+O72+O78+O84 -> 66703.4 | P54: =L54-#REF! -> #REF!
C55: внебюджетные источники (прогнозно) | D55: =SUM(E55:O55) -> 167084.5 | E55: =E61+E67+E73+E79+E85 -> 9800 | F55: =F61+F67+F73+F79+F85 -> 10241 | G55: =G61+G67+G73+G79+G85 -> 8801.6 | H55: =H61+H67+H73+H79+H85 -> 9775.1 | I55: =I61+I67+I73+I79+I85 -> 12228.3 | J55: =J61+J67+J73+J79+J85 -> 19757 | K55: =K61+K67+K73+K79+K85 -> 11326.7 | L55: =L61+L67+L73+L79+L85 -> 19757 | ... O55: =O61+O67+O73+O79+O85 -> 22871 | P55: =L55-#REF! -> #REF!
D56: =SUM(E56:O56) -> 0 | E56: =E62+E68+E74+E80+E86 -> 0 | F56: =F62+F68+F74+F80+F86 -> 0 | G56: =G62+G68+G74+G80+G86 -> 0 | H56: =H62+H68+H74+H80+H86 -> 0 | I56: =I62+I68+I74+I80+I86 -> 0 | J56: =J62+J68+J74+J80+J86 -> 0 | K56: =K62+K68+K74+K80+K86 -> 0 | L56: =L62+L68+L74+L80+L86 -> 0 | ... O56: =O62+O68+O74+O80+O86 -> 0 | P56: =L56-#REF! -> #REF! | S56: =R56-L56 -> 0
A57: Основное мероприятие 1.1 "Оказание государственных услуг населению музеями" | B57: министерство культуры области, органы местного самоуправления (по согласованию) | C57: всего | D57: =SUM(E57:O57) -> 3024733.8 | E57: 997386.1 | F57: 91082.2 | G57: 92311.1 | H57: 102111.5 | I57: 165806.2 | J57: 229798.3 | K57: =K58+K59+K60+K61+K62 -> 218265.9 | L57: =L58+L59+L60+L61+L62 -> 320580.4 | M57: =M58+M59+M60+M61+M62 -> 267817.2 | N57: =N58+N59+N60+N61+N62 -> 269217.9 | O57: =O58+O59+O60+O61+O62 -> 270357 | P57: =L57-#REF! -> #REF!
C58: областной бюджет | D58: =SUM(E58:O58) -> 1469317.2 | E58: 69267.1 | F58: 79706.7 | G58: 82150.5 | H58: 84591.5 | I58: 104724.6 | J58: 154093.5 | K58: 149300.5 | L58: 203135 | M58: =180782.6 -> 180782.6 | N58: =180782.6 -> 180782.6 | O58: 180782.6 | P58: =L58-#REF! -> #REF! | R58: 204625.4 | S58: =R58-L58 -> 1490.4
C59: федеральный бюджет (прогнозно) | D59: =SUM(E59:O59) -> 0 | E59: 0 | F59: 0 | G59: 0 | H59: 0 | I59: 0 | J59: 0 | K59: 0 | L59: 0 | M59: 0 | N59: 0 | O59: 0 | P59: =L59-#REF! -> #REF! | S59: =R59-L59 -> 0
C60: местные бюджеты (прогнозно) | D60: =SUM(E60:O60) -> 1388332.1 | E60: 918319 | F60: 1134.5 | G60: 1359 | H60: 7744.9 | I60: 48853.3 | J60: 55947.8 | K60: 57638.7 | L60: 97688.4 | M60: 66289.8 | N60: 66653.3 | O60: 66703.4 | P60: =L60-#REF! -> #REF!
C61: внебюджетные источники (прогнозно) | D61: =SUM(E61:O61) -> 167084.5 | E61: 9800 | F61: 10241 | G61: 8801.6 | H61: 9775.1 | I61: 12228.3 | J61: 19757 | K61: 11326.7 | L61: 19757 | M61: 20744.8 | N61: 21782 | O61: 22871 | P61: =L61-#REF! -> #REF!
D62: =SUM(E62:O62) -> 0 | P62: =L62-#REF! -> #REF! | S62: =R62-L62 -> 0
A63: Основное мероприятие 1.2 "Обеспечение сохранности музейных предметов и музейных коллекций, находящихся в государственной собственности области" | B63: министерство культуры области | C63: всего | D63: =SUM(E63:O63) -> 2697.4 | E63: 870 | F63: 120 | G63: 48.4 | H63: 0 | I63: 184 | J63: 250 | K63: =K64+K65+K66+K67+K68 -> 225 | L63: =L64+L65+L66+L67+L68 -> 250 | M63: =M64+M65+M66+M67+M68 -> 250 | N63: =N64+N65+N66+N67+N68 -> 250 | O63: =O64+O65+O66+O67+O68 -> 250 | P63: =L63-#REF! -> #REF!
C64: областной бюджет | D64: =SUM(E64:O64) -> 2697.4 | E64: 870 | F64: 120 | G64: 48.4 | H64: 0 | I64: 184 | J64: 250 | K64: 225 | L64: =250 -> 250 | M64: 250 | N64: 250 | O64: 250 | P64: =L64-#REF! -> #REF! | R64: 250 | S64: =R64-L64 -> 0
C65: федеральный бюджет (прогнозно) | D65: =SUM(E65:O65) -> 0 | E65: 0 | F65: 0 | G65: 0 | H65: 0 | I65: 0 | J65: 0 | K65: 0 | L65: 0 | M65: 0 | N65: 0 | O65: 0 | P65: =L65-#REF! -> #REF! | S65: =R65-L65 -> 0
C66: местные бюджеты (прогнозно) | D66: =SUM(E66:O66) -> 0 | E66: 0 | F66: 0 | G66: 0 | H66: 0 | I66: 0 | J66: 0 | K66: 0 | L66: 0 | M66: 0 | N66: 0 | O66: 0 | P66: =L66-#REF! -> #REF! | S66: =R66-L66 -> 0
C67: внебюджетные источники (прогнозно) | D67: =SUM(E67:O67) -> 0 | E67: 0 | F67: 0 | G67: 0 | H67: 0 | I67: 0 | J67: 0 | K67: 0 | L67: 0 | M67: 0 | N67: 0 | O67: 0 | P67: =L67-#REF! -> #REF! | S67: =R67-L67 -> 0
D68: =SUM(E68:O68) -> 0 | P68: =L68-#REF! -> #REF! | S68: =R68-L68 -> 0
A69: Основное мероприятие 1.3 "Обеспечение пополнения и комплектования фондов областных музеев новыми уникальными экспонатами" | B69: министерство культуры области | C69: всего | D69: =SUM(E69:O69) -> 5040 | E69: 1720 | F69: 200 | G69: 200 | H69: 200 | I69: 360 | J69: 400 | K69: =K70+K71+K72+K73+K74 -> 360 | L69: =L70+L71+L72+L73+L74 -> 400 | M69: =M70+M71+M72+M73+M74 -> 400 | N69: =N70+N71+N72+N73+N74 -> 400 | O69: =O70+O71+O72+O73+O74 -> 400 | P69: =L69-#REF! -> #REF!
C70: областной бюджет | D70: =SUM(E70:O70) -> 5040 | E70: 1720 | F70: 200 | G70: 200 | H70: 200 | I70: 360 | J70: 400 | K70: 360 | L70: =400 -> 400 | M70: 400 | N70: 400 | O70: 400 | P70: =L70-#REF! -> #REF! | R70: 400 | S70: =R70-L70 -> 0
C71: федеральный бюджет (прогнозно) | D71: =SUM(E71:O71) -> 0 | E71: 0 | F71: 0 | G71: 0 | H71: 0 | I71: 0 | J71: 0 | K71: 0 | L71: 0 | M71: 0 | N71: 0 | O71: 0 | P71: =L71-#REF! -> #REF! | S71: =R71-L71 -> 0
C72: местные бюджеты (прогнозно) | D72: =SUM(E72:O72) -> 0 | E72: 0 | F72: 0 | G72: 0 | H72: 0 | I72: 0 | J72: 0 | K72: 0 | L72: 0 | M72: 0 | N72: 0 | O72: 0 | P72: =L72-#REF! -> #REF! | S72: =R72-L72 -> 0
C73: внебюджетные источники (прогнозно) | D73: =SUM(E73:O73) -> 0 | E73: 0 | F73: 0 | G73: 0 | H73: 0 | I73: 0 | J73: 0 | K73: 0 | L73: 0 | M73: 0 | N73: 0 | O73: 0 | P73: =L73-#REF! -> #REF! | S73: =R73-L73 -> 0
D74: =SUM(E74:O74) -> 0 | P74: =L74-#REF! -> #REF! | S74: =R74-L74 -> 0
A75: Основное мероприятие 1.4 "Организация и проведение выставочной деятельности музеев на территории Саратовской области, в субъектах Российской Федерации и в зарубежных странах" | B75: министерство культуры области | C75: всего | D75: =SUM(E75:O75) -> 26195.2 | E75: 3147.7 | F75: 1150 | G75: 1060.1 | H75: 874.7 | I75: 1760 | J75: 2845 | K75: =K76+K77+K78+K79+K80 -> 437.7 | L75: =L76+L77+L78+L79+L80 -> 3730 | M75: =M76+M77+M78+M79+M80 -> 3730 | N75: =N76+N77+N78+N79+N80 -> 3730 | O75: =O76+O77+O78+O79+O80 -> 3730 | P75: =L75-#REF! -> #REF!
C76: областной бюджет | D76: =SUM(E76:O76) -> 26195.2 | E76: 3147.7 | F76: 1150 | G76: 1060.1 | H76: 874.7 | I76: 1760 | J76: 2845 | K76: 437.7 | L76: =3730 -> 3730 | M76: 3730 | N76: 3730 | O76: 3730 | P76: =L76-#REF! -> #REF! | R76: 3477 | S76: =R76-L76 -> -253
C77: федеральный бюджет (прогнозно) | D77: =SUM(E77:O77) -> 0 | E77: 0 | F77: 0 | G77: 0 | H77: 0 | I77: 0 | J77: 0 | K77: 0 | L77: 0 | M77: 0 | N77: 0 | O77: 0 | P77: =L77-#REF! -> #REF! | S77: =R77-L77 -> 0
C78: местные бюджеты (прогнозно) | D78: =SUM(E78:O78) -> 0 | E78: 0 | F78: 0 | G78: 0 | H78: 0 | I78: 0 | J78: 0 | K78: 0 | L78: 0 | M78: 0 | N78: 0 | O78: 0 | P78: =L78-#REF! -> #REF! | S78: =R78-L78 -> 0
C79: внебюджетные источники (прогнозно) | D79: =SUM(E79:O79) -> 0 | E79: 0 | F79: 0 | G79: 0 | H79: 0 | I79: 0 | J79: 0 | K79: 0 | L79: 0 | M79: 0 | N79: 0 | O79: 0 | P79: =L79-#REF! -> #REF! | S79: =R79-L79 -> 0
D80: =SUM(E80:O80) -> 0 | P80: =L80-#REF! -> #REF! | S80: =R80-L80 -> 0
A81: Основное мероприятие 1.5 "Организация и проведение мероприятий по популяризации музейного дела" | B81: министерство культуры области | C81: всего | D81: =SUM(E81:O81) -> 16230.2 | E81: 470.4 | F81: 382 | G81: 561.8 | H81: 550 | I81: 1396 | J81: 2170 | K81: =K82+K83+K84+K85+K86 -> 1620 | L81: =L82+L83+L84+L85+L86 -> 2270 | M81: =M82+M83+M84+M85+M86 -> 2270 | N81: =N82+N83+N84+N85+N86 -> 2270 | O81: =O82+O83+O84+O85+O86 -> 2270 | P81: =L81-#REF! -> #REF!
C82: областной бюджет | D82: =SUM(E82:O82) -> 16230.2 | E82: 470.4 | F82: 382 | G82: 561.8 | H82: 550 | I82: 1396 | J82: 2170 | K82: 1620 | L82: =2270 -> 2270 | M82: 2270 | N82: 2270 | O82: 2270 | P82: =L82-#REF! -> #REF! | R82: 2270 | S82: =R82-L82 -> 0
C83: федеральный бюджет (прогнозно) | D83: =SUM(E83:O83) -> 0 | E83: 0 | F83: 0 | G83: 0 | H83: 0 | I83: 0 | J83: 0 | K83: 0 | L83: 0 | M83: 0 | N83: 0 | O83: 0 | P83: =L83-#REF! -> #REF!
C84: местные бюджеты (прогнозно) | D84: =SUM(E84:O84) -> 0 | E84: 0 | F84: 0 | G84: 0 | H84: 0 | I84: 0 | J84: 0 | K84: 0 | L84: 0 | M84: 0 | N84: 0 | O84: 0 | P84: =L84-#REF! -> #REF!
C85: внебюджетные источники (прогнозно) | D85: =SUM(E85:O85) -> 0 | E85: 0 | F85: 0 | G85: 0 | H85: 0 | I85: 0 | J85: 0 | K85: 0 | L85: 0 | M85: 0 | N85: 0 | O85: 0 | P85: =L85-#REF! -> #REF!
D86: =SUM(E86:O86) -> 0 | P86: =L86-#REF! -> #REF!
A87: Подпрограмма 2 "Театры" | C87: всего | D87: =SUM(E87:O87) -> 9038857.7 | E87: =E93+E99+E105+E111+E117+E123+E129 -> 1016732.6 | F87: =F93+F99+F105+F111+F117+F123+F129 -> 543564.6 | G87: =G93+G99+G105+G111+G117+G123+G129 -> 547495.6 | H87: =H93+H99+H105+H111+H117+H123+H129 -> 655973.1 | I87: =I93+I99+I105+I111+I117+I123+I129 -> 768697.2 | J87: =J93+J99+J105+J111+J117+J123+J129 -> 833247.3 | K87: =K93+K99+K105+K111+K117+K123+K129 -> 798647.6 | L87: =L93+L99+L105+L111+L117+L123+L129 -> 959716.4 | ... O87: =O93+O99+O105+O111+O117+O123+O129 -> 955754.4 | P87: =L87-#REF! -> #REF!
C88: областной бюджет | D88: =SUM(E88:O88) -> 4940558.1 | E88: =E94+E100+E106+E112+E118+E124+E130 -> 349952.6 | F88: =F94+F100+F106+F112+F118+F124+F130 -> 330822.8 | G88: =G94+G100+G106+G112+G118+G124+G130 -> 343017.9 | H88: =H94+H100+H106+H112+H118+H124+H130 -> 371699.3 | I88: =I94+I100+I106+I112+I118+I124+I130 -> 397538.7 | J88: =J94+J100+J106+J112+J118+J124+J130 -> 450879.6 | K88: =K94+K100+K106+K112+K118+K124+K130 -> 463454.3 | L88: =L94+L100+L106+L112+L118+L124+L130 -> 557007.8 | ... O88: =O94+O100+O106+O112+O118+O124+O130 -> 555317.1 | P88: =L88-#REF! -> #REF!
C89: федеральный бюджет (прогнозно) | D89: =SUM(E89:O89) -> 555233.6 | E89: =E95+E101+E107+E113+E119+E125+E131 -> 98579 | F89: =F95+F101+F107+F113+F119+F125+F131 -> 78300 | G89: =G95+G101+G107+G113+G119+G125+G131 -> 78300 | H89: =H95+H101+H107+H113+H119+H125+H131 -> 33348.1 | I89: =I95+I101+I107+I113+I119+I125+I131 -> 45658 | J89: =J95+J101+J107+J113+J119+J125+J131 -> 47296.5 | K89: =K95+K101+K107+K113+K119+K125+K131 -> 47191.7 | L89: =L95+L101+L107+L113+L119+L125+L131 -> 46708.6 | ... O89: =O95+O101+O107+O113+O119+O125+O131 -> 0 | P89: =L89-#REF! -> #REF!
C90: местные бюджеты (прогнозно) | D90: =SUM(E90:O90) -> 1156644.8 | E90: =E96+E102+E108+E114+E120+E126+E132 -> 459101 | F90: =F96+F102+F108+F114+F120+F126+F132 -> 20432.3 | G90: =G96+G102+G108+G114+G120+G126+G132 -> 19218.2 | H90: =H96+H102+H108+H114+H120+H126+H132 -> 18604 | I90: =I96+I102+I108+I114+I120+I126+I132 -> 76006.8 | J90: =J96+J102+J108+J114+J120+J126+J132 -> 75847.2 | K90: =K96+K102+K108+K114+K120+K126+K132 -> 89976.7 | L90: =L96+L102+L108+L114+L120+L126+L132 -> 96776 | ... O90: =O96+O102+O108+O114+O120+O126+O132 -> 100353.1 | P90: =L90-#REF! -> #REF!
C91: внебюджетные источники (прогнозно) | D91: =SUM(E91:O91) -> 2386421.2 | E91: =E97+E103+E109+E115+E121+E127+E133 -> 109100 | F91: =F97+F103+F109+F115+F121+F127+F133 -> 114009.5 | G91: =G97+G103+G109+G115+G121+G127+G133 -> 106959.5 | H91: =H97+H103+H109+H115+H121+H127+H133 -> 232321.7 | I91: =I97+I103+I109+I115+I121+I127+I133 -> 249493.7 | J91: =J97+J103+J109+J115+J121+J127+J133 -> 259224 | K91: =K97+K103+K109+K115+K121+K127+K133 -> 198024.9 | L91: =L97+L103+L109+L115+L121+L127+L133 -> 259224 | ... O91: =O97+O103+O109+O115+O121+O127+O133 -> 300084.2 | P91: =L91-#REF! -> #REF!
D92: =SUM(E92:O92) -> 0 | E92: =E98+E104+E110+E116+E122+E128+E134 -> 0 | F92: =F98+F104+F110+F116+F122+F128+F134 -> 0 | G92: =G98+G104+G110+G116+G122+G128+G134 -> 0 | H92: =H98+H104+H110+H116+H122+H128+H134 -> 0 | I92: =I98+I104+I110+I116+I122+I128+I134 -> 0 | J92: =J98+J104+J110+J116+J122+J128+J134 -> 0 | K92: =K98+K104+K110+K116+K122+K128+K134 -> 0 | L92: =L98+L104+L110+L116+L122+L128+L134 -> 0 | ... O92: =O98+O104+O110+O116+O122+O128+O134 -> 0 | P92: =L92-#REF! -> #REF!
A93: Основное мероприятие 2.1 "Оказание государственных услуг населению театрами" | B93: министерство культуры области, органы местного самоуправления (по согласованию) | C93: всего | D93: =SUM(E93:O93) -> 8533318.1 | E93: 998642.5 | F93: 536656.6 | G93: 537757.4 | H93: 610952.2 | I93: 704187 | J93: 766133.5 | K93: =K94+K95+K96+K97+K98 -> 736291.9 | L93: =L94+L95+L96+L97+L98 -> 885584.8 | M93: =M94+M95+M96+M97+M98 -> 905352 | N93: =N94+N95+N96+N97+N98 -> 918655.8 | O93: =O94+O95+O96+O97+O98 -> 933104.4 | P93: =L93-#REF! -> #REF!
C94: областной бюджет | D94: =SUM(E94:O94) -> 4735073.1 | E94: 331862.5 | F94: 323914.8 | G94: 333279.7 | H94: 360026.5 | I94: 378686.5 | J94: 431062.3 | K94: 448290.3 | L94: =529584.8 -> 529584.8 | M94: 533031.5 | N94: 532667.1 | O94: 532667.1 | P94: =L94-#REF! -> #REF! | Q94: суды
C95: федеральный бюджет (прогнозно) | D95: =SUM(E95:O95) -> 255179 | E95: 98579 | F95: 78300 | G95: 78300 | H95: 0 | I95: 0 | J95: 0 | K95: 0 | L95: 0 | M95: 0 | N95: 0 | O95: 0 | P95: =L95-#REF! -> #REF!
C96: местные бюджеты (прогнозно) | D96: =SUM(E96:O96) -> 1156644.8 | E96: 459101 | F96: 20432.3 | G96: 19218.2 | H96: 18604 | I96: 76006.8 | J96: 75847.2 | K96: 89976.7 | L96: 96776 | M96: 100135.3 | N96: 100194.2 | O96: 100353.1 | P96: =L96-#REF! -> #REF!
C97: внебюджетные источники (прогнозно) | D97: =SUM(E97:O97) -> 2386421.2 | E97: 109100 | F97: 114009.5 | G97: 106959.5 | H97: 232321.7 | I97: 249493.7 | J97: 259224 | K97: 198024.9 | L97: 259224 | M97: 272185.2 | N97: 285794.5 | O97: 300084.2 | P97: =L97-#REF! -> #REF!
D98: =SUM(E98:O98) -> 0 | P98: =L98-#REF! -> #REF!
A99: Основное мероприятие 2.2 "Создание новых спектаклей в областных театрах" | B99: министерство культуры области | C99: всего | D99: =SUM(E99:O99) -> 62646.5 | E99: 10078 | F99: 4500 | G99: 4344.8 | H99: 4663.7 | I99: 4460 | J99: 6450 | K99: =K100+K101+K102+K103+K104 -> 1350 | L99: =L100+L101+L102+L103+L104 -> 6700 | M99: =M100+M101+M102+M103+M104 -> 6700 | N99: =N100+N101+N102+N103+N104 -> 6700 | O99: =O100+O101+O102+O103+O104 -> 6700 | P99: =L99-#REF! -> #REF!
C100: областной бюджет | D100: =SUM(E100:O100) -> 62646.5 | E100: 10078 | F100: 4500 | G100: 4344.8 | H100: 4663.7 | I100: 4460 | J100: 6450 | K100: 1350 | L100: =6700 -> 6700 | M100: 6700 | N100: 6700 | O100: 6700 | P100: =L100-#REF! -> #REF!
C101: федеральный бюджет (прогнозно) | D101: =SUM(E101:O101) -> 0 | E101: 0 | F101: 0 | G101: 0 | H101: 0 | I101: 0 | J101: 0 | K101: 0 | L101: 0 | M101: 0 | N101: 0 | O101: 0 | P101: =L101-#REF! -> #REF!
C102: местные бюджеты (прогнозно) | D102: =SUM(E102:O102) -> 0 | E102: 0 | F102: 0 | G102: 0 | H102: 0 | I102: 0 | J102: 0 | K102: 0 | L102: 0 | M102: 0 | N102: 0 | O102: 0 | P102: =L102-#REF! -> #REF!
...

Sheet ВЕРНАЯ на АВГУСТ с доп 2021
A3: Наименование государственной программы, подпрограммы, ведомственной целевой программы, основного мероприятия | B3: Ответственный исполнитель, соисполнитель, участник государственной программы (соисполнитель подпрограммы), плательщик (далее - исполнитель) | C3: Источники финансового обеспечения | D3: Объемы финансового обеспечения всего, (тыс. рублей) | E3: В том числе по годам реализации
E4: 2014 | F4: 2015 | G4: 2016 | H4: 2017 | I4: 2018 | J4: 2019 | K4: 2020 | L4: 2021 | M4: 2022 | N4: 2023 | O4: 2024
A5: 1 | B5: 2 | C5: 3 | D5: 4 | E5: 5 | F5: 6 | G5: 7 | H5: 8 | I5: 9 | J5: 10 | K5: 11 | L5: 12 | M5: 13 | N5: 14 | O5: 15
A6: Государственная программа Саратовской области "Культура Саратовской области" | C6: всего | D6: =SUM(E6:O6) -> 51714598 | E6: =E14+E21+E27+E33+E39+E45 -> 4865320.2 | F6: =F14+F21+F27+F33+F39+F45 -> 2108258.3 | G6: =G14+G21+G27+G33+G39+G45 -> 1927521.6 | H6: =H14+H21+H27+H33+H39+H45 -> 2974016.6 | I6: =I14+I21+I27+I33+I39+I45 -> 4510087.6 | J6: =J14+J21+J27+J33+J39+J45 -> 5256858.7 | K6: =K14+K21+K27+K33+K39+K45 -> 5243900.8 | L6: =L14+L21+L27+L33+L39+L45 -> 6985960.9 | ... O6: =O14+O21+O27+O33+O39+O45 -> 5429858.3 | P6: =L6-#REF! -> #REF! | Q6: =P6-'ВЕРНАЯ на АВГУСТ'!P6 -> #REF!
C7: областной бюджет | D7: =SUM(E7:O7) -> 18765062 | E7: =E15+E22+E28+E34+E40+E46 -> 1200430.2 | F7: =F15+F22+F28+F34+F40+F46 -> 1133207 | G7: =G15+G22+G28+G34+G40+G46 -> 1087822.1 | H7: =H15+H22+H28+H34+H40+H46 -> 1356948.3 | I7: =I15+I22+I28+I34+I40+I46 -> 1321655 | J7: =J15+J22+J28+J34+J40+J46 -> 1778262 | K7: =K15+K22+K28+K34+K40+K46 -> 1681483.4 | L7: =L15+L22+L28+L34+L40+L46 -> 2704748.4 | ... O7: =O15+O22+O28+O34+O40+O46 -> 2091805.1 | P7: =L7-#REF! -> #REF! | Q7: =P7-'ВЕРНАЯ на АВГУСТ'!P7 -> #REF! | S7: 3447987.2
C8: федеральный бюджет (прогнозно) | D8: =SUM(E8:O8) -> 4058410 | E8: =E16+E23+E29+E35+E41+E47 -> 424910 | F8: =F16+F23+F29+F35+F41+F47 -> 350172.8 | G8: =G16+G23+G29+G35+G41+G47 -> 85202.5 | H8: =H16+H23+H29+H35+H41+H47 -> 92110.7 | I8: =I16+I23+I29+I35+I41+I47 -> 231410.3 | J8: =J16+J23+J29+J35+J41+J47 -> 308355.3 | K8: =K16+K23+K29+K35+K41+K47 -> 574476.2 | L8: =L16+L23+L29+L35+L41+L47 -> 763238.8 | ... O8: =O16+O23+O29+O35+O41+O47 -> 0 | P8: =L8-#REF! -> #REF! | Q8: =P8-'ВЕРНАЯ на АВГУСТ'!P8 -> #REF!
C9: местные бюджеты (прогнозно) | D9: =SUM(E9:O9) -> 25043887 | E9: =E17+E24+E30+E36+E42+E48 -> 3069368 | F9: =F17+F24+F30+F36+F42+F48 -> 450341.2 | G9: =G17+G24+G30+G36+G42+G48 -> 569768 | H9: =H17+H24+H30+H36+H42+H48 -> 1012886 | I9: =I17+I24+I30+I36+I42+I48 -> 2480233.5 | J9: =J17+J24+J30+J36+J42+J48 -> 2728100.9 | K9: =K17+K24+K30+K36+K42+K48 -> 2698275.3 | L9: =L17+L24+L30+L36+L42+L48 -> 3146086.2 | ... O9: =O17+O24+O30+O36+O42+O48 -> 2910711.4 | P9: =L9-#REF! -> #REF! | Q9: =P9-'ВЕРНАЯ на АВГУСТ'!P9 -> #REF!
C10: внебюджетные источники (прогнозно) | D10: =SUM(E10:O10) -> 3574712.4 | E10: =E18+E25+E31+E37+E43+E49 -> 170612 | F10: =F18+F25+F31+F37+F43+F49 -> 174537.3 | G10: =G18+G25+G31+G37+G43+G49 -> 184729 | H10: =H18+H25+H31+H37+H43+H49 -> 312071.6 | I10: =I18+I25+I31+I37+I43+I49 -> 476788.8 | J10: =J18+J25+J31+J37+J43+J49 -> 369613.2 | K10: =K18+K25+K31+K37+K43+K49 -> 289665.9 | L10: =L18+L25+L31+L37+L43+L49 -> 371887.5 | ... O10: =O18+O25+O31+O37+O43+O49 -> 427341.8 | P10: =L10-#REF! -> #REF! | Q10: =P10-'ВЕРНАЯ на АВГУСТ'!P10 -> #REF!
C11: государственные внебюджетные фонды и иные безвозмездные поступления целевой направленности (прогнозно) | D11: =SUM(E11:O11) -> 272527.3 | E11: =E19+E26+E32+E38+E44+E50 -> 0 | F11: =F19+F26+F32+F38+F44+F50 -> 0 | G11: =G19+G26+G32+G38+G44+G50 -> 0 | H11: =H19+H26+H32+H38+H44+H50 -> 200000 | I11: =I19+I26+I32+I38+I44+I50 -> 0 | J11: =J19+J26+J32+J38+J44+J50 -> 72527.3 | K11: =K19+K26+K32+K38+K44+K50 -> 0 | L11: =L19+L26+L32+L38+L44+L50 -> 0 | ... O11: =O19+O26+O32+O38+O44+O50 -> 0 | P11: =L11-#REF! -> #REF! | Q11: =P11-'ВЕРНАЯ на АВГУСТ'!P11 -> #REF!
P12: =L12-#REF! -> #REF! | Q12: =P12-'ВЕРНАЯ на АВГУСТ'!P12 -> #REF!
B13: в том числе по исполнителям: | P13: =L13-#REF! -> #REF! | Q13: =P13-'ВЕРНАЯ на АВГУСТ'!P13 -> #REF!
B14: министерство культуры области | C14: всего | D14: =SUM(E14:O14) -> 47513706 | E14: =E51+E87+E135+E171+E207+E243+E292+E461+E498+E836+E928 -> 4435640.7 | F14: =F51+F87+F135+F171+F207+F243+F292+F461+F498+F836+F928 -> 1765270.5 | G14: =G51+G87+G135+G171+G207+G243+G292+G461+G498+G836+G928 -> 1860957.7 | H14: =H51+H87+H135+H171+H207+H243+H292+H461+H498+H836+H928 -> 2895349.9 | I14: =I51+I87+I135+I171+I207+I243+I292+I461+I498+I836+I928 -> 4279028.8 | J14: =J51+J87+J135+J171+J207+J243+J292+J461+J498+J836+J928 -> 5079884.2 | K14: =K51+K87+K135+K171+K207+K243+K292+K461+K498+K836+K928 -> 4860391.6 | L14: =L51+L87+L135+L171+L207+L243+L292+L461+L498+L836+L928 -> 5810350.6 | ... O14: =O51+O87+O135+O171+O207+O243+O292+O461+O498+O836+O928 -> 5281448.8 | P14: =L14-#REF! -> #REF! | Q14: =P14-'ВЕРНАЯ на АВГУСТ'!P14 -> #REF! | R14: =P14-Q14 -> #REF!
C15: областной бюджет | D15: =SUM(E15:O15) -> 16972066 | E15: =E52+E88+E136+E172+E208+E244+E293+E462+E499+E837+E929 -> 1080295.4 | F15: =F52+F88+F136+F172+F208+F244+F293+F462+F499+F837+F929 -> 1062934.1 | G15: =G52+G88+G136+G172+G208+G244+G293+G462+G499+G837+G929 -> 1037017.6 | H15: =H52+H88+H136+H172+H208+H244+H293+H462+H499+H837+H929 -> 1303576.7 | I15: =I52+I88+I136+I172+I208+I244+I293+I462+I499+I837+I929 -> 1238787.4 | J15: =J52+J88+J136+J172+J208+J244+J293+J462+J499+J837+J929 -> 1671770.6 | K15: =K52+K88+K136+K172+K208+K244+K293+K462+K499+K837+K929 -> 1509416.8 | L15: =L52+L88+L136+L172+L208+L244+L293+L462+L499+L837+L929 -> 2080921.1 | ... O15: =O52+O88+O136+O172+O208+O244+O293+O462+O499+O837+O929 -> 1959685.7 | P15: =L15-#REF! -> #REF! | Q15: =P15-'ВЕРНАЯ на АВГУСТ'!P15 -> #REF!
C16: федеральный бюджет (прогнозно) | D16: =SUM(E16:O16) -> 1868072.1 | E16: =E53+E89+E137+E173+E209+E245+E294+E463+E500+E838+E930 -> 124730.6 | F16: =F53+F89+F137+F173+F209+F245+F294+F463+F500+F838+F930 -> 85429.9 | G16: =G53+G89+G137+G173+G209+G245+G294+G463+G500+G838+G930 -> 85122 | H16: =H53+H89+H137+H173+H209+H245+H294+H463+H500+H838+H930 -> 82605.4 | I16: =I53+I89+I137+I173+I209+I245+I294+I463+I500+I838+I930 -> 98984.6 | J16: =J53+J89+J137+J173+J209+J245+J294+J463+J500+J838+J930 -> 305987.9 | K16: =K53+K89+K137+K173+K209+K245+K294+K463+K500+K838+K930 -> 382966.8 | L16: =L53+L89+L137+L173+L209+L245+L294+L463+L500+L838+L930 -> 227523.5 | ... O16: =O53+O89+O137+O173+O209+O245+O294+O463+O500+O838+O930 -> 0 | P16: =L16-#REF! -> #REF! | Q16: =P16-'ВЕРНАЯ на АВГУСТ'!P16 -> #REF!
C17: местные бюджеты (прогнозно) | D17: =SUM(E17:O17) -> 24940019 | E17: =E54+E90+E138+E174+E210+E246+E295+E464+E501+E839+E931 -> 3060342.7 | F17: =F54+F90+F138+F174+F210+F246+F295+F464+F501+F839+F931 -> 444154.1 | G17: =G54+G90+G138+G174+G210+G246+G295+G464+G501+G839+G931 -> 560801.7 | H17: =H54+H90+H138+H174+H210+H246+H295+H464+H501+H839+H931 -> 1003196.2 | I17: =I54+I90+I138+I174+I210+I246+I295+I464+I501+I839+I931 -> 2470568 | J17: =J54+J90+J138+J174+J210+J246+J295+J464+J501+J839+J931 -> 2720038.2 | K17: =K54+K90+K138+K174+K210+K246+K295+K464+K501+K839+K931 -> 2686542.1 | L17: =L54+L90+L138+L174+L210+L246+L295+L464+L501+L839+L931 -> 3136118.5 | ... O17: =O54+O90+O138+O174+O210+O246+O295+O464+O501+O839+O931 -> 2900521.3 | P17: =L17-#REF! -> #REF! | Q17: =P17-'ВЕРНАЯ на АВГУСТ'!P17 -> #REF!
C18: внебюджетные источники (прогнозно) | D18: =SUM(E18:O18) -> 3514974.9 | E18: =E55+E91+E139+E175+E211+E247+E296+E465+E502+E840+E932 -> 170272 | F18: =F55+F91+F139+F175+F211+F247+F296+F465+F502+F840+F932 -> 172752.4 | G18: =G55+G91+G139+G175+G211+G247+G296+G465+G502+G840+G932 -> 178016.4 | H18: =H55+H91+H139+H175+H211+H247+H296+H465+H502+H840+H932 -> 305971.6 | I18: =I55+I91+I139+I175+I211+I247+I296+I465+I502+I840+I932 -> 470688.8 | J18: =J55+J91+J139+J175+J211+J247+J296+J465+J502+J840+J932 -> 363513.2 | K18: =K55+K91+K139+K175+K211+K247+K296+K465+K502+K840+K932 -> 281465.9 | L18: =L55+L91+L139+L175+L211+L247+L296+L465+L502+L840+L932 -> 365787.5 | ... O18: =O55+O91+O139+O175+O211+O247+O296+O465+O502+O840+O932 -> 421241.8 | P18: =L18-#REF! -> #REF! | Q18: =P18-'ВЕРНАЯ на АВГУСТ'!P18 -> #REF!
C19: государственные внебюджетные фонды и иные безвозмездные поступления целевой направленности (прогнозно) | D19: =SUM(E19:O19) -> 218574.3 | E19: =E56+E92+E140+E176+E212+E248+E297+E466+E503+E841+E933 -> 0 | F19: =F56+F92+F140+F176+F212+F248+F297+F466+F503+F841+F933 -> 0 | G19: =G56+G92+G140+G176+G212+G248+G297+G466+G503+G841+G933 -> 0 | H19: =H56+H92+H140+H176+H212+H248+H297+H466+H503+H841+H933 -> 200000 | I19: =I56+I92+I140+I176+I212+I248+I297+I466+I503+I841+I933 -> 0 | J19: =J56+J92+J140+J176+J212+J248+J297+J466+J503+J841+J933 -> 18574.3 | K19: =K56+K92+K140+K176+K212+K248+K297+K466+K503+K841+K933 -> 0 | L19: =L56+L92+L140+L176+L212+L248+L297+L466+L503+L841+L933 -> 0 | ... O19: =O56+O92+O140+O176+O212+O248+O297+O466+O503+O841+O933 -> 0 | P19: =L19-#REF! -> #REF! | Q19: =P19-'ВЕРНАЯ на АВГУСТ'!P19 -> #REF!
D20: =SUM(E20:O20) -> -1.5570549e-09 | E20: =E14-E15-E16-E17-E18-E19 -> -4.6566129e-10 | F20: =F14-F15-F16-F17-F18-F19 -> -5.8207661e-10 | G20: =G14-G15-G16-G17-G18-G19 -> 1.4551915e-10 | H20: =H14-H15-H16-H17-H18-H19 -> 0 | I20: =I14-I15-I16-I17-I18-I19 -> -1.7462298e-10 | J20: =J14-J15-J16-J17-J18-J19 -> 4.5110937e-10 | K20: =K14-K15-K16-K17-K18-K19 -> -1.1641532e-10 | L20: =L14-L15-L16-L17-L18-L19 -> 4.6566129e-10 | ... O20: =O14-O15-O16-O17-O18-O19 -> -1.7462298e-10 | P20: =L20-#REF! -> #REF! | Q20: =P20-'ВЕРНАЯ на АВГУСТ'!P20 -> #REF!
B21: управление делами Правительства области | C21: всего | D21: =SUM(E21:O21) -> 874431.2 | E21: =E443+E449+E455+E842+E940+E504 -> 53995 | F21: =F443+F449+F455+F842+F940+F504 -> 48924.7 | G21: =G443+G449+G455+G842+G940+G504 -> 53197.3 | H21: =H443+H449+H455+H842+H940+H504 -> 64193.3 | I21: =I443+I449+I455+I842+I940+I504 -> 58750.7 | J21: =J443+J449+J455+J842+J940+J504 -> 81348.3 | K21: =K443+K449+K455+K842+K940+K504 -> 99860.4 | L21: =L443+L449+L455+L842+L504 -> 103376 | M21: =M443+M449+M455+M842+M504 -> 103592.9 | N21: =N443+N449+N455+N842+N504 -> 103596.3 | O21: =O443+O449+O455+O842+O504 -> 103596.3 | P21: =L21-#REF! -> #REF! | Q21: =P21-'ВЕРНАЯ на АВГУСТ'!P21 -> #REF!
C22: областной бюджет | D22: =SUM(E22:O22) -> 752196.8 | E22: =E444+E450+E456+E843+E941+E505 -> 44450.3 | F22: =F444+F450+F456+F843+F941+F505 -> 42074.8 | G22: =G444+G450+G456+G843+G941+G505 -> 43533.5 | H22: =H444+H450+H456+H843+H941+H505 -> 44998.2 | I22: =I444+I450+I456+I843+I941+I505 -> 46659.5 | J22: =J444+J450+J456+J843+J941+J505 -> 70918.2 | K22: =K444+K450+K456+K843+K941+K505 -> 85938.8 | L22: =L444+L450+L456+L843+L505 -> 93408.3 | M22: =M444+M450+M456+M843+M505 -> 93402.8 | N22: =N444+N450+N456+N843+N505 -> 93406.2 | O22: =O444+O450+O456+O843+O505 -> 93406.2 | P22: =L22-#REF! -> #REF! | Q22: =P22-'ВЕРНАЯ на АВГУСТ'!P22 -> #REF!
C23: федеральный бюджет (прогнозно) | D23: =SUM(E23:O23) -> 16806.5 | E23: =E445+E451+E457+E844+E942+E506 -> 179.4 | F23: =F445+F451+F457+F844+F942+F506 -> 59.8 | G23: =G445+G451+G457+G844+G942+G506 -> 80.5 | H23: =H445+H451+H457+H844+H942+H506 -> 9505.3 | I23: =I445+I451+I457+I844+I942+I506 -> 2425.7 | J23: =J445+J451+J457+J844+J942+J506 -> 2367.4 | K23: =K445+K451+K457+K844+K942+K506 -> 2188.4 | L23: =L445+L451+L457+L844+L506 -> 0 | M23: =M445+M451+M457+M844+M506 -> 0 | N23: =N445+N451+N457+N844+N506 -> 0 | O23: =O445+O451+O457+O844+O506 -> 0 | P23: =L23-#REF! -> #REF! | Q23: =P23-'ВЕРНАЯ на АВГУСТ'!P23 -> #REF!
C24: местные бюджеты (прогнозно) | D24: =SUM(E24:O24) -> 103867.9 | E24: =E446+E452+E458+E845+E943+E507 -> 9025.3 | F24: =F446+F452+F458+F845+F943+F507 -> 6187.1 | G24: =G446+G452+G458+G845+G943+G507 -> 8966.3 | H24: =H446+H452+H458+H845+H943+H507 -> 9689.8 | I24: =I446+I452+I458+I845+I943+I507 -> 9665.5 | J24: =J446+J452+J458+J845+J943+J507 -> 8062.7 | K24: =K446+K452+K458+K845+K943+K507 -> 11733.2 | L24: =L446+L452+L458+L845+L507 -> 9967.7 | M24: =M446+M452+M458+M845+M507 -> 10190.1 | N24: =N446+N452+N458+N845+N507 -> 10190.1 | O24: =O446+O452+O458+O845+O507 -> 10190.1 | P24: =L24-#REF! -> #REF! | Q24: =P24-'ВЕРНАЯ на АВГУСТ'!P24 -> #REF!
C25: внебюджетные источники (прогнозно) | D25: =SUM(E25:O25) -> 1560 | E25: =E447+E453+E459+E846+E944+E508 -> 340 | F25: =F447+F453+F459+F846+F944+F508 -> 603 | G25: =G447+G453+G459+G846+G944+G508 -> 617 | H25: =H447+H453+H459+H846+H944+H508 -> 0 | I25: =I447+I453+I459+I846+I944+I508 -> 0 | J25: =J447+J453+J459+J846+J944+J508 -> 0 | K25: =K447+K453+K459+K846+K944+K508 -> 0 | L25: =L447+L453+L459+L846+L508 -> 0 | M25: =M447+M453+M459+M846+M508 -> 0 | N25: =N447+N453+N459+N846+N508 -> 0 | O25: =O447+O453+O459+O846+O508 -> 0 | P25: =L25-#REF! -> #REF! | Q25: =P25-'ВЕРНАЯ на АВГУСТ'!P25 -> #REF!
C26: государственные внебюджетные фонды и иные безвозмездные поступления целевой направленности (прогнозно) | D26: =SUM(E26:O26) -> 0 | E26: =E448+E454+E460+E847+E945+E509 -> 0 | F26: =F448+F454+F460+F847+F945+F509 -> 0 | G26: =G448+G454+G460+G847+G945+G509 -> 0 | H26: =H448+H454+H460+H847+H945+H509 -> 0 | I26: =I448+I454+I460+I847+I945+I509 -> 0 | J26: =J448+J454+J460+J847+J945+J509 -> 0 | K26: =K448+K454+K460+K847+K945+K509 -> 0 | L26: =L448+L454+L460+L847+L509 -> 0 | M26: =M448+M454+M460+M847+M509 -> 0 | N26: =N448+N454+N460+N847+N509 -> 0 | O26: =O448+O454+O460+O847+O509 -> 0 | P26: =L26-#REF! -> #REF! | Q26: =P26-'ВЕРНАЯ на АВГУСТ'!P26 -> #REF!
B27: комитет капитального строительства области, министерство строительства и жилищно-коммунального хозяйства области, государственное казенное учреждение Саратовской области "Управление капитального строительства" | C27: всего | D27: =SUM(E27:O27) -> 983629.5 | E27: =E510 -> 375684.5 | F27: =F510 -> 290527.3 | G27: =G510 -> 0 | H27: =H510 -> 847.7 | I27: =I510+I431 -> 151570 | J27: =J510+J431 -> 0 | K27: =K510+K431 -> 0 | L27: =L510+L431 -> 165000 | M27: =M510+M431 -> 0 | N27: =N510+N431 -> 0 | O27: =O510+O431 -> 0 | P27: =L27-#REF! -> #REF! | Q27: =P27-'ВЕРНАЯ на АВГУСТ'!P27 -> #REF! | S27: 983629.5
C28: областной бюджет | D28: =SUM(E28:O28) -> 288946.4 | E28: =E511 -> 75684.5 | F28: =F511 -> 25844.2 | G28: =G511 -> 0 | H28: =H511 -> 847.7 | I28: =I511+I432 -> 21570 | J28: =J511+J432 -> 0 | K28: =K511+K432 -> 0 | L28: =L511+L432 -> 165000 | M28: =M511+M432 -> 0 | N28: =N511+N432 -> 0 | O28: =O511+O432 -> 0 | P28: =L28-#REF! -> #REF! | Q28: =P28-'ВЕРНАЯ на АВГУСТ'!P28 -> #REF!
C29: федеральный бюджет (прогнозно) | D29: =SUM(E29:O29) -> 694683.1 | E29: =E512 -> 300000 | F29: =F512 -> 264683.1 | G29: =G512 -> 0 | H29: =H512 -> 0 | I29: =I512+I433 -> 130000 | J29: =J512+J433 -> 0 | K29: =K512+K433 -> 0 | L29: =L512+L433 -> 0 | M29: =M512+M433 -> 0 | N29: =N512+N433 -> 0 | O29: =O512+O433 -> 0 | P29: =L29-#REF! -> #REF! | Q29: =P29-'ВЕРНАЯ на АВГУСТ'!P29 -> #REF!
C30: местные бюджеты (прогнозно) | D30: =SUM(E30:O30) -> 0 | E30: =E513 -> 0 | F30: =F513 -> 0 | G30: =G513 -> 0 | H30: =H513 -> 0 | I30: =I513+I434 -> 0 | J30: =J513+J434 -> 0 | K30: =K513+K434 -> 0 | L30: =L513+L434 -> 0 | M30: =M513+M434 -> 0 | N30: =N513+N434 -> 0 | O30: =O513+O434 -> 0 | P30: =L30-#REF! -> #REF! | Q30: =P30-'ВЕРНАЯ на АВГУСТ'!P30 -> #REF!
C31: внебюджетные источники (прогнозно) | D31: =SUM(E31:O31) -> 0 | E31: =E514 -> 0 | F31: =F514 -> 0 | G31: =G514 -> 0 | H31: =H514 -> 0 | I31: =I514+I435 -> 0 | J31: =J514+J435 -> 0 | K31: =K514+K435 -> 0 | L31: =L514+L435 -> 0 | M31: =M514+M435 -> 0 | N31: =N514+N435 -> 0 | O31: =O514+O435 -> 0 | P31: =L31-#REF! -> #REF! | Q31: =P31-'ВЕРНАЯ на АВГУСТ'!P31 -> #REF!
C32: государственные внебюджетные фонды и иные безвозмездные поступления целевой направленности (прогнозно) | D32: =SUM(E32:O32) -> 0 | E32: =E515 -> 0 | F32: =F515 -> 0 | G32: =G515 -> 0 | H32: =H515 -> 0 | I32: =I515+I436 -> 0 | J32: =J515+J436 -> 0 | K32: =K515+K436 -> 0 | L32: =L515+L436 -> 0 | M32: =M515+M436 -> 0 | N32: =N515+N436 -> 0 | O32: =O515+O436 -> 0 | P32: =L32-#REF! -> #REF! | Q32: =P32-'ВЕРНАЯ на АВГУСТ'!P32 -> #REF!
B33: управление по охране объектов культурного наследия Правительства области | C33: всего | D33: =SUM(E33:O33) -> 320564.2 | E33: =E298 -> 0 | F33: =F298 -> 3535.8 | G33: =G298 -> 13366.6 | H33: =H298 -> 13625.7 | I33: =I298 -> 20738.1 | J33: =J298 -> 38667.7 | K33: =K298 -> 31377.5 | L33: =L298 -> 64813.2 | ... O33: =O298 -> 44813.2 | P33: =L33-#REF! -> #REF! | Q33: =P33-'ВЕРНАЯ на АВГУСТ'!P33 -> #REF!
C34: областной бюджет | D34: =SUM(E34:O34) -> 252386.7 | E34: =E299 -> 0 | F34: =F299 -> 2353.9 | G34: =G299 -> 7271 | H34: =H299 -> 7525.7 | I34: =I299 -> 14638.1 | J34: =J299 -> 22567.7 | K34: =K299 -> 23177.5 | L34: =L299 -> 58713.2 | ... O34: =O299 -> 38713.2 | P34: =L34-#REF! -> #REF! | Q34: =P34-'ВЕРНАЯ на АВГУСТ'!P34 -> #REF!
C35: федеральный бюджет (прогнозно) | D35: =SUM(E35:O35) -> 0 | E35: =E300 -> 0 | F35: =F300 -> 0 | G35: =G300 -> 0 | H35: =H300 -> 0 | I35: =I300 -> 0 | J35: =J300 -> 0 | K35: =K300 -> 0 | L35: =L300 -> 0 | ... O35: =O300 -> 0 | P35: =L35-#REF! -> #REF! | Q35: =P35-'ВЕРНАЯ на АВГУСТ'!P35 -> #REF!
C36: местные бюджеты (прогнозно) | D36: =SUM(E36:O36) -> 0 | E36: =E301 -> 0 | F36: =F301 -> 0 | G36: =G301 -> 0 | H36: =H301 -> 0 | I36: =I301 -> 0 | J36: =J301 -> 0 | K36: =K301 -> 0 | L36: =L301 -> 0 | ... O36: =O301 -> 0 | P36: =L36-#REF! -> #REF! | Q36: =P36-'ВЕРНАЯ на АВГУСТ'!P36 -> #REF!
C37: внебюджетные источники (прогнозно) | D37: =SUM(E37:O37) -> 58177.5 | E37: =E302 -> 0 | F37: =F302 -> 1181.9 | G37: =G302 -> 6095.6 | H37: =H302 -> 6100 | I37: =I302 -> 6100 | J37: =J302 -> 6100 | K37: =K302 -> 8200 | L37: =L302 -> 6100 | ... O37: =O302 -> 6100 | P37: =L37-#REF! -> #REF! | Q37: =P37-'ВЕРНАЯ на АВГУСТ'!P37 -> #REF!
C38: государственные внебюджетные фонды и иные безвозмездные поступления целевой направленности (прогнозно) | D38: =SUM(E38:O38) -> 10000 | E38: =E303 -> 0 | F38: =F303 -> 0 | G38: =G303 -> 0 | H38: =H303 -> 0 | I38: =I303 -> 0 | J38: =J303 -> 10000 | K38: =K303 -> 0 | L38: =L303 -> 0 | ... O38: =O303 -> 0 | P38: =L38-#REF! -> #REF! | Q38: =P38-'ВЕРНАЯ на АВГУСТ'!P38 -> #REF!
B39: комитет по реализации инвестиционных проектов в строительстве области | C39: всего | D39: =SUM(E39:O39) -> 2020339.7 | E39: =E517 -> 0 | F39: =F517 -> 0 | G39: =G517 -> 0 | H39: =H517 -> 0 | I39: =I517 -> 0 | J39: =J517 -> 56958.5 | K39: =K517 -> 252271.3 | L39: =L517 -> 840493.8 | ... O39: =O517 -> 0 | P39: =L39-#REF! -> #REF! | Q39: =P39-'ВЕРНАЯ на АВГУСТ'!P39 -> #REF!
C40: областной бюджет | D40: =SUM(E40:O40) -> 499253.7 | E40: =E518 -> 0 | F40: =F518 -> 0 | G40: =G518 -> 0 | H40: =H518 -> 0 | I40: =I518 -> 0 | J40: =J518 -> 13005.5 | K40: =K518 -> 62950.3 | L40: =L518 -> 306493.8 | ... O40: =O518 -> 0 | P40: =L40-#REF! -> #REF! | Q40: =P40-'ВЕРНАЯ на АВГУСТ'!P40 -> #REF!
C41: федеральный бюджет (прогнозно) | D41: =SUM(E41:O41) -> 1477133 | E41: =E519 -> 0 | F41: =F519 -> 0 | G41: =G519 -> 0 | H41: =H519 -> 0 | I41: =I519 -> 0 | J41: =J519 -> 0 | K41: =K519 -> 189321 | L41: =L519 -> 534000 | ... O41: =O519 -> 0 | P41: =L41-#REF! -> #REF! | Q41: =P41-'ВЕРНАЯ на АВГУСТ'!P41 -> #REF!
C42: местные бюджеты (прогнозно) | D42: =SUM(E42:O42) -> 0 | E42: =E520 -> 0 | F42: =F520 -> 0 | G42: =G520 -> 0 | H42: =H520 -> 0 | I42: =I520 -> 0 | J42: =J520 -> 0 | K42: =K520 -> 0 | L42: =L520 -> 0 | ... O42: =O520 -> 0 | P42: =L42-#REF! -> #REF! | Q42: =P42-'ВЕРНАЯ на АВГУСТ'!P42 -> #REF!
C43: внебюджетные источники (прогнозно) | D43: =SUM(E43:O43) -> 0 | E43: =E521 -> 0 | F43: =F521 -> 0 | G43: =G521 -> 0 | H43: =H521 -> 0 | I43: =I521 -> 0 | J43: =J521 -> 0 | K43: =K521 -> 0 | L43: =L521 -> 0 | ... O43: =O521 -> 0 | P43: =L43-#REF! -> #REF! | Q43: =P43-'ВЕРНАЯ на АВГУСТ'!P43 -> #REF!
C44: государственные внебюджетные фонды и иные безвозмездные поступления целевой направленности (прогнозно) | D44: =SUM(E44:O44) -> 43953 | E44: =E522 -> 0 | F44: =F522 -> 0 | G44: =G522 -> 0 | H44: =H522 -> 0 | I44: =I522 -> 0 | J44: =J522 -> 43953 | K44: =K522 -> 0 | L44: =L522 -> 0 | ... O44: =O522 -> 0 | P44: =L44-#REF! -> #REF! | Q44: =P44-'ВЕРНАЯ на АВГУСТ'!P44 -> #REF!
B45: министерство внутренней политики и общественных отношений области | C45: всего | D45: =SUM(E45:O45) -> 1927.3 | E45: 0 | F45: 0 | G45: 0 | H45: 0 | I45: 0 | J45: 0 | K45: 0 | L45: =L940 -> 1927.3 | M45: =M940 -> 0 | N45: =N940 -> 0 | O45: =O940 -> 0 | P45: =L45-#REF! -> #REF! | Q45: =P45-'ВЕРНАЯ на АВГУСТ'!P45 -> #REF!
C46: областной бюджет | D46: =SUM(E46:O46) -> 212 | E46: 0 | F46: 0 | G46: 0 | H46: 0 | I46: 0 | J46: 0 | K46: 0 | L46: =L941 -> 212 | M46: =M941 -> 0 | N46: =N941 -> 0 | O46: =O941 -> 0 | P46: =L46-#REF! -> #REF! | Q46: =P46-'ВЕРНАЯ на АВГУСТ'!P46 -> #REF!
C47: федеральный бюджет (прогнозно) | D47: =SUM(E47:O47) -> 1715.3 | E47: 0 | F47: 0 | G47: 0 | H47: 0 | I47: 0 | J47: 0 | K47: 0 | L47: =L942 -> 1715.3 | M47: =M942 -> 0 | N47: =N942 -> 0 | O47: =O942 -> 0 | P47: =L47-#REF! -> #REF! | Q47: =P47-'ВЕРНАЯ на АВГУСТ'!P47 -> #REF!
C48: местные бюджеты (прогнозно) | D48: =SUM(E48:O48) -> 0 | E48: 0 | F48: 0 | G48: 0 | H48: 0 | I48: 0 | J48: 0 | K48: 0 | L48: =L943 -> 0 | M48: =M943 -> 0 | N48: =N943 -> 0 | O48: =O943 -> 0 | P48: =L48-#REF! -> #REF! | Q48: =P48-'ВЕРНАЯ на АВГУСТ'!P48 -> #REF!
C49: внебюджетные источники (прогнозно) | D49: =SUM(E49:O49) -> 0 | E49: 0 | F49: 0 | G49: 0 | H49: 0 | I49: 0 | J49: 0 | K49: 0 | L49: =L944 -> 0 | M49: =M944 -> 0 | N49: =N944 -> 0 | O49: =O944 -> 0 | P49: =L49-#REF! -> #REF! | Q49: =P49-'ВЕРНАЯ на АВГУСТ'!P49 -> #REF!
C50: государственные внебюджетные фонды и иные безвозмездные поступления целевой направленности (прогнозно) | D50: =SUM(E50:O50) -> 0 | E50: 0 | F50: 0 | G50: 0 | H50: 0 | I50: 0 | J50: 0 | K50: 0 | L50: =L945 -> 0 | M50: =M945 -> 0 | N50: =N945 -> 0 | O50: =O945 -> 0 | P50: =L50-#REF! -> #REF! | Q50: =P50-'ВЕРНАЯ на АВГУСТ'!P50 -> #REF!
A51: Подпрограмма 1 "Музеи" | C51: всего | D51: =SUM(E51:O51) -> 3074896.6 | E51: =E57+E63+E69+E75+E81 -> 1003594.2 | F51: =F57+F63+F69+F75+F81 -> 92934.2 | G51: =G57+G63+G69+G75+G81 -> 94181.4 | H51: =H57+H63+H69+H75+H81 -> 103736.2 | I51: =I57+I63+I69+I75+I81 -> 169506.2 | J51: =J57+J63+J69+J75+J81 -> 235463.3 | K51: =K57+K63+K69+K75+K81 -> 220908.6 | L51: =L57+L63+L69+L75+L81 -> 327230.4 | ... O51: =O57+O63+O69+O75+O81 -> 277007 | P51: =L51-#REF! -> #REF! | Q51: =P51-'ВЕРНАЯ на АВГУСТ'!P51 -> #REF!
C52: областной бюджет | D52: =SUM(E52:O52) -> 1519480 | E52: =E58+E64+E70+E76+E82 -> 75475.2 | F52: =F58+F64+F70+F76+F82 -> 81558.7 | G52: =G58+G64+G70+G76+G82 -> 84020.8 | H52: =H58+H64+H70+H76+H82 -> 86216.2 | I52: =I58+I64+I70+I76+I82 -> 108424.6 | J52: =J58+J64+J70+J76+J82 -> 159758.5 | K52: =K58+K64+K70+K76+K82 -> 151943.2 | L52: =L58+L64+L70+L76+L82 -> 209785 | ... O52: =O58+O64+O70+O76+O82 -> 187432.6 | P52: =L52-#REF! -> #REF! | Q52: =P52-'ВЕРНАЯ на АВГУСТ'!P52 -> #REF!
C53: федеральный бюджет (прогнозно) | D53: =SUM(E53:O53) -> 0 | E53: =E59+E65+E71+E77+E83 -> 0 | F53: =F59+F65+F71+F77+F83 -> 0 | G53: =G59+G65+G71+G77+G83 -> 0 | H53: =H59+H65+H71+H77+H83 -> 0 | I53: =I59+I65+I71+I77+I83 -> 0 | J53: =J59+J65+J71+J77+J83 -> 0 | K53: =K59+K65+K71+K77+K83 -> 0 | L53: =L59+L65+L71+L77+L83 -> 0 | ... O53: =O59+O65+O71+O77+O83 -> 0 | P53: =L53-#REF! -> #REF! | Q53: =P53-'ВЕРНАЯ на АВГУСТ'!P53 -> #REF!
C54: местные бюджеты (прогнозно) | D54: =SUM(E54:O54) -> 1388332.1 | E54: =E60+E66+E72+E78+E84 -> 918319 | F54: =F60+F66+F72+F78+F84 -> 1134.5 | G54: =G60+G66+G72+G78+G84 -> 1359 | H54: =H60+H66+H72+H78+H84 -> 7744.9 | I54: =I60+I66+I72+I78+I84 -> 48853.3 | J54: =J60+J66+J72+J78+J84 -> 55947.8 | K54: =K60+K66+K72+K78+K84 -> 57638.7 | L54: =L60+L66+L72+L78+L84 -> 97688.4 | ... O54: =O60+O66+O72+O78+O84 -> 66703.4 | P54: =L54-#REF! -> #REF! | Q54: =P54-'ВЕРНАЯ на АВГУСТ'!P54 -> #REF!
C55: внебюджетные источники (прогнозно) | D55: =SUM(E55:O55) -> 167084.5 | E55: =E61+E67+E73+E79+E85 -> 9800 | F55: =F61+F67+F73+F79+F85 -> 10241 | G55: =G61+G67+G73+G79+G85 -> 8801.6 | H55: =H61+H67+H73+H79+H85 -> 9775.1 | I55: =I61+I67+I73+I79+I85 -> 12228.3 | J55: =J61+J67+J73+J79+J85 -> 19757 | K55: =K61+K67+K73+K79+K85 -> 11326.7 | L55: =L61+L67+L73+L79+L85 -> 19757 | ... O55: =O61+O67+O73+O79+O85 -> 22871 | P55: =L55-#REF! -> #REF! | Q55: =P55-'ВЕРНАЯ на АВГУСТ'!P55 -> #REF!
D56: =SUM(E56:O56) -> 0 | E56: =E62+E68+E74+E80+E86 -> 0 | F56: =F62+F68+F74+F80+F86 -> 0 | G56: =G62+G68+G74+G80+G86 -> 0 | H56: =H62+H68+H74+H80+H86 -> 0 | I56: =I62+I68+I74+I80+I86 -> 0 | J56: =J62+J68+J74+J80+J86 -> 0 | K56: =K62+K68+K74+K80+K86 -> 0 | L56: =L62+L68+L74+L80+L86 -> 0 | ... O56: =O62+O68+O74+O80+O86 -> 0 | P56: =L56-#REF! -> #REF! | Q56: =P56-'ВЕРНАЯ на АВГУСТ'!P56 -> #REF!
A57: Основное мероприятие 1.1 "Оказание государственных услуг населению музеями" | B57: министерство культуры области, органы местного самоуправления (по согласованию) | C57: всего | D57: =SUM(E57:O57) -> 3024733.8 | E57: 997386.1 | F57: 91082.2 | G57: 92311.1 | H57: 102111.5 | I57: 165806.2 | J57: 229798.3 | K57: =K58+K59+K60+K61+K62 -> 218265.9 | L57: =L58+L59+L60+L61+L62 -> 320580.4 | M57: =M58+M59+M60+M61+M62 -> 267817.2 | N57: =N58+N59+N60+N61+N62 -> 269217.9 | O57: =O58+O59+O60+O61+O62 -> 270357 | P57: =L57-#REF! -> #REF! | Q57: =P57-'ВЕРНАЯ на АВГУСТ'!P57 -> #REF!
C58: областной бюджет | D58: =SUM(E58:O58) -> 1469317.2 | E58: 69267.1 | F58: 79706.7 | G58: 82150.5 | H58: 84591.5 | I58: 104724.6 | J58: 154093.5 | K58: 149300.5 | L58: 203135 | M58: =180782.6 -> 180782.6 | N58: =180782.6 -> 180782.6 | O58: 180782.6 | P58: =L58-#REF! -> #REF! | Q58: =P58-'ВЕРНАЯ на АВГУСТ'!P58 -> #REF!
C59: федеральный бюджет (прогнозно) | D59: =SUM(E59:O59) -> 0 | E59: 0 | F59: 0 | G59: 0 | H59: 0 | I59: 0 | J59: 0 | K59: 0 | L59: 0 | M59: 0 | N59: 0 | O59: 0 | P59: =L59-#REF! -> #REF! | Q59: =P59-'ВЕРНАЯ на АВГУСТ'!P59 -> #REF!
C60: местные бюджеты (прогнозно) | D60: =SUM(E60:O60) -> 1388332.1 | E60: 918319 | F60: 1134.5 | G60: 1359 | H60: 7744.9 | I60: 48853.3 | J60: 55947.8 | K60: 57638.7 | L60: 97688.4 | M60: 66289.8 | N60: 66653.3 | O60: 66703.4 | P60: =L60-#REF! -> #REF! | Q60: =P60-'ВЕРНАЯ на АВГУСТ'!P60 -> #REF!
C61: внебюджетные источники (прогнозно) | D61: =SUM(E61:O61) -> 167084.5 | E61: 9800 | F61: 10241 | G61: 8801.6 | H61: 9775.1 | I61: 12228.3 | J61: 19757 | K61: 11326.7 | L61: 19757 | M61: 20744.8 | N61: 21782 | O61: 22871 | P61: =L61-#REF! -> #REF! | Q61: =P61-'ВЕРНАЯ на АВГУСТ'!P61 -> #REF!
D62: =SUM(E62:O62) -> 0 | P62: =L62-#REF! -> #REF! | Q62: =P62-'ВЕРНАЯ на АВГУСТ'!P62 -> #REF!
A63: Основное мероприятие 1.2 "Обеспечение сохранности музейных предметов и музейных коллекций, находящихся в государственной собственности области" | B63: министерство культуры области | C63: всего | D63: =SUM(E63:O63) -> 2697.4 | E63: 870 | F63: 120 | G63: 48.4 | H63: 0 | I63: 184 | J63: 250 | K63: =K64+K65+K66+K67+K68 -> 225 | L63: =L64+L65+L66+L67+L68 -> 250 | M63: =M64+M65+M66+M67+M68 -> 250 | N63: =N64+N65+N66+N67+N68 -> 250 | O63: =O64+O65+O66+O67+O68 -> 250 | P63: =L63-#REF! -> #REF! | Q63: =P63-'ВЕРНАЯ на АВГУСТ'!P63 -> #REF!
C64: областной бюджет | D64: =SUM(E64:O64) -> 2697.4 | E64: 870 | F64: 120 | G64: 48.4 | H64: 0 | I64: 184 | J64: 250 | K64: 225 | L64: =250 -> 250 | M64: 250 | N64: 250 | O64: 250 | P64: =L64-#REF! -> #REF! | Q64: =P64-'ВЕРНАЯ на АВГУСТ'!P64 -> #REF!
C65: федеральный бюджет (прогнозно) | D65: =SUM(E65:O65) -> 0 | E65: 0 | F65: 0 | G65: 0 | H65: 0 | I65: 0 | J65: 0 | K65: 0 | L65: 0 | M65: 0 | N65: 0 | O65: 0 | P65: =L65-#REF! -> #REF! | Q65: =P65-'ВЕРНАЯ на АВГУСТ'!P65 -> #REF!
C66: местные бюджеты (прогнозно) | D66: =SUM(E66:O66) -> 0 | E66: 0 | F66: 0 | G66: 0 | H66: 0 | I66: 0 | J66: 0 | K66: 0 | L66: 0 | M66: 0 | N66: 0 | O66: 0 | P66: =L66-#REF! -> #REF! | Q66: =P66-'ВЕРНАЯ на АВГУСТ'!P66 -> #REF!
C67: внебюджетные источники (прогнозно) | D67: =SUM(E67:O67) -> 0 | E67: 0 | F67: 0 | G67: 0 | H67: 0 | I67: 0 | J67: 0 | K67: 0 | L67: 0 | M67: 0 | N67: 0 | O67: 0 | P67: =L67-#REF! -> #REF! | Q67: =P67-'ВЕРНАЯ на АВГУСТ'!P67 -> #REF!
D68: =SUM(E68:O68) -> 0 | P68: =L68-#REF! -> #REF! | Q68: =P68-'ВЕРНАЯ на АВГУСТ'!P68 -> #REF!
A69: Основное мероприятие 1.3 "Обеспечение пополнения и комплектования фондов областных музеев новыми уникальными экспонатами" | B69: министерство культуры области | C69: всего | D69: =SUM(E69:O69) -> 5040 | E69: 1720 | F69: 200 | G69: 200 | H69: 200 | I69: 360 | J69: 400 | K69: =K70+K71+K72+K73+K74 -> 360 | L69: =L70+L71+L72+L73+L74 -> 400 | M69: =M70+M71+M72+M73+M74 -> 400 | N69: =N70+N71+N72+N73+N74 -> 400 | O69: =O70+O71+O72+O73+O74 -> 400 | P69: =L69-#REF! -> #REF! | Q69: =P69-'ВЕРНАЯ на АВГУСТ'!P69 -> #REF!
C70: областной бюджет | D70: =SUM(E70:O70) -> 5040 | E70: 1720 | F70: 200 | G70: 200 | H70: 200 | I70: 360 | J70: 400 | K70: 360 | L70: =400 -> 400 | M70: 400 | N70: 400 | O70: 400 | P70: =L70-#REF! -> #REF! | Q70: =P70-'ВЕРНАЯ на АВГУСТ'!P70 -> #REF!
C71: федеральный бюджет (прогнозно) | D71: =SUM(E71:O71) -> 0 | E71: 0 | F71: 0 | G71: 0 | H71: 0 | I71: 0 | J71: 0 | K71: 0 | L71: 0 | M71: 0 | N71: 0 | O71: 0 | P71: =L71-#REF! -> #REF! | Q71: =P71-'ВЕРНАЯ на АВГУСТ'!P71 -> #REF!
C72: местные бюджеты (прогнозно) | D72: =SUM(E72:O72) -> 0 | E72: 0 | F72: 0 | G72: 0 | H72: 0 | I72: 0 | J72: 0 | K72: 0 | L72: 0 | M72: 0 | N72: 0 | O72: 0 | P72: =L72-#REF! -> #REF! | Q72: =P72-'ВЕРНАЯ на АВГУСТ'!P72 -> #REF!
C73: внебюджетные источники (прогнозно) | D73: =SUM(E73:O73) -> 0 | E73: 0 | F73: 0 | G73: 0 | H73: 0 | I73: 0 | J73: 0 | K73: 0 | L73: 0 | M73: 0 | N73: 0 | O73: 0 | P73: =L73-#REF! -> #REF! | Q73: =P73-'ВЕРНАЯ на АВГУСТ'!P73 -> #REF!
D74: =SUM(E74:O74) -> 0 | P74: =L74-#REF! -> #REF! | Q74: =P74-'ВЕРНАЯ на АВГУСТ'!P74 -> #REF!
A75: Основное мероприятие 1.4 "Организация и проведение выставочной деятельности музеев на территории Саратовской области, в субъектах Российской Федерации и в зарубежных странах" | B75: министерство культуры области | C75: всего | D75: =SUM(E75:O75) -> 26195.2 | E75: 3147.7 | F75: 1150 | G75: 1060.1 | H75: 874.7 | I75: 1760 | J75: 2845 | K75: =K76+K77+K78+K79+K80 -> 437.7 | L75: =L76+L77+L78+L79+L80 -> 3730 | M75: =M76+M77+M78+M79+M80 -> 3730 | N75: =N76+N77+N78+N79+N80 -> 3730 | O75: =O76+O77+O78+O79+O80 -> 3730 | P75: =L75-#REF! -> #REF! | Q75: =P75-'ВЕРНАЯ на АВГУСТ'!P75 -> #REF!
C76: областной бюджет | D76: =SUM(E76:O76) -> 26195.2 | E76: 3147.7 | F76: 1150 | G76: 1060.1 | H76: 874.7 | I76: 1760 | J76: 2845 | K76: 437.7 | L76: =3730 -> 3730 | M76: 3730 | N76: 3730 | O76: 3730 | P76: =L76-#REF! -> #REF! | Q76: =P76-'ВЕРНАЯ на АВГУСТ'!P76 -> #REF!
C77: федеральный бюджет (прогнозно) | D77: =SUM(E77:O77) -> 0 | E77: 0 | F77: 0 | G77: 0 | H77: 0 | I77: 0 | J77: 0 | K77: 0 | L77: 0 | M77: 0 | N77: 0 | O77: 0 | P77: =L77-#REF! -> #REF! | Q77: =P77-'ВЕРНАЯ на АВГУСТ'!P77 -> #REF!
C78: местные бюджеты (прогнозно) | D78: =SUM(E78:O78) -> 0 | E78: 0 | F78: 0 | G78: 0 | H78: 0 | I78: 0 | J78: 0 | K78: 0 | L78: 0 | M78: 0 | N78: 0 | O78: 0 | P78: =L78-#REF! -> #REF! | Q78: =P78-'ВЕРНАЯ на АВГУСТ'!P78 -> #REF!
C79: внебюджетные источники (прогнозно) | D79: =SUM(E79:O79) -> 0 | E79: 0 | F79: 0 | G79: 0 | H79: 0 | I79: 0 | J79: 0 | K79: 0 | L79: 0 | M79: 0 | N79: 0 | O79: 0 | P79: =L79-#REF! -> #REF! | Q79: =P79-'ВЕРНАЯ на АВГУСТ'!P79 -> #REF!
D80: =SUM(E80:O80) -> 0 | P80: =L80-#REF! -> #REF! | Q80: =P80-'ВЕРНАЯ на АВГУСТ'!P80 -> #REF!
A81: Основное мероприятие 1.5 "Организация и проведение мероприятий по популяризации музейного дела" | B81: министерство культуры области | C81: всего | D81: =SUM(E81:O81) -> 16230.2 | E81: 470.4 | F81: 382 | G81: 561.8 | H81: 550 | I81: 1396 | J81: 2170 | K81: =K82+K83+K84+K85+K86 -> 1620 | L81: =L82+L83+L84+L85+L86 -> 2270 | M81: =M82+M83+M84+M85+M86 -> 2270 | N81: =N82+N83+N84+N85+N86 -> 2270 | O81: =O82+O83+O84+O85+O86 -> 2270 | P81: =L81-#REF! -> #REF! | Q81: =P81-'ВЕРНАЯ на АВГУСТ'!P81 -> #REF!
C82: областной бюджет | D82: =SUM(E82:O82) -> 16230.2 | E82: 470.4 | F82: 382 | G82: 561.8 | H82: 550 | I82: 1396 | J82: 2170 | K82: 1620 | L82: =2270 -> 2270 | M82: 2270 | N82: 2270 | O82: 2270 | P82: =L82-#REF! -> #REF! | Q82: =P82-'ВЕРНАЯ на АВГУСТ'!P82 -> #REF!
C83: федеральный бюджет (прогнозно) | D83: =SUM(E83:O83) -> 0 | E83: 0 | F83: 0 | G83: 0 | H83: 0 | I83: 0 | J83: 0 | K83: 0 | L83: 0 | M83: 0 | N83: 0 | O83: 0 | P83: =L83-#REF! -> #REF! | Q83: =P83-'ВЕРНАЯ на АВГУСТ'!P83 -> #REF!
C84: местные бюджеты (прогнозно) | D84: =SUM(E84:O84) -> 0 | E84: 0 | F84: 0 | G84: 0 | H84: 0 | I84: 0 | J84: 0 | K84: 0 | L84: 0 | M84: 0 | N84: 0 | O84: 0 | P84: =L84-#REF! -> #REF! | Q84: =P84-'ВЕРНАЯ на АВГУСТ'!P84 -> #REF!
C85: внебюджетные источники (прогнозно) | D85: =SUM(E85:O85) -> 0 | E85: 0 | F85: 0 | G85: 0 | H85: 0 | I85: 0 | J85: 0 | K85: 0 | L85: 0 | M85: 0 | N85: 0 | O85: 0 | P85: =L85-#REF! -> #REF! | Q85: =P85-'ВЕРНАЯ на АВГУСТ'!P85 -> #REF!
D86: =SUM(E86:O86) -> 0 | P86: =L86-#REF! -> #REF! | Q86: =P86-'ВЕРНАЯ на АВГУСТ'!P86 -> #REF!
A87: Подпрограмма 2 "Театры" | C87: всего | D87: =SUM(E87:O87) -> 9039005.7 | E87: =E93+E99+E105+E111+E117+E123+E129 -> 1016732.6 | F87: =F93+F99+F105+F111+F117+F123+F129 -> 543564.6 | G87: =G93+G99+G105+G111+G117+G123+G129 -> 547495.6 | H87: =H93+H99+H105+H111+H117+H123+H129 -> 655973.1 | I87: =I93+I99+I105+I111+I117+I123+I129 -> 768697.2 | J87: =J93+J99+J105+J111+J117+J123+J129 -> 833247.3 | K87: =K93+K99+K105+K111+K117+K123+K129 -> 798647.6 | L87: =L93+L99+L105+L111+L117+L123+L129 -> 959864.4 | ... O87: =O93+O99+O105+O111+O117+O123+O129 -> 955754.4 | P87: =L87-#REF! -> #REF! | Q87: =P87-'ВЕРНАЯ на АВГУСТ'!P87 -> #REF! | S87: 959864.4
C88: областной бюджет | D88: =SUM(E88:O88) -> 4941464.4 | E88: =E94+E100+E106+E112+E118+E124+E130 -> 349952.6 | F88: =F94+F100+F106+F112+F118+F124+F130 -> 330822.8 | G88: =G94+G100+G106+G112+G118+G124+G130 -> 343017.9 | H88: =H94+H100+H106+H112+H118+H124+H130 -> 371699.3 | I88: =I94+I100+I106+I112+I118+I124+I130 -> 397538.7 | J88: =J94+J100+J106+J112+J118+J124+J130 -> 450879.6 | K88: =K94+K100+K106+K112+K118+K124+K130 -> 463454.3 | L88: =L94+L100+L106+L112+L118+L124+L130 -> 557914.1 | ... O88: =O94+O100+O106+O112+O118+O124+O130 -> 555317.1 | P88: =L88-#REF! -> #REF! | Q88: =P88-'ВЕРНАЯ на АВГУСТ'!P88 -> #REF!
C89: федеральный бюджет (прогнозно) | D89: =SUM(E89:O89) -> 554475.3 | E89: =E95+E101+E107+E113+E119+E125+E131 -> 98579 | F89: =F95+F101+F107+F113+F119+F125+F131 -> 78300 | G89: =G95+G101+G107+G113+G119+G125+G131 -> 78300 | H89: =H95+H101+H107+H113+H119+H125+H131 -> 33348.1 | I89: =I95+I101+I107+I113+I119+I125+I131 -> 45658 | J89: =J95+J101+J107+J113+J119+J125+J131 -> 47296.5 | K89: =K95+K101+K107+K113+K119+K125+K131 -> 47191.7 | L89: =L95+L101+L107+L113+L119+L125+L131 -> 45950.3 | ... O89: =O95+O101+O107+O113+O119+O125+O131 -> 0 | P89: =L89-#REF! -> #REF! | Q89: =P89-'ВЕРНАЯ на АВГУСТ'!P89 -> #REF!
C90: местные бюджеты (прогнозно) | D90: =SUM(E90:O90) -> 1156644.8 | E90: =E96+E102+E108+E114+E120+E126+E132 -> 459101 | F90: =F96+F102+F108+F114+F120+F126+F132 -> 20432.3 | G90: =G96+G102+G108+G114+G120+G126+G132 -> 19218.2 | H90: =H96+H102+H108+H114+H120+H126+H132 -> 18604 | I90: =I96+I102+I108+I114+I120+I126+I132 -> 76006.8 | J90: =J96+J102+J108+J114+J120+J126+J132 -> 75847.2 | K90: =K96+K102+K108+K114+K120+K126+K132 -> 89976.7 | L90: =L96+L102+L108+L114+L120+L126+L132 -> 96776 | ... O90: =O96+O102+O108+O114+O120+O126+O132 -> 100353.1 | P90: =L90-#REF! -> #REF! | Q90: =P90-'ВЕРНАЯ на АВГУСТ'!P90 -> #REF!
C91: внебюджетные источники (прогнозно) | D91: =SUM(E91:O91) -> 2386421.2 | E91: =E97+E103+E109+E115+E121+E127+E133 -> 109100 | F91: =F97+F103+F109+F115+F121+F127+F133 -> 114009.5 | G91: =G97+G103+G109+G115+G121+G127+G133 -> 106959.5 | H91: =H97+H103+H109+H115+H121+H127+H133 -> 232321.7 | I91: =I97+I103+I109+I115+I121+I127+I133 -> 249493.7 | J91: =J97+J103+J109+J115+J121+J127+J133 -> 259224 | K91: =K97+K103+K109+K115+K121+K127+K133 -> 198024.9 | L91: =L97+L103+L109+L115+L121+L127+L133 -> 259224 | ... O91: =O97+O103+O109+O115+O121+O127+O133 -> 300084.2 | P91: =L91-#REF! -> #REF! | Q91: =P91-'ВЕРНАЯ на АВГУСТ'!P91 -> #REF!
D92: =SUM(E92:O92) -> 0 | E92: =E98+E104+E110+E116+E122+E128+E134 -> 0 | F92: =F98+F104+F110+F116+F122+F128+F134 -> 0 | G92: =G98+G104+G110+G116+G122+G128+G134 -> 0 | H92: =H98+H104+H110+H116+H122+H128+H134 -> 0 | I92: =I98+I104+I110+I116+I122+I128+I134 -> 0 | J92: =J98+J104+J110+J116+J122+J128+J134 -> 0 | K92: =K98+K104+K110+K116+K122+K128+K134 -> 0 | L92: =L98+L104+L110+L116+L122+L128+L134 -> 0 | ... O92: =O98+O104+O110+O116+O122+O128+O134 -> 0 | P92: =L92-#REF! -> #REF! | Q92: =P92-'ВЕРНАЯ на АВГУСТ'!P92 -> #REF!
A93: Основное мероприятие 2.1 "Оказание государственных услуг населению театрами" | B93: министерство культуры области, органы местного самоуправления (по согласованию) | C93: всего | D93: =SUM(E93:O93) -> 8533318.1 | E93: 998642.5 | F93: 536656.6 | G93: 537757.4 | H93: 610952.2 | I93: 704187 | J93: 766133.5 | K93: =K94+K95+K96+K97+K98 -> 736291.9 | L93: =L94+L95+L96+L97+L98 -> 885584.8 | M93: =M94+M95+M96+M97+M98 -> 905352 | N93: =N94+N95+N96+N97+N98 -> 918655.8 | O93: =O94+O95+O96+O97+O98 -> 933104.4 | P93: =L93-#REF! -> #REF! | Q93: =P93-'ВЕРНАЯ на АВГУСТ'!P93 -> #REF!
C94: областной бюджет | D94: =SUM(E94:O94) -> 4735073.1 | E94: 331862.5 | F94: 323914.8 | G94: 333279.7 | H94: 360026.5 | I94: 378686.5 | J94: 431062.3 | K94: 448290.3 | L94: =529584.8 -> 529584.8 | M94: 533031.5 | N94: 532667.1 | O94: 532667.1 | P94: =L94-#REF! -> #REF! | Q94: =P94-'ВЕРНАЯ на АВГУСТ'!P94 -> #REF!
C95: федеральный бюджет (прогнозно) | D95: =SUM(E95:O95) -> 255179 | E95: 98579 | F95: 78300 | G95: 78300 | H95: 0 | I95: 0 | J95: 0 | K95: 0 | L95: 0 | M95: 0 | N95: 0 | O95: 0 | P95: =L95-#REF! -> #REF! | Q95: =P95-'ВЕРНАЯ на АВГУСТ'!P95 -> #REF!
C96: местные бюджеты (прогнозно) | D96: =SUM(E96:O96) -> 1156644.8 | E96: 459101 | F96: 20432.3 | G96: 19218.2 | H96: 18604 | I96: 76006.8 | J96: 75847.2 | K96: 89976.7 | L96: 96776 | M96: 100135.3 | N96: 100194.2 | O96: 100353.1 | P96: =L96-#REF! -> #REF! | Q96: =P96-'ВЕРНАЯ на АВГУСТ'!P96 -> #REF!
C97: внебюджетные источники (прогнозно) | D97: =SUM(E97:O97) -> 2386421.2 | E97: 109100 | F97: 114009.5 | G97: 106959.5 | H97: 232321.7 | I97: 249493.7 | J97: 259224 | K97: 198024.9 | L97: 259224 | M97: 272185.2 | N97: 285794.5 | O97: 300084.2 | P97: =L97-#REF! -> #REF! | Q97: =P97-'ВЕРНАЯ на АВГУСТ'!P97 -> #REF!
D98: =SUM(E98:O98) -> 0 | P98: =L98-#REF! -> #REF! | Q98: =P98-'ВЕРНАЯ на АВГУСТ'!P98 -> #REF!
A99: Основное мероприятие 2.2 "Создание новых спектаклей в областных театрах" | B99: министерство культуры области | C99: всего | D99: =SUM(E99:O99) -> 62646.5 | E99: 10078 | F99: 4500 | G99: 4344.8 | H99: 4663.7 | I99: 4460 | J99: 6450 | K99: =K100+K101+K102+K103+K104 -> 1350 | L99: =L100+L101+L102+L103+L104 -> 6700 | M99: =M100+M101+M102+M103+M104 -> 6700 | N99: =N100+N101+N102+N103+N104 -> 6700 | O99: =O100+O101+O102+O103+O104 -> 6700 | P99: =L99-#REF! -> #REF! | Q99: =P99-'ВЕРНАЯ на АВГУСТ'!P99 -> #REF!
C100: областной бюджет | D100: =SUM(E100:O100) -> 62646.5 | E100: 10078 | F100: 4500 | G100: 4344.8 | H100: 4663.7 | I100: 4460 | J100: 6450 | K100: 1350 | L100: =6700 -> 6700 | M100: 6700 | N100: 6700 | O100: 6700 | P100: =L100-#REF! -> #REF! | Q100: =P100-'ВЕРНАЯ на АВГУСТ'!P100 -> #REF!
C101: федеральный бюджет (прогнозно) | D101: =SUM(E101:O101) -> 0 | E101: 0 | F101: 0 | G101: 0 | H101: 0 | I101: 0 | J101: 0 | K101: 0 | L101: 0 | M101: 0 | N101: 0 | O101: 0 | P101: =L101-#REF! -> #REF! | Q101: =P101-'ВЕРНАЯ на АВГУСТ'!P101 -> #REF!
C102: местные бюджеты (прогнозно) | D102: =SUM(E102:O102) -> 0 | E102: 0 | F102: 0 | G102: 0 | H102: 0 | I102: 0 | J102: 0 | K102: 0 | L102: 0 | M102: 0 | N102: 0 | O102: 0 | P102: =L102-#REF! -> #REF! | Q102: =P102-'ВЕРНАЯ на АВГУСТ'!P102 -> #REF!
...

Sheet ВЕРНАЯ на АВГУСТ+-30 млн
A3: Наименование государственной программы, подпрограммы, ведомственной целевой программы, основного мероприятия | B3: Ответственный исполнитель, соисполнитель, участник государственной программы (соисполнитель подпрограммы), плательщик (далее - исполнитель) | C3: Источники финансового обеспечения | D3: Объемы финансового обеспечения всего, (тыс. рублей) | E3: В том числе по годам реализации
E4: 2014 | F4: 2015 | G4: 2016 | H4: 2017 | I4: 2018 | J4: 2019 | K4: 2020 | L4: 2021 | M4: 2022 | N4: 2023 | O4: 2024
A5: 1 | B5: 2 | C5: 3 | D5: 4 | E5: 5 | F5: 6 | G5: 7 | H5: 8 | I5: 9 | J5: 10 | K5: 11 | L5: 12 | M5: 13 | N5: 14 | O5: 15 | U5: 6985960.9 | V5: 2704748.4
A6: Государственная программа Саратовской области "Культура Саратовской области" | C6: всего | D6: =SUM(E6:O6) -> 51714598 | E6: =E14+E21+E27+E33+E39+E45 -> 4865320.2 | F6: =F14+F21+F27+F33+F39+F45 -> 2108258.3 | G6: =G14+G21+G27+G33+G39+G45 -> 1927521.6 | H6: =H14+H21+H27+H33+H39+H45 -> 2974016.6 | I6: =I14+I21+I27+I33+I39+I45 -> 4510087.6 | J6: =J14+J21+J27+J33+J39+J45 -> 5256858.7 | K6: =K14+K21+K27+K33+K39+K45 -> 5243900.8 | L6: =L14+L21+L27+L33+L39+L45 -> 6985960.9 | ... O6: =O14+O21+O27+O33+O39+O45 -> 5429858.3 | P6: =L6-#REF! -> #REF! | Q6: =P6-'ВЕРНАЯ на АВГУСТ'!P6 -> #REF!
C7: областной бюджет | D7: =SUM(E7:O7) -> 18765062 | E7: =E15+E22+E28+E34+E40+E46 -> 1200430.2 | F7: =F15+F22+F28+F34+F40+F46 -> 1133207 | G7: =G15+G22+G28+G34+G40+G46 -> 1087822.1 | H7: =H15+H22+H28+H34+H40+H46 -> 1356948.3 | I7: =I15+I22+I28+I34+I40+I46 -> 1321655 | J7: =J15+J22+J28+J34+J40+J46 -> 1778262 | K7: =K15+K22+K28+K34+K40+K46 -> 1681483.4 | L7: =L15+L22+L28+L34+L40+L46 -> 2704748.4 | ... O7: =O15+O22+O28+O34+O40+O46 -> 2091805.1 | P7: =L7-#REF! -> #REF! | Q7: =P7-'ВЕРНАЯ на АВГУСТ'!P7 -> #REF! | S7: 3447987.2 | T7: =S7-Q7 -> #REF! | U7: 51714598 | V7: 18765062
C8: федеральный бюджет (прогнозно) | D8: =SUM(E8:O8) -> 4058410 | E8: =E16+E23+E29+E35+E41+E47 -> 424910 | F8: =F16+F23+F29+F35+F41+F47 -> 350172.8 | G8: =G16+G23+G29+G35+G41+G47 -> 85202.5 | H8: =H16+H23+H29+H35+H41+H47 -> 92110.7 | I8: =I16+I23+I29+I35+I41+I47 -> 231410.3 | J8: =J16+J23+J29+J35+J41+J47 -> 308355.3 | K8: =K16+K23+K29+K35+K41+K47 -> 574476.2 | L8: =L16+L23+L29+L35+L41+L47 -> 763238.8 | ... O8: =O16+O23+O29+O35+O41+O47 -> 0 | P8: =L8-#REF! -> #REF! | Q8: =P8-'ВЕРНАЯ на АВГУСТ'!P8 -> #REF!
C9: местные бюджеты (прогнозно) | D9: =SUM(E9:O9) -> 25043887 | E9: =E17+E24+E30+E36+E42+E48 -> 3069368 | F9: =F17+F24+F30+F36+F42+F48 -> 450341.2 | G9: =G17+G24+G30+G36+G42+G48 -> 569768 | H9: =H17+H24+H30+H36+H42+H48 -> 1012886 | I9: =I17+I24+I30+I36+I42+I48 -> 2480233.5 | J9: =J17+J24+J30+J36+J42+J48 -> 2728100.9 | K9: =K17+K24+K30+K36+K42+K48 -> 2698275.3 | L9: =L17+L24+L30+L36+L42+L48 -> 3146086.2 | ... O9: =O17+O24+O30+O36+O42+O48 -> 2910711.4 | P9: =L9-#REF! -> #REF! | Q9: =P9-'ВЕРНАЯ на АВГУСТ'!P9 -> #REF! | T9: 2704748.4
C10: внебюджетные источники (прогнозно) | D10: =SUM(E10:O10) -> 3574712.4 | E10: =E18+E25+E31+E37+E43+E49 -> 170612 | F10: =F18+F25+F31+F37+F43+F49 -> 174537.3 | G10: =G18+G25+G31+G37+G43+G49 -> 184729 | H10: =H18+H25+H31+H37+H43+H49 -> 312071.6 | I10: =I18+I25+I31+I37+I43+I49 -> 476788.8 | J10: =J18+J25+J31+J37+J43+J49 -> 369613.2 | K10: =K18+K25+K31+K37+K43+K49 -> 289665.9 | L10: =L18+L25+L31+L37+L43+L49 -> 371887.5 | ... O10: =O18+O25+O31+O37+O43+O49 -> 427341.8 | P10: =L10-#REF! -> #REF! | Q10: =P10-'ВЕРНАЯ на АВГУСТ'!P10 -> #REF!
C11: государственные внебюджетные фонды и иные безвозмездные поступления целевой направленности (прогнозно) | D11: =SUM(E11:O11) -> 272527.3 | E11: =E19+E26+E32+E38+E44+E50 -> 0 | F11: =F19+F26+F32+F38+F44+F50 -> 0 | G11: =G19+G26+G32+G38+G44+G50 -> 0 | H11: =H19+H26+H32+H38+H44+H50 -> 200000 | I11: =I19+I26+I32+I38+I44+I50 -> 0 | J11: =J19+J26+J32+J38+J44+J50 -> 72527.3 | K11: =K19+K26+K32+K38+K44+K50 -> 0 | L11: =L19+L26+L32+L38+L44+L50 -> 0 | ... O11: =O19+O26+O32+O38+O44+O50 -> 0 | P11: =L11-#REF! -> #REF! | Q11: =P11-'ВЕРНАЯ на АВГУСТ'!P11 -> #REF! | T11: 6985960.9
P12: =L12-#REF! -> #REF! | Q12: =P12-'ВЕРНАЯ на АВГУСТ'!P12 -> #REF!
B13: в том числе по исполнителям: | P13: =L13-#REF! -> #REF! | Q13: =P13-'ВЕРНАЯ на АВГУСТ'!P13 -> #REF!
B14: министерство культуры области | C14: всего | D14: =SUM(E14:O14) -> 47483706 | E14: =E51+E87+E135+E171+E207+E243+E292+E461+E498+E836+E928 -> 4435640.7 | F14: =F51+F87+F135+F171+F207+F243+F292+F461+F498+F836+F928 -> 1765270.5 | G14: =G51+G87+G135+G171+G207+G243+G292+G461+G498+G836+G928 -> 1860957.7 | H14: =H51+H87+H135+H171+H207+H243+H292+H461+H498+H836+H928 -> 2895349.9 | I14: =I51+I87+I135+I171+I207+I243+I292+I461+I498+I836+I928 -> 4279028.8 | J14: =J51+J87+J135+J171+J207+J243+J292+J461+J498+J836+J928 -> 5079884.2 | K14: =K51+K87+K135+K171+K207+K243+K292+K461+K498+K836+K928 -> 4860391.6 | L14: =L51+L87+L135+L171+L207+L243+L292+L461+L498+L836+L928 -> 5780350.6 | ... O14: =O51+O87+O135+O171+O207+O243+O292+O461+O498+O836+O928 -> 5281448.8 | P14: =L14-#REF! -> #REF! | Q14: =P14-'ВЕРНАЯ на АВГУСТ'!P14 -> #REF! | R14: =P14-Q14 -> #REF!
C15: областной бюджет | D15: =SUM(E15:O15) -> 16942066 | E15: =E52+E88+E136+E172+E208+E244+E293+E462+E499+E837+E929 -> 1080295.4 | F15: =F52+F88+F136+F172+F208+F244+F293+F462+F499+F837+F929 -> 1062934.1 | G15: =G52+G88+G136+G172+G208+G244+G293+G462+G499+G837+G929 -> 1037017.6 | H15: =H52+H88+H136+H172+H208+H244+H293+H462+H499+H837+H929 -> 1303576.7 | I15: =I52+I88+I136+I172+I208+I244+I293+I462+I499+I837+I929 -> 1238787.4 | J15: =J52+J88+J136+J172+J208+J244+J293+J462+J499+J837+J929 -> 1671770.6 | K15: =K52+K88+K136+K172+K208+K244+K293+K462+K499+K837+K929 -> 1509416.8 | L15: =L52+L88+L136+L172+L208+L244+L293+L462+L499+L837+L929 -> 2050921.1 | ... O15: =O52+O88+O136+O172+O208+O244+O293+O462+O499+O837+O929 -> 1959685.7 | P15: =L15-#REF! -> #REF! | Q15: =P15-'ВЕРНАЯ на АВГУСТ'!P15 -> #REF!
C16: федеральный бюджет (прогнозно) | D16: =SUM(E16:O16) -> 1868072.1 | E16: =E53+E89+E137+E173+E209+E245+E294+E463+E500+E838+E930 -> 124730.6 | F16: =F53+F89+F137+F173+F209+F245+F294+F463+F500+F838+F930 -> 85429.9 | G16: =G53+G89+G137+G173+G209+G245+G294+G463+G500+G838+G930 -> 85122 | H16: =H53+H89+H137+H173+H209+H245+H294+H463+H500+H838+H930 -> 82605.4 | I16: =I53+I89+I137+I173+I209+I245+I294+I463+I500+I838+I930 -> 98984.6 | J16: =J53+J89+J137+J173+J209+J245+J294+J463+J500+J838+J930 -> 305987.9 | K16: =K53+K89+K137+K173+K209+K245+K294+K463+K500+K838+K930 -> 382966.8 | L16: =L53+L89+L137+L173+L209+L245+L294+L463+L500+L838+L930 -> 227523.5 | ... O16: =O53+O89+O137+O173+O209+O245+O294+O463+O500+O838+O930 -> 0 | P16: =L16-#REF! -> #REF! | Q16: =P16-'ВЕРНАЯ на АВГУСТ'!P16 -> #REF!
C17: местные бюджеты (прогнозно) | D17: =SUM(E17:O17) -> 24940019 | E17: =E54+E90+E138+E174+E210+E246+E295+E464+E501+E839+E931 -> 3060342.7 | F17: =F54+F90+F138+F174+F210+F246+F295+F464+F501+F839+F931 -> 444154.1 | G17: =G54+G90+G138+G174+G210+G246+G295+G464+G501+G839+G931 -> 560801.7 | H17: =H54+H90+H138+H174+H210+H246+H295+H464+H501+H839+H931 -> 1003196.2 | I17: =I54+I90+I138+I174+I210+I246+I295+I464+I501+I839+I931 -> 2470568 | J17: =J54+J90+J138+J174+J210+J246+J295+J464+J501+J839+J931 -> 2720038.2 | K17: =K54+K90+K138+K174+K210+K246+K295+K464+K501+K839+K931 -> 2686542.1 | L17: =L54+L90+L138+L174+L210+L246+L295+L464+L501+L839+L931 -> 3136118.5 | ... O17: =O54+O90+O138+O174+O210+O246+O295+O464+O501+O839+O931 -> 2900521.3 | P17: =L17-#REF! -> #REF! | Q17: =P17-'ВЕРНАЯ на АВГУСТ'!P17 -> #REF!
C18: внебюджетные источники (прогнозно) | D18: =SUM(E18:O18) -> 3514974.9 | E18: =E55+E91+E139+E175+E211+E247+E296+E465+E502+E840+E932 -> 170272 | F18: =F55+F91+F139+F175+F211+F247+F296+F465+F502+F840+F932 -> 172752.4 | G18: =G55+G91+G139+G175+G211+G247+G296+G465+G502+G840+G932 -> 178016.4 | H18: =H55+H91+H139+H175+H211+H247+H296+H465+H502+H840+H932 -> 305971.6 | I18: =I55+I91+I139+I175+I211+I247+I296+I465+I502+I840+I932 -> 470688.8 | J18: =J55+J91+J139+J175+J211+J247+J296+J465+J502+J840+J932 -> 363513.2 | K18: =K55+K91+K139+K175+K211+K247+K296+K465+K502+K840+K932 -> 281465.9 | L18: =L55+L91+L139+L175+L211+L247+L296+L465+L502+L840+L932 -> 365787.5 | ... O18: =O55+O91+O139+O175+O211+O247+O296+O465+O502+O840+O932 -> 421241.8 | P18: =L18-#REF! -> #REF! | Q18: =P18-'ВЕРНАЯ на АВГУСТ'!P18 -> #REF!
C19: государственные внебюджетные фонды и иные безвозмездные поступления целевой направленности (прогнозно) | D19: =SUM(E19:O19) -> 218574.3 | E19: =E56+E92+E140+E176+E212+E248+E297+E466+E503+E841+E933 -> 0 | F19: =F56+F92+F140+F176+F212+F248+F297+F466+F503+F841+F933 -> 0 | G19: =G56+G92+G140+G176+G212+G248+G297+G466+G503+G841+G933 -> 0 | H19: =H56+H92+H140+H176+H212+H248+H297+H466+H503+H841+H933 -> 200000 | I19: =I56+I92+I140+I176+I212+I248+I297+I466+I503+I841+I933 -> 0 | J19: =J56+J92+J140+J176+J212+J248+J297+J466+J503+J841+J933 -> 18574.3 | K19: =K56+K92+K140+K176+K212+K248+K297+K466+K503+K841+K933 -> 0 | L19: =L56+L92+L140+L176+L212+L248+L297+L466+L503+L841+L933 -> 0 | ... O19: =O56+O92+O140+O176+O212+O248+O297+O466+O503+O841+O933 -> 0 | P19: =L19-#REF! -> #REF! | Q19: =P19-'ВЕРНАЯ на АВГУСТ'!P19 -> #REF!
D20: =SUM(E20:O20) -> -2.9540388e-09 | E20: =E14-E15-E16-E17-E18-E19 -> -4.6566129e-10 | F20: =F14-F15-F16-F17-F18-F19 -> -5.8207661e-10 | G20: =G14-G15-G16-G17-G18-G19 -> 1.4551915e-10 | H20: =H14-H15-H16-H17-H18-H19 -> 0 | I20: =I14-I15-I16-I17-I18-I19 -> -1.7462298e-10 | J20: =J14-J15-J16-J17-J18-J19 -> 4.5110937e-10 | K20: =K14-K15-K16-K17-K18-K19 -> -1.1641532e-10 | L20: =L14-L15-L16-L17-L18-L19 -> -9.3132257e-10 | ... O20: =O14-O15-O16-O17-O18-O19 -> -1.7462298e-10 | P20: =L20-#REF! -> #REF! | Q20: =P20-'ВЕРНАЯ на АВГУСТ'!P20 -> #REF!
B21: управление делами Правительства области | C21: всего | D21: =SUM(E21:O21) -> 874431.2 | E21: =E443+E449+E455+E842+E940+E504 -> 53995 | F21: =F443+F449+F455+F842+F940+F504 -> 48924.7 | G21: =G443+G449+G455+G842+G940+G504 -> 53197.3 | H21: =H443+H449+H455+H842+H940+H504 -> 64193.3 | I21: =I443+I449+I455+I842+I940+I504 -> 58750.7 | J21: =J443+J449+J455+J842+J940+J504 -> 81348.3 | K21: =K443+K449+K455+K842+K940+K504 -> 99860.4 | L21: =L443+L449+L455+L842+L504 -> 103376 | M21: =M443+M449+M455+M842+M504 -> 103592.9 | N21: =N443+N449+N455+N842+N504 -> 103596.3 | O21: =O443+O449+O455+O842+O504 -> 103596.3 | P21: =L21-#REF! -> #REF! | Q21: =P21-'ВЕРНАЯ на АВГУСТ'!P21 -> #REF!
C22: областной бюджет | D22: =SUM(E22:O22) -> 752196.8 | E22: =E444+E450+E456+E843+E941+E505 -> 44450.3 | F22: =F444+F450+F456+F843+F941+F505 -> 42074.8 | G22: =G444+G450+G456+G843+G941+G505 -> 43533.5 | H22: =H444+H450+H456+H843+H941+H505 -> 44998.2 | I22: =I444+I450+I456+I843+I941+I505 -> 46659.5 | J22: =J444+J450+J456+J843+J941+J505 -> 70918.2 | K22: =K444+K450+K456+K843+K941+K505 -> 85938.8 | L22: =L444+L450+L456+L843+L505 -> 93408.3 | M22: =M444+M450+M456+M843+M505 -> 93402.8 | N22: =N444+N450+N456+N843+N505 -> 93406.2 | O22: =O444+O450+O456+O843+O505 -> 93406.2 | P22: =L22-#REF! -> #REF! | Q22: =P22-'ВЕРНАЯ на АВГУСТ'!P22 -> #REF!
C23: федеральный бюджет (прогнозно) | D23: =SUM(E23:O23) -> 16806.5 | E23: =E445+E451+E457+E844+E942+E506 -> 179.4 | F23: =F445+F451+F457+F844+F942+F506 -> 59.8 | G23: =G445+G451+G457+G844+G942+G506 -> 80.5 | H23: =H445+H451+H457+H844+H942+H506 -> 9505.3 | I23: =I445+I451+I457+I844+I942+I506 -> 2425.7 | J23: =J445+J451+J457+J844+J942+J506 -> 2367.4 | K23: =K445+K451+K457+K844+K942+K506 -> 2188.4 | L23: =L445+L451+L457+L844+L506 -> 0 | M23: =M445+M451+M457+M844+M506 -> 0 | N23: =N445+N451+N457+N844+N506 -> 0 | O23: =O445+O451+O457+O844+O506 -> 0 | P23: =L23-#REF! -> #REF! | Q23: =P23-'ВЕРНАЯ на АВГУСТ'!P23 -> #REF!
C24: местные бюджеты (прогнозно) | D24: =SUM(E24:O24) -> 103867.9 | E24: =E446+E452+E458+E845+E943+E507 -> 9025.3 | F24: =F446+F452+F458+F845+F943+F507 -> 6187.1 | G24: =G446+G452+G458+G845+G943+G507 -> 8966.3 | H24: =H446+H452+H458+H845+H943+H507 -> 9689.8 | I24: =I446+I452+I458+I845+I943+I507 -> 9665.5 | J24: =J446+J452+J458+J845+J943+J507 -> 8062.7 | K24: =K446+K452+K458+K845+K943+K507 -> 11733.2 | L24: =L446+L452+L458+L845+L507 -> 9967.7 | M24: =M446+M452+M458+M845+M507 -> 10190.1 | N24: =N446+N452+N458+N845+N507 -> 10190.1 | O24: =O446+O452+O458+O845+O507 -> 10190.1 | P24: =L24-#REF! -> #REF! | Q24: =P24-'ВЕРНАЯ на АВГУСТ'!P24 -> #REF!
C25: внебюджетные источники (прогнозно) | D25: =SUM(E25:O25) -> 1560 | E25: =E447+E453+E459+E846+E944+E508 -> 340 | F25: =F447+F453+F459+F846+F944+F508 -> 603 | G25: =G447+G453+G459+G846+G944+G508 -> 617 | H25: =H447+H453+H459+H846+H944+H508 -> 0 | I25: =I447+I453+I459+I846+I944+I508 -> 0 | J25: =J447+J453+J459+J846+J944+J508 -> 0 | K25: =K447+K453+K459+K846+K944+K508 -> 0 | L25: =L447+L453+L459+L846+L508 -> 0 | M25: =M447+M453+M459+M846+M508 -> 0 | N25: =N447+N453+N459+N846+N508 -> 0 | O25: =O447+O453+O459+O846+O508 -> 0 | P25: =L25-#REF! -> #REF! | Q25: =P25-'ВЕРНАЯ на АВГУСТ'!P25 -> #REF!
C26: государственные внебюджетные фонды и иные безвозмездные поступления целевой направленности (прогнозно) | D26: =SUM(E26:O26) -> 0 | E26: =E448+E454+E460+E847+E945+E509 -> 0 | F26: =F448+F454+F460+F847+F945+F509 -> 0 | G26: =G448+G454+G460+G847+G945+G509 -> 0 | H26: =H448+H454+H460+H847+H945+H509 -> 0 | I26: =I448+I454+I460+I847+I945+I509 -> 0 | J26: =J448+J454+J460+J847+J945+J509 -> 0 | K26: =K448+K454+K460+K847+K945+K509 -> 0 | L26: =L448+L454+L460+L847+L509 -> 0 | M26: =M448+M454+M460+M847+M509 -> 0 | N26: =N448+N454+N460+N847+N509 -> 0 | O26: =O448+O454+O460+O847+O509 -> 0 | P26: =L26-#REF! -> #REF! | Q26: =P26-'ВЕРНАЯ на АВГУСТ'!P26 -> #REF!
B27: комитет капитального строительства области, министерство строительства и жилищно-коммунального хозяйства области, государственное казенное учреждение Саратовской области "Управление капитального строительства" | C27: всего | D27: =SUM(E27:O27) -> 983629.5 | E27: =E510 -> 375684.5 | F27: =F510 -> 290527.3 | G27: =G510 -> 0 | H27: =H510 -> 847.7 | I27: =I510+I431 -> 151570 | J27: =J510+J431 -> 0 | K27: =K510+K431 -> 0 | L27: =L510+L431 -> 165000 | M27: =M510+M431 -> 0 | N27: =N510+N431 -> 0 | O27: =O510+O431 -> 0 | P27: =L27-#REF! -> #REF! | Q27: =P27-'ВЕРНАЯ на АВГУСТ'!P27 -> #REF! | S27: 983629.5
C28: областной бюджет | D28: =SUM(E28:O28) -> 288946.4 | E28: =E511 -> 75684.5 | F28: =F511 -> 25844.2 | G28: =G511 -> 0 | H28: =H511 -> 847.7 | I28: =I511+I432 -> 21570 | J28: =J511+J432 -> 0 | K28: =K511+K432 -> 0 | L28: =L511+L432 -> 165000 | M28: =M511+M432 -> 0 | N28: =N511+N432 -> 0 | O28: =O511+O432 -> 0 | P28: =L28-#REF! -> #REF! | Q28: =P28-'ВЕРНАЯ на АВГУСТ'!P28 -> #REF!
C29: федеральный бюджет (прогнозно) | D29: =SUM(E29:O29) -> 694683.1 | E29: =E512 -> 300000 | F29: =F512 -> 264683.1 | G29: =G512 -> 0 | H29: =H512 -> 0 | I29: =I512+I433 -> 130000 | J29: =J512+J433 -> 0 | K29: =K512+K433 -> 0 | L29: =L512+L433 -> 0 | M29: =M512+M433 -> 0 | N29: =N512+N433 -> 0 | O29: =O512+O433 -> 0 | P29: =L29-#REF! -> #REF! | Q29: =P29-'ВЕРНАЯ на АВГУСТ'!P29 -> #REF!
C30: местные бюджеты (прогнозно) | D30: =SUM(E30:O30) -> 0 | E30: =E513 -> 0 | F30: =F513 -> 0 | G30: =G513 -> 0 | H30: =H513 -> 0 | I30: =I513+I434 -> 0 | J30: =J513+J434 -> 0 | K30: =K513+K434 -> 0 | L30: =L513+L434 -> 0 | M30: =M513+M434 -> 0 | N30: =N513+N434 -> 0 | O30: =O513+O434 -> 0 | P30: =L30-#REF! -> #REF! | Q30: =P30-'ВЕРНАЯ на АВГУСТ'!P30 -> #REF!
C31: внебюджетные источники (прогнозно) | D31: =SUM(E31:O31) -> 0 | E31: =E514 -> 0 | F31: =F514 -> 0 | G31: =G514 -> 0 | H31: =H514 -> 0 | I31: =I514+I435 -> 0 | J31: =J514+J435 -> 0 | K31: =K514+K435 -> 0 | L31: =L514+L435 -> 0 | M31: =M514+M435 -> 0 | N31: =N514+N435 -> 0 | O31: =O514+O435 -> 0 | P31: =L31-#REF! -> #REF! | Q31: =P31-'ВЕРНАЯ на АВГУСТ'!P31 -> #REF!
C32: государственные внебюджетные фонды и иные безвозмездные поступления целевой направленности (прогнозно) | D32: =SUM(E32:O32) -> 0 | E32: =E515 -> 0 | F32: =F515 -> 0 | G32: =G515 -> 0 | H32: =H515 -> 0 | I32: =I515+I436 -> 0 | J32: =J515+J436 -> 0 | K32: =K515+K436 -> 0 | L32: =L515+L436 -> 0 | M32: =M515+M436 -> 0 | N32: =N515+N436 -> 0 | O32: =O515+O436 -> 0 | P32: =L32-#REF! -> #REF! | Q32: =P32-'ВЕРНАЯ на АВГУСТ'!P32 -> #REF!
B33: управление по охране объектов культурного наследия Правительства области | C33: всего | D33: =SUM(E33:O33) -> 320564.2 | E33: =E298 -> 0 | F33: =F298 -> 3535.8 | G33: =G298 -> 13366.6 | H33: =H298 -> 13625.7 | I33: =I298 -> 20738.1 | J33: =J298 -> 38667.7 | K33: =K298 -> 31377.5 | L33: =L298 -> 64813.2 | ... O33: =O298 -> 44813.2 | P33: =L33-#REF! -> #REF! | Q33: =P33-'ВЕРНАЯ на АВГУСТ'!P33 -> #REF!
C34: областной бюджет | D34: =SUM(E34:O34) -> 252386.7 | E34: =E299 -> 0 | F34: =F299 -> 2353.9 | G34: =G299 -> 7271 | H34: =H299 -> 7525.7 | I34: =I299 -> 14638.1 | J34: =J299 -> 22567.7 | K34: =K299 -> 23177.5 | L34: =L299 -> 58713.2 | ... O34: =O299 -> 38713.2 | P34: =L34-#REF! -> #REF! | Q34: =P34-'ВЕРНАЯ на АВГУСТ'!P34 -> #REF!
C35: федеральный бюджет (прогнозно) | D35: =SUM(E35:O35) -> 0 | E35: =E300 -> 0 | F35: =F300 -> 0 | G35: =G300 -> 0 | H35: =H300 -> 0 | I35: =I300 -> 0 | J35: =J300 -> 0 | K35: =K300 -> 0 | L35: =L300 -> 0 | ... O35: =O300 -> 0 | P35: =L35-#REF! -> #REF! | Q35: =P35-'ВЕРНАЯ на АВГУСТ'!P35 -> #REF!
C36: местные бюджеты (прогнозно) | D36: =SUM(E36:O36) -> 0 | E36: =E301 -> 0 | F36: =F301 -> 0 | G36: =G301 -> 0 | H36: =H301 -> 0 | I36: =I301 -> 0 | J36: =J301 -> 0 | K36: =K301 -> 0 | L36: =L301 -> 0 | ... O36: =O301 -> 0 | P36: =L36-#REF! -> #REF! | Q36: =P36-'ВЕРНАЯ на АВГУСТ'!P36 -> #REF!
C37: внебюджетные источники (прогнозно) | D37: =SUM(E37:O37) -> 58177.5 | E37: =E302 -> 0 | F37: =F302 -> 1181.9 | G37: =G302 -> 6095.6 | H37: =H302 -> 6100 | I37: =I302 -> 6100 | J37: =J302 -> 6100 | K37: =K302 -> 8200 | L37: =L302 -> 6100 | ... O37: =O302 -> 6100 | P37: =L37-#REF! -> #REF! | Q37: =P37-'ВЕРНАЯ на АВГУСТ'!P37 -> #REF!
C38: государственные внебюджетные фонды и иные безвозмездные поступления целевой направленности (прогнозно) | D38: =SUM(E38:O38) -> 10000 | E38: =E303 -> 0 | F38: =F303 -> 0 | G38: =G303 -> 0 | H38: =H303 -> 0 | I38: =I303 -> 0 | J38: =J303 -> 10000 | K38: =K303 -> 0 | L38: =L303 -> 0 | ... O38: =O303 -> 0 | P38: =L38-#REF! -> #REF! | Q38: =P38-'ВЕРНАЯ на АВГУСТ'!P38 -> #REF!
B39: комитет по реализации инвестиционных проектов в строительстве области | C39: всего | D39: =SUM(E39:O39) -> 2050339.7 | E39: =E517 -> 0 | F39: =F517 -> 0 | G39: =G517 -> 0 | H39: =H517 -> 0 | I39: =I517 -> 0 | J39: =J517 -> 56958.5 | K39: =K517 -> 252271.3 | L39: =L517 -> 870493.8 | ... O39: =O517 -> 0 | P39: =L39-#REF! -> #REF! | Q39: =P39-'ВЕРНАЯ на АВГУСТ'!P39 -> #REF!
C40: областной бюджет | D40: =SUM(E40:O40) -> 529253.7 | E40: =E518 -> 0 | F40: =F518 -> 0 | G40: =G518 -> 0 | H40: =H518 -> 0 | I40: =I518 -> 0 | J40: =J518 -> 13005.5 | K40: =K518 -> 62950.3 | L40: =L518 -> 336493.8 | ... O40: =O518 -> 0 | P40: =L40-#REF! -> #REF! | Q40: =P40-'ВЕРНАЯ на АВГУСТ'!P40 -> #REF!
C41: федеральный бюджет (прогнозно) | D41: =SUM(E41:O41) -> 1477133 | E41: =E519 -> 0 | F41: =F519 -> 0 | G41: =G519 -> 0 | H41: =H519 -> 0 | I41: =I519 -> 0 | J41: =J519 -> 0 | K41: =K519 -> 189321 | L41: =L519 -> 534000 | ... O41: =O519 -> 0 | P41: =L41-#REF! -> #REF! | Q41: =P41-'ВЕРНАЯ на АВГУСТ'!P41 -> #REF!
C42: местные бюджеты (прогнозно) | D42: =SUM(E42:O42) -> 0 | E42: =E520 -> 0 | F42: =F520 -> 0 | G42: =G520 -> 0 | H42: =H520 -> 0 | I42: =I520 -> 0 | J42: =J520 -> 0 | K42: =K520 -> 0 | L42: =L520 -> 0 | ... O42: =O520 -> 0 | P42: =L42-#REF! -> #REF! | Q42: =P42-'ВЕРНАЯ на АВГУСТ'!P42 -> #REF!
C43: внебюджетные источники (прогнозно) | D43: =SUM(E43:O43) -> 0 | E43: =E521 -> 0 | F43: =F521 -> 0 | G43: =G521 -> 0 | H43: =H521 -> 0 | I43: =I521 -> 0 | J43: =J521 -> 0 | K43: =K521 -> 0 | L43: =L521 -> 0 | ... O43: =O521 -> 0 | P43: =L43-#REF! -> #REF! | Q43: =P43-'ВЕРНАЯ на АВГУСТ'!P43 -> #REF!
C44: государственные внебюджетные фонды и иные безвозмездные поступления целевой направленности (прогнозно) | D44: =SUM(E44:O44) -> 43953 | E44: =E522 -> 0 | F44: =F522 -> 0 | G44: =G522 -> 0 | H44: =H522 -> 0 | I44: =I522 -> 0 | J44: =J522 -> 43953 | K44: =K522 -> 0 | L44: =L522 -> 0 | ... O44: =O522 -> 0 | P44: =L44-#REF! -> #REF! | Q44: =P44-'ВЕРНАЯ на АВГУСТ'!P44 -> #REF!
B45: министерство внутренней политики и общественных отношений области | C45: всего | D45: =SUM(E45:O45) -> 1927.3 | E45: 0 | F45: 0 | G45: 0 | H45: 0 | I45: 0 | J45: 0 | K45: 0 | L45: =L940 -> 1927.3 | M45: =M940 -> 0 | N45: =N940 -> 0 | O45: =O940 -> 0 | P45: =L45-#REF! -> #REF! | Q45: =P45-'ВЕРНАЯ на АВГУСТ'!P45 -> #REF!
C46: областной бюджет | D46: =SUM(E46:O46) -> 212 | E46: 0 | F46: 0 | G46: 0 | H46: 0 | I46: 0 | J46: 0 | K46: 0 | L46: =L941 -> 212 | M46: =M941 -> 0 | N46: =N941 -> 0 | O46: =O941 -> 0 | P46: =L46-#REF! -> #REF! | Q46: =P46-'ВЕРНАЯ на АВГУСТ'!P46 -> #REF!
C47: федеральный бюджет (прогнозно) | D47: =SUM(E47:O47) -> 1715.3 | E47: 0 | F47: 0 | G47: 0 | H47: 0 | I47: 0 | J47: 0 | K47: 0 | L47: =L942 -> 1715.3 | M47: =M942 -> 0 | N47: =N942 -> 0 | O47: =O942 -> 0 | P47: =L47-#REF! -> #REF! | Q47: =P47-'ВЕРНАЯ на АВГУСТ'!P47 -> #REF!
C48: местные бюджеты (прогнозно) | D48: =SUM(E48:O48) -> 0 | E48: 0 | F48: 0 | G48: 0 | H48: 0 | I48: 0 | J48: 0 | K48: 0 | L48: =L943 -> 0 | M48: =M943 -> 0 | N48: =N943 -> 0 | O48: =O943 -> 0 | P48: =L48-#REF! -> #REF! | Q48: =P48-'ВЕРНАЯ на АВГУСТ'!P48 -> #REF!
C49: внебюджетные источники (прогнозно) | D49: =SUM(E49:O49) -> 0 | E49: 0 | F49: 0 | G49: 0 | H49: 0 | I49: 0 | J49: 0 | K49: 0 | L49: =L944 -> 0 | M49: =M944 -> 0 | N49: =N944 -> 0 | O49: =O944 -> 0 | P49: =L49-#REF! -> #REF! | Q49: =P49-'ВЕРНАЯ на АВГУСТ'!P49 -> #REF!
C50: государственные внебюджетные фонды и иные безвозмездные поступления целевой направленности (прогнозно) | D50: =SUM(E50:O50) -> 0 | E50: 0 | F50: 0 | G50: 0 | H50: 0 | I50: 0 | J50: 0 | K50: 0 | L50: =L945 -> 0 | M50: =M945 -> 0 | N50: =N945 -> 0 | O50: =O945 -> 0 | P50: =L50-#REF! -> #REF! | Q50: =P50-'ВЕРНАЯ на АВГУСТ'!P50 -> #REF!
A51: Подпрограмма 1 "Музеи" | C51: всего | D51: =SUM(E51:O51) -> 3074321.6 | E51: =E57+E63+E69+E75+E81 -> 1003594.2 | F51: =F57+F63+F69+F75+F81 -> 92934.2 | G51: =G57+G63+G69+G75+G81 -> 94181.4 | H51: =H57+H63+H69+H75+H81 -> 103736.2 | I51: =I57+I63+I69+I75+I81 -> 169506.2 | J51: =J57+J63+J69+J75+J81 -> 235463.3 | K51: =K57+K63+K69+K75+K81 -> 220908.6 | L51: =L57+L63+L69+L75+L81 -> 326655.4 | ... O51: =O57+O63+O69+O75+O81 -> 277007 | P51: =L51-#REF! -> #REF! | Q51: =P51-'ВЕРНАЯ на АВГУСТ'!P51 -> #REF!
C52: областной бюджет | D52: =SUM(E52:O52) -> 1518905 | E52: =E58+E64+E70+E76+E82 -> 75475.2 | F52: =F58+F64+F70+F76+F82 -> 81558.7 | G52: =G58+G64+G70+G76+G82 -> 84020.8 | H52: =H58+H64+H70+H76+H82 -> 86216.2 | I52: =I58+I64+I70+I76+I82 -> 108424.6 | J52: =J58+J64+J70+J76+J82 -> 159758.5 | K52: =K58+K64+K70+K76+K82 -> 151943.2 | L52: =L58+L64+L70+L76+L82 -> 209210 | ... O52: =O58+O64+O70+O76+O82 -> 187432.6 | P52: =L52-#REF! -> #REF! | Q52: =P52-'ВЕРНАЯ на АВГУСТ'!P52 -> #REF!
C53: федеральный бюджет (прогнозно) | D53: =SUM(E53:O53) -> 0 | E53: =E59+E65+E71+E77+E83 -> 0 | F53: =F59+F65+F71+F77+F83 -> 0 | G53: =G59+G65+G71+G77+G83 -> 0 | H53: =H59+H65+H71+H77+H83 -> 0 | I53: =I59+I65+I71+I77+I83 -> 0 | J53: =J59+J65+J71+J77+J83 -> 0 | K53: =K59+K65+K71+K77+K83 -> 0 | L53: =L59+L65+L71+L77+L83 -> 0 | ... O53: =O59+O65+O71+O77+O83 -> 0 | P53: =L53-#REF! -> #REF! | Q53: =P53-'ВЕРНАЯ на АВГУСТ'!P53 -> #REF!
C54: местные бюджеты (прогнозно) | D54: =SUM(E54:O54) -> 1388332.1 | E54: =E60+E66+E72+E78+E84 -> 918319 | F54: =F60+F66+F72+F78+F84 -> 1134.5 | G54: =G60+G66+G72+G78+G84 -> 1359 | H54: =H60+H66+H72+H78+H84 -> 7744.9 | I54: =I60+I66+I72+I78+I84 -> 48853.3 | J54: =J60+J66+J72+J78+J84 -> 55947.8 | K54: =K60+K66+K72+K78+K84 -> 57638.7 | L54: =L60+L66+L72+L78+L84 -> 97688.4 | ... O54: =O60+O66+O72+O78+O84 -> 66703.4 | P54: =L54-#REF! -> #REF! | Q54: =P54-'ВЕРНАЯ на АВГУСТ'!P54 -> #REF!
C55: внебюджетные источники (прогнозно) | D55: =SUM(E55:O55) -> 167084.5 | E55: =E61+E67+E73+E79+E85 -> 9800 | F55: =F61+F67+F73+F79+F85 -> 10241 | G55: =G61+G67+G73+G79+G85 -> 8801.6 | H55: =H61+H67+H73+H79+H85 -> 9775.1 | I55: =I61+I67+I73+I79+I85 -> 12228.3 | J55: =J61+J67+J73+J79+J85 -> 19757 | K55: =K61+K67+K73+K79+K85 -> 11326.7 | L55: =L61+L67+L73+L79+L85 -> 19757 | ... O55: =O61+O67+O73+O79+O85 -> 22871 | P55: =L55-#REF! -> #REF! | Q55: =P55-'ВЕРНАЯ на АВГУСТ'!P55 -> #REF!
D56: =SUM(E56:O56) -> 0 | E56: =E62+E68+E74+E80+E86 -> 0 | F56: =F62+F68+F74+F80+F86 -> 0 | G56: =G62+G68+G74+G80+G86 -> 0 | H56: =H62+H68+H74+H80+H86 -> 0 | I56: =I62+I68+I74+I80+I86 -> 0 | J56: =J62+J68+J74+J80+J86 -> 0 | K56: =K62+K68+K74+K80+K86 -> 0 | L56: =L62+L68+L74+L80+L86 -> 0 | ... O56: =O62+O68+O74+O80+O86 -> 0 | P56: =L56-#REF! -> #REF! | Q56: =P56-'ВЕРНАЯ на АВГУСТ'!P56 -> #REF!
A57: Основное мероприятие 1.1 "Оказание государственных услуг населению музеями" | B57: министерство культуры области, органы местного самоуправления (по согласованию) | C57: всего | D57: =SUM(E57:O57) -> 3024733.8 | E57: 997386.1 | F57: 91082.2 | G57: 92311.1 | H57: 102111.5 | I57: 165806.2 | J57: 229798.3 | K57: =K58+K59+K60+K61+K62 -> 218265.9 | L57: =L58+L59+L60+L61+L62 -> 320580.4 | M57: =M58+M59+M60+M61+M62 -> 267817.2 | N57: =N58+N59+N60+N61+N62 -> 269217.9 | O57: =O58+O59+O60+O61+O62 -> 270357 | P57: =L57-#REF! -> #REF! | Q57: =P57-'ВЕРНАЯ на АВГУСТ'!P57 -> #REF!
C58: областной бюджет | D58: =SUM(E58:O58) -> 1469317.2 | E58: 69267.1 | F58: 79706.7 | G58: 82150.5 | H58: 84591.5 | I58: 104724.6 | J58: 154093.5 | K58: 149300.5 | L58: 203135 | M58: =180782.6 -> 180782.6 | N58: =180782.6 -> 180782.6 | O58: 180782.6 | P58: =L58-#REF! -> #REF! | Q58: =P58-'ВЕРНАЯ на АВГУСТ'!P58 -> #REF!
C59: федеральный бюджет (прогнозно) | D59: =SUM(E59:O59) -> 0 | E59: 0 | F59: 0 | G59: 0 | H59: 0 | I59: 0 | J59: 0 | K59: 0 | L59: 0 | M59: 0 | N59: 0 | O59: 0 | P59: =L59-#REF! -> #REF! | Q59: =P59-'ВЕРНАЯ на АВГУСТ'!P59 -> #REF!
C60: местные бюджеты (прогнозно) | D60: =SUM(E60:O60) -> 1388332.1 | E60: 918319 | F60: 1134.5 | G60: 1359 | H60: 7744.9 | I60: 48853.3 | J60: 55947.8 | K60: 57638.7 | L60: 97688.4 | M60: 66289.8 | N60: 66653.3 | O60: 66703.4 | P60: =L60-#REF! -> #REF! | Q60: =P60-'ВЕРНАЯ на АВГУСТ'!P60 -> #REF!
C61: внебюджетные источники (прогнозно) | D61: =SUM(E61:O61) -> 167084.5 | E61: 9800 | F61: 10241 | G61: 8801.6 | H61: 9775.1 | I61: 12228.3 | J61: 19757 | K61: 11326.7 | L61: 19757 | M61: 20744.8 | N61: 21782 | O61: 22871 | P61: =L61-#REF! -> #REF! | Q61: =P61-'ВЕРНАЯ на АВГУСТ'!P61 -> #REF!
D62: =SUM(E62:O62) -> 0 | P62: =L62-#REF! -> #REF! | Q62: =P62-'ВЕРНАЯ на АВГУСТ'!P62 -> #REF!
A63: Основное мероприятие 1.2 "Обеспечение сохранности музейных предметов и музейных коллекций, находящихся в государственной собственности области" | B63: министерство культуры области | C63: всего | D63: =SUM(E63:O63) -> 2672.4 | E63: 870 | F63: 120 | G63: 48.4 | H63: 0 | I63: 184 | J63: 250 | K63: =K64+K65+K66+K67+K68 -> 225 | L63: =L64+L65+L66+L67+L68 -> 225 | M63: =M64+M65+M66+M67+M68 -> 250 | N63: =N64+N65+N66+N67+N68 -> 250 | O63: =O64+O65+O66+O67+O68 -> 250 | P63: =L63-#REF! -> #REF! | Q63: =P63-'ВЕРНАЯ на АВГУСТ'!P63 -> #REF!
C64: областной бюджет | D64: =SUM(E64:O64) -> 2672.4 | E64: 870 | F64: 120 | G64: 48.4 | H64: 0 | I64: 184 | J64: 250 | K64: 225 | L64: =250-25 -> 225 | M64: 250 | N64: 250 | O64: 250 | P64: =L64-#REF! -> #REF! | Q64: =P64-'ВЕРНАЯ на АВГУСТ'!P64 -> #REF!
C65: федеральный бюджет (прогнозно) | D65: =SUM(E65:O65) -> 0 | E65: 0 | F65: 0 | G65: 0 | H65: 0 | I65: 0 | J65: 0 | K65: 0 | L65: 0 | M65: 0 | N65: 0 | O65: 0 | P65: =L65-#REF! -> #REF! | Q65: =P65-'ВЕРНАЯ на АВГУСТ'!P65 -> #REF!
C66: местные бюджеты (прогнозно) | D66: =SUM(E66:O66) -> 0 | E66: 0 | F66: 0 | G66: 0 | H66: 0 | I66: 0 | J66: 0 | K66: 0 | L66: 0 | M66: 0 | N66: 0 | O66: 0 | P66: =L66-#REF! -> #REF! | Q66: =P66-'ВЕРНАЯ на АВГУСТ'!P66 -> #REF!
C67: внебюджетные источники (прогнозно) | D67: =SUM(E67:O67) -> 0 | E67: 0 | F67: 0 | G67: 0 | H67: 0 | I67: 0 | J67: 0 | K67: 0 | L67: 0 | M67: 0 | N67: 0 | O67: 0 | P67: =L67-#REF! -> #REF! | Q67: =P67-'ВЕРНАЯ на АВГУСТ'!P67 -> #REF!
D68: =SUM(E68:O68) -> 0 | P68: =L68-#REF! -> #REF! | Q68: =P68-'ВЕРНАЯ на АВГУСТ'!P68 -> #REF!
A69: Основное мероприятие 1.3 "Обеспечение пополнения и комплектования фондов областных музеев новыми уникальными экспонатами" | B69: министерство культуры области | C69: всего | D69: =SUM(E69:O69) -> 5000 | E69: 1720 | F69: 200 | G69: 200 | H69: 200 | I69: 360 | J69: 400 | K69: =K70+K71+K72+K73+K74 -> 360 | L69: =L70+L71+L72+L73+L74 -> 360 | M69: =M70+M71+M72+M73+M74 -> 400 | N69: =N70+N71+N72+N73+N74 -> 400 | O69: =O70+O71+O72+O73+O74 -> 400 | P69: =L69-#REF! -> #REF! | Q69: =P69-'ВЕРНАЯ на АВГУСТ'!P69 -> #REF!
C70: областной бюджет | D70: =SUM(E70:O70) -> 5000 | E70: 1720 | F70: 200 | G70: 200 | H70: 200 | I70: 360 | J70: 400 | K70: 360 | L70: =400-40 -> 360 | M70: 400 | N70: 400 | O70: 400 | P70: =L70-#REF! -> #REF! | Q70: =P70-'ВЕРНАЯ на АВГУСТ'!P70 -> #REF!
C71: федеральный бюджет (прогнозно) | D71: =SUM(E71:O71) -> 0 | E71: 0 | F71: 0 | G71: 0 | H71: 0 | I71: 0 | J71: 0 | K71: 0 | L71: 0 | M71: 0 | N71: 0 | O71: 0 | P71: =L71-#REF! -> #REF! | Q71: =P71-'ВЕРНАЯ на АВГУСТ'!P71 -> #REF!
C72: местные бюджеты (прогнозно) | D72: =SUM(E72:O72) -> 0 | E72: 0 | F72: 0 | G72: 0 | H72: 0 | I72: 0 | J72: 0 | K72: 0 | L72: 0 | M72: 0 | N72: 0 | O72: 0 | P72: =L72-#REF! -> #REF! | Q72: =P72-'ВЕРНАЯ на АВГУСТ'!P72 -> #REF!
C73: внебюджетные источники (прогнозно) | D73: =SUM(E73:O73) -> 0 | E73: 0 | F73: 0 | G73: 0 | H73: 0 | I73: 0 | J73: 0 | K73: 0 | L73: 0 | M73: 0 | N73: 0 | O73: 0 | P73: =L73-#REF! -> #REF! | Q73: =P73-'ВЕРНАЯ на АВГУСТ'!P73 -> #REF!
D74: =SUM(E74:O74) -> 0 | P74: =L74-#REF! -> #REF! | Q74: =P74-'ВЕРНАЯ на АВГУСТ'!P74 -> #REF!
A75: Основное мероприятие 1.4 "Организация и проведение выставочной деятельности музеев на территории Саратовской области, в субъектах Российской Федерации и в зарубежных странах" | B75: министерство культуры области | C75: всего | D75: =SUM(E75:O75) -> 25822.2 | E75: 3147.7 | F75: 1150 | G75: 1060.1 | H75: 874.7 | I75: 1760 | J75: 2845 | K75: =K76+K77+K78+K79+K80 -> 437.7 | L75: =L76+L77+L78+L79+L80 -> 3357 | M75: =M76+M77+M78+M79+M80 -> 3730 | N75: =N76+N77+N78+N79+N80 -> 3730 | O75: =O76+O77+O78+O79+O80 -> 3730 | P75: =L75-#REF! -> #REF! | Q75: =P75-'ВЕРНАЯ на АВГУСТ'!P75 -> #REF!
C76: областной бюджет | D76: =SUM(E76:O76) -> 25822.2 | E76: 3147.7 | F76: 1150 | G76: 1060.1 | H76: 874.7 | I76: 1760 | J76: 2845 | K76: 437.7 | L76: =3730-373 -> 3357 | M76: 3730 | N76: 3730 | O76: 3730 | P76: =L76-#REF! -> #REF! | Q76: =P76-'ВЕРНАЯ на АВГУСТ'!P76 -> #REF!
C77: федеральный бюджет (прогнозно) | D77: =SUM(E77:O77) -> 0 | E77: 0 | F77: 0 | G77: 0 | H77: 0 | I77: 0 | J77: 0 | K77: 0 | L77: 0 | M77: 0 | N77: 0 | O77: 0 | P77: =L77-#REF! -> #REF! | Q77: =P77-'ВЕРНАЯ на АВГУСТ'!P77 -> #REF!
C78: местные бюджеты (прогнозно) | D78: =SUM(E78:O78) -> 0 | E78: 0 | F78: 0 | G78: 0 | H78: 0 | I78: 0 | J78: 0 | K78: 0 | L78: 0 | M78: 0 | N78: 0 | O78: 0 | P78: =L78-#REF! -> #REF! | Q78: =P78-'ВЕРНАЯ на АВГУСТ'!P78 -> #REF!
C79: внебюджетные источники (прогнозно) | D79: =SUM(E79:O79) -> 0 | E79: 0 | F79: 0 | G79: 0 | H79: 0 | I79: 0 | J79: 0 | K79: 0 | L79: 0 | M79: 0 | N79: 0 | O79: 0 | P79: =L79-#REF! -> #REF! | Q79: =P79-'ВЕРНАЯ на АВГУСТ'!P79 -> #REF!
D80: =SUM(E80:O80) -> 0 | P80: =L80-#REF! -> #REF! | Q80: =P80-'ВЕРНАЯ на АВГУСТ'!P80 -> #REF!
A81: Основное мероприятие 1.5 "Организация и проведение мероприятий по популяризации музейного дела" | B81: министерство культуры области | C81: всего | D81: =SUM(E81:O81) -> 16093.2 | E81: 470.4 | F81: 382 | G81: 561.8 | H81: 550 | I81: 1396 | J81: 2170 | K81: =K82+K83+K84+K85+K86 -> 1620 | L81: =L82+L83+L84+L85+L86 -> 2133 | M81: =M82+M83+M84+M85+M86 -> 2270 | N81: =N82+N83+N84+N85+N86 -> 2270 | O81: =O82+O83+O84+O85+O86 -> 2270 | P81: =L81-#REF! -> #REF! | Q81: =P81-'ВЕРНАЯ на АВГУСТ'!P81 -> #REF!
C82: областной бюджет | D82: =SUM(E82:O82) -> 16093.2 | E82: 470.4 | F82: 382 | G82: 561.8 | H82: 550 | I82: 1396 | J82: 2170 | K82: 1620 | L82: =2270-137 -> 2133 | M82: 2270 | N82: 2270 | O82: 2270 | P82: =L82-#REF! -> #REF! | Q82: =P82-'ВЕРНАЯ на АВГУСТ'!P82 -> #REF!
C83: федеральный бюджет (прогнозно) | D83: =SUM(E83:O83) -> 0 | E83: 0 | F83: 0 | G83: 0 | H83: 0 | I83: 0 | J83: 0 | K83: 0 | L83: 0 | M83: 0 | N83: 0 | O83: 0 | P83: =L83-#REF! -> #REF! | Q83: =P83-'ВЕРНАЯ на АВГУСТ'!P83 -> #REF!
C84: местные бюджеты (прогнозно) | D84: =SUM(E84:O84) -> 0 | E84: 0 | F84: 0 | G84: 0 | H84: 0 | I84: 0 | J84: 0 | K84: 0 | L84: 0 | M84: 0 | N84: 0 | O84: 0 | P84: =L84-#REF! -> #REF! | Q84: =P84-'ВЕРНАЯ на АВГУСТ'!P84 -> #REF!
C85: внебюджетные источники (прогнозно) | D85: =SUM(E85:O85) -> 0 | E85: 0 | F85: 0 | G85: 0 | H85: 0 | I85: 0 | J85: 0 | K85: 0 | L85: 0 | M85: 0 | N85: 0 | O85: 0 | P85: =L85-#REF! -> #REF! | Q85: =P85-'ВЕРНАЯ на АВГУСТ'!P85 -> #REF!
D86: =SUM(E86:O86) -> 0 | P86: =L86-#REF! -> #REF! | Q86: =P86-'ВЕРНАЯ на АВГУСТ'!P86 -> #REF!
A87: Подпрограмма 2 "Театры" | C87: всего | D87: =SUM(E87:O87) -> 9036260.7 | E87: =E93+E99+E105+E111+E117+E123+E129 -> 1016732.6 | F87: =F93+F99+F105+F111+F117+F123+F129 -> 543564.6 | G87: =G93+G99+G105+G111+G117+G123+G129 -> 547495.6 | H87: =H93+H99+H105+H111+H117+H123+H129 -> 655973.1 | I87: =I93+I99+I105+I111+I117+I123+I129 -> 768697.2 | J87: =J93+J99+J105+J111+J117+J123+J129 -> 833247.3 | K87: =K93+K99+K105+K111+K117+K123+K129 -> 798647.6 | L87: =L93+L99+L105+L111+L117+L123+L129 -> 957119.4 | ... O87: =O93+O99+O105+O111+O117+O123+O129 -> 955754.4 | P87: =L87-#REF! -> #REF! | Q87: =P87-'ВЕРНАЯ на АВГУСТ'!P87 -> #REF! | S87: 959864.4 | T87: 4941464.4
C88: областной бюджет | D88: =SUM(E88:O88) -> 4938719.4 | E88: =E94+E100+E106+E112+E118+E124+E130 -> 349952.6 | F88: =F94+F100+F106+F112+F118+F124+F130 -> 330822.8 | G88: =G94+G100+G106+G112+G118+G124+G130 -> 343017.9 | H88: =H94+H100+H106+H112+H118+H124+H130 -> 371699.3 | I88: =I94+I100+I106+I112+I118+I124+I130 -> 397538.7 | J88: =J94+J100+J106+J112+J118+J124+J130 -> 450879.6 | K88: =K94+K100+K106+K112+K118+K124+K130 -> 463454.3 | L88: =L94+L100+L106+L112+L118+L124+L130 -> 555169.1 | ... O88: =O94+O100+O106+O112+O118+O124+O130 -> 555317.1 | P88: =L88-#REF! -> #REF! | Q88: =P88-'ВЕРНАЯ на АВГУСТ'!P88 -> #REF!
C89: федеральный бюджет (прогнозно) | D89: =SUM(E89:O89) -> 554475.3 | E89: =E95+E101+E107+E113+E119+E125+E131 -> 98579 | F89: =F95+F101+F107+F113+F119+F125+F131 -> 78300 | G89: =G95+G101+G107+G113+G119+G125+G131 -> 78300 | H89: =H95+H101+H107+H113+H119+H125+H131 -> 33348.1 | I89: =I95+I101+I107+I113+I119+I125+I131 -> 45658 | J89: =J95+J101+J107+J113+J119+J125+J131 -> 47296.5 | K89: =K95+K101+K107+K113+K119+K125+K131 -> 47191.7 | L89: =L95+L101+L107+L113+L119+L125+L131 -> 45950.3 | ... O89: =O95+O101+O107+O113+O119+O125+O131 -> 0 | P89: =L89-#REF! -> #REF! | Q89: =P89-'ВЕРНАЯ на АВГУСТ'!P89 -> #REF!
C90: местные бюджеты (прогнозно) | D90: =SUM(E90:O90) -> 1156644.8 | E90: =E96+E102+E108+E114+E120+E126+E132 -> 459101 | F90: =F96+F102+F108+F114+F120+F126+F132 -> 20432.3 | G90: =G96+G102+G108+G114+G120+G126+G132 -> 19218.2 | H90: =H96+H102+H108+H114+H120+H126+H132 -> 18604 | I90: =I96+I102+I108+I114+I120+I126+I132 -> 76006.8 | J90: =J96+J102+J108+J114+J120+J126+J132 -> 75847.2 | K90: =K96+K102+K108+K114+K120+K126+K132 -> 89976.7 | L90: =L96+L102+L108+L114+L120+L126+L132 -> 96776 | ... O90: =O96+O102+O108+O114+O120+O126+O132 -> 100353.1 | P90: =L90-#REF! -> #REF! | Q90: =P90-'ВЕРНАЯ на АВГУСТ'!P90 -> #REF! | T90: 557914.1
C91: внебюджетные источники (прогнозно) | D91: =SUM(E91:O91) -> 2386421.2 | E91: =E97+E103+E109+E115+E121+E127+E133 -> 109100 | F91: =F97+F103+F109+F115+F121+F127+F133 -> 114009.5 | G91: =G97+G103+G109+G115+G121+G127+G133 -> 106959.5 | H91: =H97+H103+H109+H115+H121+H127+H133 -> 232321.7 | I91: =I97+I103+I109+I115+I121+I127+I133 -> 249493.7 | J91: =J97+J103+J109+J115+J121+J127+J133 -> 259224 | K91: =K97+K103+K109+K115+K121+K127+K133 -> 198024.9 | L91: =L97+L103+L109+L115+L121+L127+L133 -> 259224 | ... O91: =O97+O103+O109+O115+O121+O127+O133 -> 300084.2 | P91: =L91-#REF! -> #REF! | Q91: =P91-'ВЕРНАЯ на АВГУСТ'!P91 -> #REF!
D92: =SUM(E92:O92) -> 0 | E92: =E98+E104+E110+E116+E122+E128+E134 -> 0 | F92: =F98+F104+F110+F116+F122+F128+F134 -> 0 | G92: =G98+G104+G110+G116+G122+G128+G134 -> 0 | H92: =H98+H104+H110+H116+H122+H128+H134 -> 0 | I92: =I98+I104+I110+I116+I122+I128+I134 -> 0 | J92: =J98+J104+J110+J116+J122+J128+J134 -> 0 | K92: =K98+K104+K110+K116+K122+K128+K134 -> 0 | L92: =L98+L104+L110+L116+L122+L128+L134 -> 0 | ... O92: =O98+O104+O110+O116+O122+O128+O134 -> 0 | P92: =L92-#REF! -> #REF! | Q92: =P92-'ВЕРНАЯ на АВГУСТ'!P92 -> #REF!
A93: Основное мероприятие 2.1 "Оказание государственных услуг населению театрами" | B93: министерство культуры области, органы местного самоуправления (по согласованию) | C93: всего | D93: =SUM(E93:O93) -> 8532118.1 | E93: 998642.5 | F93: 536656.6 | G93: 537757.4 | H93: 610952.2 | I93: 704187 | J93: 766133.5 | K93: =K94+K95+K96+K97+K98 -> 736291.9 | L93: =L94+L95+L96+L97+L98 -> 884384.8 | M93: =M94+M95+M96+M97+M98 -> 905352 | N93: =N94+N95+N96+N97+N98 -> 918655.8 | O93: =O94+O95+O96+O97+O98 -> 933104.4 | P93: =L93-#REF! -> #REF! | Q93: =P93-'ВЕРНАЯ на АВГУСТ'!P93 -> #REF!
C94: областной бюджет | D94: =SUM(E94:O94) -> 4733873.1 | E94: 331862.5 | F94: 323914.8 | G94: 333279.7 | H94: 360026.5 | I94: 378686.5 | J94: 431062.3 | K94: 448290.3 | L94: =529584.8-1200 -> 528384.8 | M94: 533031.5 | N94: 532667.1 | O94: 532667.1 | P94: =L94-#REF! -> #REF! | Q94: =P94-'ВЕРНАЯ на АВГУСТ'!P94 -> #REF!
C95: федеральный бюджет (прогнозно) | D95: =SUM(E95:O95) -> 255179 | E95: 98579 | F95: 78300 | G95: 78300 | H95: 0 | I95: 0 | J95: 0 | K95: 0 | L95: 0 | M95: 0 | N95: 0 | O95: 0 | P95: =L95-#REF! -> #REF! | Q95: =P95-'ВЕРНАЯ на АВГУСТ'!P95 -> #REF!
C96: местные бюджеты (прогнозно) | D96: =SUM(E96:O96) -> 1156644.8 | E96: 459101 | F96: 20432.3 | G96: 19218.2 | H96: 18604 | I96: 76006.8 | J96: 75847.2 | K96: 89976.7 | L96: 96776 | M96: 100135.3 | N96: 100194.2 | O96: 100353.1 | P96: =L96-#REF! -> #REF! | Q96: =P96-'ВЕРНАЯ на АВГУСТ'!P96 -> #REF!
C97: внебюджетные источники (прогнозно) | D97: =SUM(E97:O97) -> 2386421.2 | E97: 109100 | F97: 114009.5 | G97: 106959.5 | H97: 232321.7 | I97: 249493.7 | J97: 259224 | K97: 198024.9 | L97: 259224 | M97: 272185.2 | N97: 285794.5 | O97: 300084.2 | P97: =L97-#REF! -> #REF! | Q97: =P97-'ВЕРНАЯ на АВГУСТ'!P97 -> #REF!
D98: =SUM(E98:O98) -> 0 | P98: =L98-#REF! -> #REF! | Q98: =P98-'ВЕРНАЯ на АВГУСТ'!P98 -> #REF!
A99: Основное мероприятие 2.2 "Создание новых спектаклей в областных театрах" | B99: министерство культуры области | C99: всего | D99: =SUM(E99:O99) -> 61976.5 | E99: 10078 | F99: 4500 | G99: 4344.8 | H99: 4663.7 | I99: 4460 | J99: 6450 | K99: =K100+K101+K102+K103+K104 -> 1350 | L99: =L100+L101+L102+L103+L104 -> 6030 | M99: =M100+M101+M102+M103+M104 -> 6700 | N99: =N100+N101+N102+N103+N104 -> 6700 | O99: =O100+O101+O102+O103+O104 -> 6700 | P99: =L99-#REF! -> #REF! | Q99: =P99-'ВЕРНАЯ на АВГУСТ'!P99 -> #REF!
C100: областной бюджет | D100: =SUM(E100:O100) -> 61976.5 | E100: 10078 | F100: 4500 | G100: 4344.8 | H100: 4663.7 | I100: 4460 | J100: 6450 | K100: 1350 | L100: =6700-670 -> 6030 | M100: 6700 | N100: 6700 | O100: 6700 | P100: =L100-#REF! -> #REF! | Q100: =P100-'ВЕРНАЯ на АВГУСТ'!P100 -> #REF!
C101: федеральный бюджет (прогнозно) | D101: =SUM(E101:O101) -> 0 | E101: 0 | F101: 0 | G101: 0 | H101: 0 | I101: 0 | J101: 0 | K101: 0 | L101: 0 | M101: 0 | N101: 0 | O101: 0 | P101: =L101-#REF! -> #REF! | Q101: =P101-'ВЕРНАЯ на АВГУСТ'!P101 -> #REF!
C102: местные бюджеты (прогнозно) | D102: =SUM(E102:O102) -> 0 | E102: 0 | F102: 0 | G102: 0 | H102: 0 | I102: 0 | J102: 0 | K102: 0 | L102: 0 | M102: 0 | N102: 0 | O102: 0 | P102: =L102-#REF! -> #REF! | Q102: =P102-'ВЕРНАЯ на АВГУСТ'!P102 -> #REF!
...

Sheet ВЕРНАЯ на АВГУСТ
A3: Наименование государственной программы, подпрограммы, ведомственной целевой программы, основного мероприятия | B3: Ответственный исполнитель, соисполнитель, участник государственной программы (соисполнитель подпрограммы), плательщик (далее - исполнитель) | C3: Источники финансового обеспечения | D3: Объемы финансового обеспечения всего, (тыс. рублей) | E3: В том числе по годам реализации
E4: 2014 | F4: 2015 | G4: 2016 | H4: 2017 | I4: 2018 | J4: 2019 | K4: 2020 | L4: 2021 | M4: 2022 | N4: 2023 | O4: 2024
A5: 1 | B5: 2 | C5: 3 | D5: 4 | E5: 5 | F5: 6 | G5: 7 | H5: 8 | I5: 9 | J5: 10 | K5: 11 | L5: 12 | M5: 13 | N5: 14 | O5: 15 | U5: 6985960.9 | V5: 2704748.4
A6: Государственная программа Саратовской области "Культура Саратовской области" | C6: всего | D6: =SUM(E6:O6) -> 51714598 | E6: =E14+E21+E27+E33+E39+E45 -> 4865320.2 | F6: =F14+F21+F27+F33+F39+F45 -> 2108258.3 | G6: =G14+G21+G27+G33+G39+G45 -> 1927521.6 | H6: =H14+H21+H27+H33+H39+H45 -> 2974016.6 | I6: =I14+I21+I27+I33+I39+I45 -> 4510087.6 | J6: =J14+J21+J27+J33+J39+J45 -> 5256858.7 | K6: =K14+K21+K27+K33+K39+K45 -> 5243900.8 | L6: =L14+L21+L27+L33+L39+L45 -> 6985960.9 | ... O6: =O14+O21+O27+O33+O39+O45 -> 5429858.3 | P6: =L6-#REF! -> #REF!
C7: областной бюджет | D7: =SUM(E7:O7) -> 18765062 | E7: =E15+E22+E28+E34+E40+E46 -> 1200430.2 | F7: =F15+F22+F28+F34+F40+F46 -> 1133207 | G7: =G15+G22+G28+G34+G40+G46 -> 1087822.1 | H7: =H15+H22+H28+H34+H40+H46 -> 1356948.3 | I7: =I15+I22+I28+I34+I40+I46 -> 1321655 | J7: =J15+J22+J28+J34+J40+J46 -> 1778262 | K7: =K15+K22+K28+K34+K40+K46 -> 1681483.4 | L7: =L15+L22+L28+L34+L40+L46 -> 2704748.4 | ... O7: =O15+O22+O28+O34+O40+O46 -> 2091805.1 | P7: =L7-#REF! -> #REF! | Q7: =L7+L8 -> 3467987.2 | S7: 3447987.2 | T7: =S7-Q7 -> -20000 | U7: 51714598 | V7: 18765062
C8: федеральный бюджет (прогнозно) | D8: =SUM(E8:O8) -> 4058410 | E8: =E16+E23+E29+E35+E41+E47 -> 424910 | F8: =F16+F23+F29+F35+F41+F47 -> 350172.8 | G8: =G16+G23+G29+G35+G41+G47 -> 85202.5 | H8: =H16+H23+H29+H35+H41+H47 -> 92110.7 | I8: =I16+I23+I29+I35+I41+I47 -> 231410.3 | J8: =J16+J23+J29+J35+J41+J47 -> 308355.3 | K8: =K16+K23+K29+K35+K41+K47 -> 574476.2 | L8: =L16+L23+L29+L35+L41+L47 -> 763238.8 | ... O8: =O16+O23+O29+O35+O41+O47 -> 0 | P8: =L8-#REF! -> #REF!
C9: местные бюджеты (прогнозно) | D9: =SUM(E9:O9) -> 25043887 | E9: =E17+E24+E30+E36+E42+E48 -> 3069368 | F9: =F17+F24+F30+F36+F42+F48 -> 450341.2 | G9: =G17+G24+G30+G36+G42+G48 -> 569768 | H9: =H17+H24+H30+H36+H42+H48 -> 1012886 | I9: =I17+I24+I30+I36+I42+I48 -> 2480233.5 | J9: =J17+J24+J30+J36+J42+J48 -> 2728100.9 | K9: =K17+K24+K30+K36+K42+K48 -> 2698275.3 | L9: =L17+L24+L30+L36+L42+L48 -> 3146086.2 | ... O9: =O17+O24+O30+O36+O42+O48 -> 2910711.4 | P9: =L9-#REF! -> #REF! | T9: 2704748.4
C10: внебюджетные источники (прогнозно) | D10: =SUM(E10:O10) -> 3574712.4 | E10: =E18+E25+E31+E37+E43+E49 -> 170612 | F10: =F18+F25+F31+F37+F43+F49 -> 174537.3 | G10: =G18+G25+G31+G37+G43+G49 -> 184729 | H10: =H18+H25+H31+H37+H43+H49 -> 312071.6 | I10: =I18+I25+I31+I37+I43+I49 -> 476788.8 | J10: =J18+J25+J31+J37+J43+J49 -> 369613.2 | K10: =K18+K25+K31+K37+K43+K49 -> 289665.9 | L10: =L18+L25+L31+L37+L43+L49 -> 371887.5 | ... O10: =O18+O25+O31+O37+O43+O49 -> 427341.8 | P10: =L10-#REF! -> #REF!
C11: государственные внебюджетные фонды и иные безвозмездные поступления целевой направленности (прогнозно) | D11: =SUM(E11:O11) -> 272527.3 | E11: =E19+E26+E32+E38+E44+E50 -> 0 | F11: =F19+F26+F32+F38+F44+F50 -> 0 | G11: =G19+G26+G32+G38+G44+G50 -> 0 | H11: =H19+H26+H32+H38+H44+H50 -> 200000 | I11: =I19+I26+I32+I38+I44+I50 -> 0 | J11: =J19+J26+J32+J38+J44+J50 -> 72527.3 | K11: =K19+K26+K32+K38+K44+K50 -> 0 | L11: =L19+L26+L32+L38+L44+L50 -> 0 | ... O11: =O19+O26+O32+O38+O44+O50 -> 0 | P11: =L11-#REF! -> #REF! | T11: 6985960.9
P12: =L12-#REF! -> #REF!
B13: в том числе по исполнителям: | P13: =L13-#REF! -> #REF!
B14: министерство культуры области | C14: всего | D14: =SUM(E14:O14) -> 47513706 | E14: =E51+E87+E135+E171+E207+E243+E292+E461+E498+E836+E928 -> 4435640.7 | F14: =F51+F87+F135+F171+F207+F243+F292+F461+F498+F836+F928 -> 1765270.5 | G14: =G51+G87+G135+G171+G207+G243+G292+G461+G498+G836+G928 -> 1860957.7 | H14: =H51+H87+H135+H171+H207+H243+H292+H461+H498+H836+H928 -> 2895349.9 | I14: =I51+I87+I135+I171+I207+I243+I292+I461+I498+I836+I928 -> 4279028.8 | J14: =J51+J87+J135+J171+J207+J243+J292+J461+J498+J836+J928 -> 5079884.2 | K14: =K51+K87+K135+K171+K207+K243+K292+K461+K498+K836+K928 -> 4860391.6 | L14: =L51+L87+L135+L171+L207+L243+L292+L461+L498+L836+L928 -> 5810350.6 | ... O14: =O51+O87+O135+O171+O207+O243+O292+O461+O498+O836+O928 -> 5281448.8 | P14: =L14-#REF! -> #REF!
C15: областной бюджет | D15: =SUM(E15:O15) -> 16972066 | E15: =E52+E88+E136+E172+E208+E244+E293+E462+E499+E837+E929 -> 1080295.4 | F15: =F52+F88+F136+F172+F208+F244+F293+F462+F499+F837+F929 -> 1062934.1 | G15: =G52+G88+G136+G172+G208+G244+G293+G462+G499+G837+G929 -> 1037017.6 | H15: =H52+H88+H136+H172+H208+H244+H293+H462+H499+H837+H929 -> 1303576.7 | I15: =I52+I88+I136+I172+I208+I244+I293+I462+I499+I837+I929 -> 1238787.4 | J15: =J52+J88+J136+J172+J208+J244+J293+J462+J499+J837+J929 -> 1671770.6 | K15: =K52+K88+K136+K172+K208+K244+K293+K462+K499+K837+K929 -> 1509416.8 | L15: =L52+L88+L136+L172+L208+L244+L293+L462+L499+L837+L929 -> 2080921.1 | ... O15: =O52+O88+O136+O172+O208+O244+O293+O462+O499+O837+O929 -> 1959685.7 | P15: =L15-#REF! -> #REF!
C16: федеральный бюджет (прогнозно) | D16: =SUM(E16:O16) -> 1868072.1 | E16: =E53+E89+E137+E173+E209+E245+E294+E463+E500+E838+E930 -> 124730.6 | F16: =F53+F89+F137+F173+F209+F245+F294+F463+F500+F838+F930 -> 85429.9 | G16: =G53+G89+G137+G173+G209+G245+G294+G463+G500+G838+G930 -> 85122 | H16: =H53+H89+H137+H173+H209+H245+H294+H463+H500+H838+H930 -> 82605.4 | I16: =I53+I89+I137+I173+I209+I245+I294+I463+I500+I838+I930 -> 98984.6 | J16: =J53+J89+J137+J173+J209+J245+J294+J463+J500+J838+J930 -> 305987.9 | K16: =K53+K89+K137+K173+K209+K245+K294+K463+K500+K838+K930 -> 382966.8 | L16: =L53+L89+L137+L173+L209+L245+L294+L463+L500+L838+L930 -> 227523.5 | ... O16: =O53+O89+O137+O173+O209+O245+O294+O463+O500+O838+O930 -> 0 | P16: =L16-#REF! -> #REF!
C17: местные бюджеты (прогнозно) | D17: =SUM(E17:O17) -> 24940019 | E17: =E54+E90+E138+E174+E210+E246+E295+E464+E501+E839+E931 -> 3060342.7 | F17: =F54+F90+F138+F174+F210+F246+F295+F464+F501+F839+F931 -> 444154.1 | G17: =G54+G90+G138+G174+G210+G246+G295+G464+G501+G839+G931 -> 560801.7 | H17: =H54+H90+H138+H174+H210+H246+H295+H464+H501+H839+H931 -> 1003196.2 | I17: =I54+I90+I138+I174+I210+I246+I295+I464+I501+I839+I931 -> 2470568 | J17: =J54+J90+J138+J174+J210+J246+J295+J464+J501+J839+J931 -> 2720038.2 | K17: =K54+K90+K138+K174+K210+K246+K295+K464+K501+K839+K931 -> 2686542.1 | L17: =L54+L90+L138+L174+L210+L246+L295+L464+L501+L839+L931 -> 3136118.5 | ... O17: =O54+O90+O138+O174+O210+O246+O295+O464+O501+O839+O931 -> 2900521.3 | P17: =L17-#REF! -> #REF!
C18: внебюджетные источники (прогнозно) | D18: =SUM(E18:O18) -> 3514974.9 | E18: =E55+E91+E139+E175+E211+E247+E296+E465+E502+E840+E932 -> 170272 | F18: =F55+F91+F139+F175+F211+F247+F296+F465+F502+F840+F932 -> 172752.4 | G18: =G55+G91+G139+G175+G211+G247+G296+G465+G502+G840+G932 -> 178016.4 | H18: =H55+H91+H139+H175+H211+H247+H296+H465+H502+H840+H932 -> 305971.6 | I18: =I55+I91+I139+I175+I211+I247+I296+I465+I502+I840+I932 -> 470688.8 | J18: =J55+J91+J139+J175+J211+J247+J296+J465+J502+J840+J932 -> 363513.2 | K18: =K55+K91+K139+K175+K211+K247+K296+K465+K502+K840+K932 -> 281465.9 | L18: =L55+L91+L139+L175+L211+L247+L296+L465+L502+L840+L932 -> 365787.5 | ... O18: =O55+O91+O139+O175+O211+O247+O296+O465+O502+O840+O932 -> 421241.8 | P18: =L18-#REF! -> #REF!
C19: государственные внебюджетные фонды и иные безвозмездные поступления целевой направленности (прогнозно) | D19: =SUM(E19:O19) -> 218574.3 | E19: =E56+E92+E140+E176+E212+E248+E297+E466+E503+E841+E933 -> 0 | F19: =F56+F92+F140+F176+F212+F248+F297+F466+F503+F841+F933 -> 0 | G19: =G56+G92+G140+G176+G212+G248+G297+G466+G503+G841+G933 -> 0 | H19: =H56+H92+H140+H176+H212+H248+H297+H466+H503+H841+H933 -> 200000 | I19: =I56+I92+I140+I176+I212+I248+I297+I466+I503+I841+I933 -> 0 | J19: =J56+J92+J140+J176+J212+J248+J297+J466+J503+J841+J933 -> 18574.3 | K19: =K56+K92+K140+K176+K212+K248+K297+K466+K503+K841+K933 -> 0 | L19: =L56+L92+L140+L176+L212+L248+L297+L466+L503+L841+L933 -> 0 | ... O19: =O56+O92+O140+O176+O212+O248+O297+O466+O503+O841+O933 -> 0 | P19: =L19-#REF! -> #REF!
D20: =SUM(E20:O20) -> -1.5570549e-09 | E20: =E14-E15-E16-E17-E18-E19 -> -4.6566129e-10 | F20: =F14-F15-F16-F17-F18-F19 -> -5.8207661e-10 | G20: =G14-G15-G16-G17-G18-G19 -> 1.4551915e-10 | H20: =H14-H15-H16-H17-H18-H19 -> 0 | I20: =I14-I15-I16-I17-I18-I19 -> -1.7462298e-10 | J20: =J14-J15-J16-J17-J18-J19 -> 4.5110937e-10 | K20: =K14-K15-K16-K17-K18-K19 -> -1.1641532e-10 | L20: =L14-L15-L16-L17-L18-L19 -> 4.6566129e-10 | ... O20: =O14-O15-O16-O17-O18-O19 -> -1.7462298e-10 | P20: =L20-#REF! -> #REF!
B21: управление делами Правительства области | C21: всего | D21: =SUM(E21:O21) -> 874431.2 | E21: =E443+E449+E455+E842+E940+E504 -> 53995 | F21: =F443+F449+F455+F842+F940+F504 -> 48924.7 | G21: =G443+G449+G455+G842+G940+G504 -> 53197.3 | H21: =H443+H449+H455+H842+H940+H504 -> 64193.3 | I21: =I443+I449+I455+I842+I940+I504 -> 58750.7 | J21: =J443+J449+J455+J842+J940+J504 -> 81348.3 | K21: =K443+K449+K455+K842+K940+K504 -> 99860.4 | L21: =L443+L449+L455+L842+L504 -> 103376 | M21: =M443+M449+M455+M842+M504 -> 103592.9 | N21: =N443+N449+N455+N842+N504 -> 103596.3 | O21: =O443+O449+O455+O842+O504 -> 103596.3 | P21: =L21-#REF! -> #REF!
C22: областной бюджет | D22: =SUM(E22:O22) -> 752196.8 | E22: =E444+E450+E456+E843+E941+E505 -> 44450.3 | F22: =F444+F450+F456+F843+F941+F505 -> 42074.8 | G22: =G444+G450+G456+G843+G941+G505 -> 43533.5 | H22: =H444+H450+H456+H843+H941+H505 -> 44998.2 | I22: =I444+I450+I456+I843+I941+I505 -> 46659.5 | J22: =J444+J450+J456+J843+J941+J505 -> 70918.2 | K22: =K444+K450+K456+K843+K941+K505 -> 85938.8 | L22: =L444+L450+L456+L843+L505 -> 93408.3 | M22: =M444+M450+M456+M843+M505 -> 93402.8 | N22: =N444+N450+N456+N843+N505 -> 93406.2 | O22: =O444+O450+O456+O843+O505 -> 93406.2 | P22: =L22-#REF! -> #REF!
C23: федеральный бюджет (прогнозно) | D23: =SUM(E23:O23) -> 16806.5 | E23: =E445+E451+E457+E844+E942+E506 -> 179.4 | F23: =F445+F451+F457+F844+F942+F506 -> 59.8 | G23: =G445+G451+G457+G844+G942+G506 -> 80.5 | H23: =H445+H451+H457+H844+H942+H506 -> 9505.3 | I23: =I445+I451+I457+I844+I942+I506 -> 2425.7 | J23: =J445+J451+J457+J844+J942+J506 -> 2367.4 | K23: =K445+K451+K457+K844+K942+K506 -> 2188.4 | L23: =L445+L451+L457+L844+L506 -> 0 | M23: =M445+M451+M457+M844+M506 -> 0 | N23: =N445+N451+N457+N844+N506 -> 0 | O23: =O445+O451+O457+O844+O506 -> 0 | P23: =L23-#REF! -> #REF!
C24: местные бюджеты (прогнозно) | D24: =SUM(E24:O24) -> 103867.9 | E24: =E446+E452+E458+E845+E943+E507 -> 9025.3 | F24: =F446+F452+F458+F845+F943+F507 -> 6187.1 | G24: =G446+G452+G458+G845+G943+G507 -> 8966.3 | H24: =H446+H452+H458+H845+H943+H507 -> 9689.8 | I24: =I446+I452+I458+I845+I943+I507 -> 9665.5 | J24: =J446+J452+J458+J845+J943+J507 -> 8062.7 | K24: =K446+K452+K458+K845+K943+K507 -> 11733.2 | L24: =L446+L452+L458+L845+L507 -> 9967.7 | M24: =M446+M452+M458+M845+M507 -> 10190.1 | N24: =N446+N452+N458+N845+N507 -> 10190.1 | O24: =O446+O452+O458+O845+O507 -> 10190.1 | P24: =L24-#REF! -> #REF!
C25: внебюджетные источники (прогнозно) | D25: =SUM(E25:O25) -> 1560 | E25: =E447+E453+E459+E846+E944+E508 -> 340 | F25: =F447+F453+F459+F846+F944+F508 -> 603 | G25: =G447+G453+G459+G846+G944+G508 -> 617 | H25: =H447+H453+H459+H846+H944+H508 -> 0 | I25: =I447+I453+I459+I846+I944+I508 -> 0 | J25: =J447+J453+J459+J846+J944+J508 -> 0 | K25: =K447+K453+K459+K846+K944+K508 -> 0 | L25: =L447+L453+L459+L846+L508 -> 0 | M25: =M447+M453+M459+M846+M508 -> 0 | N25: =N447+N453+N459+N846+N508 -> 0 | O25: =O447+O453+O459+O846+O508 -> 0 | P25: =L25-#REF! -> #REF!
C26: государственные внебюджетные фонды и иные безвозмездные поступления целевой направленности (прогнозно) | D26: =SUM(E26:O26) -> 0 | E26: =E448+E454+E460+E847+E945+E509 -> 0 | F26: =F448+F454+F460+F847+F945+F509 -> 0 | G26: =G448+G454+G460+G847+G945+G509 -> 0 | H26: =H448+H454+H460+H847+H945+H509 -> 0 | I26: =I448+I454+I460+I847+I945+I509 -> 0 | J26: =J448+J454+J460+J847+J945+J509 -> 0 | K26: =K448+K454+K460+K847+K945+K509 -> 0 | L26: =L448+L454+L460+L847+L509 -> 0 | M26: =M448+M454+M460+M847+M509 -> 0 | N26: =N448+N454+N460+N847+N509 -> 0 | O26: =O448+O454+O460+O847+O509 -> 0 | P26: =L26-#REF! -> #REF!
B27: комитет капитального строительства области, министерство строительства и жилищно-коммунального хозяйства области, государственное казенное учреждение Саратовской области "Управление капитального строительства" | C27: всего | D27: =SUM(E27:O27) -> 983629.5 | E27: =E510 -> 375684.5 | F27: =F510 -> 290527.3 | G27: =G510 -> 0 | H27: =H510 -> 847.7 | I27: =I510+I431 -> 151570 | J27: =J510+J431 -> 0 | K27: =K510+K431 -> 0 | L27: =L510+L431 -> 165000 | M27: =M510+M431 -> 0 | N27: =N510+N431 -> 0 | O27: =O510+O431 -> 0 | P27: =L27-#REF! -> #REF! | S27: 983629.5
C28: областной бюджет | D28: =SUM(E28:O28) -> 288946.4 | E28: =E511 -> 75684.5 | F28: =F511 -> 25844.2 | G28: =G511 -> 0 | H28: =H511 -> 847.7 | I28: =I511+I432 -> 21570 | J28: =J511+J432 -> 0 | K28: =K511+K432 -> 0 | L28: =L511+L432 -> 165000 | M28: =M511+M432 -> 0 | N28: =N511+N432 -> 0 | O28: =O511+O432 -> 0 | P28: =L28-#REF! -> #REF!
C29: федеральный бюджет (прогнозно) | D29: =SUM(E29:O29) -> 694683.1 | E29: =E512 -> 300000 | F29: =F512 -> 264683.1 | G29: =G512 -> 0 | H29: =H512 -> 0 | I29: =I512+I433 -> 130000 | J29: =J512+J433 -> 0 | K29: =K512+K433 -> 0 | L29: =L512+L433 -> 0 | M29: =M512+M433 -> 0 | N29: =N512+N433 -> 0 | O29: =O512+O433 -> 0 | P29: =L29-#REF! -> #REF!
C30: местные бюджеты (прогнозно) | D30: =SUM(E30:O30) -> 0 | E30: =E513 -> 0 | F30: =F513 -> 0 | G30: =G513 -> 0 | H30: =H513 -> 0 | I30: =I513+I434 -> 0 | J30: =J513+J434 -> 0 | K30: =K513+K434 -> 0 | L30: =L513+L434 -> 0 | M30: =M513+M434 -> 0 | N30: =N513+N434 -> 0 | O30: =O513+O434 -> 0 | P30: =L30-#REF! -> #REF!
C31: внебюджетные источники (прогнозно) | D31: =SUM(E31:O31) -> 0 | E31: =E514 -> 0 | F31: =F514 -> 0 | G31: =G514 -> 0 | H31: =H514 -> 0 | I31: =I514+I435 -> 0 | J31: =J514+J435 -> 0 | K31: =K514+K435 -> 0 | L31: =L514+L435 -> 0 | M31: =M514+M435 -> 0 | N31: =N514+N435 -> 0 | O31: =O514+O435 -> 0 | P31: =L31-#REF! -> #REF!
C32: государственные внебюджетные фонды и иные безвозмездные поступления целевой направленности (прогнозно) | D32: =SUM(E32:O32) -> 0 | E32: =E515 -> 0 | F32: =F515 -> 0 | G32: =G515 -> 0 | H32: =H515 -> 0 | I32: =I515+I436 -> 0 | J32: =J515+J436 -> 0 | K32: =K515+K436 -> 0 | L32: =L515+L436 -> 0 | M32: =M515+M436 -> 0 | N32: =N515+N436 -> 0 | O32: =O515+O436 -> 0 | P32: =L32-#REF! -> #REF!
B33: управление по охране объектов культурного наследия Правительства области | C33: всего | D33: =SUM(E33:O33) -> 320564.2 | E33: =E298 -> 0 | F33: =F298 -> 3535.8 | G33: =G298 -> 13366.6 | H33: =H298 -> 13625.7 | I33: =I298 -> 20738.1 | J33: =J298 -> 38667.7 | K33: =K298 -> 31377.5 | L33: =L298 -> 64813.2 | ... O33: =O298 -> 44813.2 | P33: =L33-#REF! -> #REF!
C34: областной бюджет | D34: =SUM(E34:O34) -> 252386.7 | E34: =E299 -> 0 | F34: =F299 -> 2353.9 | G34: =G299 -> 7271 | H34: =H299 -> 7525.7 | I34: =I299 -> 14638.1 | J34: =J299 -> 22567.7 | K34: =K299 -> 23177.5 | L34: =L299 -> 58713.2 | ... O34: =O299 -> 38713.2 | P34: =L34-#REF! -> #REF!
C35: федеральный бюджет (прогнозно) | D35: =SUM(E35:O35) -> 0 | E35: =E300 -> 0 | F35: =F300 -> 0 | G35: =G300 -> 0 | H35: =H300 -> 0 | I35: =I300 -> 0 | J35: =J300 -> 0 | K35: =K300 -> 0 | L35: =L300 -> 0 | ... O35: =O300 -> 0 | P35: =L35-#REF! -> #REF!
C36: местные бюджеты (прогнозно) | D36: =SUM(E36:O36) -> 0 | E36: =E301 -> 0 | F36: =F301 -> 0 | G36: =G301 -> 0 | H36: =H301 -> 0 | I36: =I301 -> 0 | J36: =J301 -> 0 | K36: =K301 -> 0 | L36: =L301 -> 0 | ... O36: =O301 -> 0 | P36: =L36-#REF! -> #REF!
C37: внебюджетные источники (прогнозно) | D37: =SUM(E37:O37) -> 58177.5 | E37: =E302 -> 0 | F37: =F302 -> 1181.9 | G37: =G302 -> 6095.6 | H37: =H302 -> 6100 | I37: =I302 -> 6100 | J37: =J302 -> 6100 | K37: =K302 -> 8200 | L37: =L302 -> 6100 | ... O37: =O302 -> 6100 | P37: =L37-#REF! -> #REF!
C38: государственные внебюджетные фонды и иные безвозмездные поступления целевой направленности (прогнозно) | D38: =SUM(E38:O38) -> 10000 | E38: =E303 -> 0 | F38: =F303 -> 0 | G38: =G303 -> 0 | H38: =H303 -> 0 | I38: =I303 -> 0 | J38: =J303 -> 10000 | K38: =K303 -> 0 | L38: =L303 -> 0 | ... O38: =O303 -> 0 | P38: =L38-#REF! -> #REF!
B39: комитет по реализации инвестиционных проектов в строительстве области | C39: всего | D39: =SUM(E39:O39) -> 2020339.7 | E39: =E517 -> 0 | F39: =F517 -> 0 | G39: =G517 -> 0 | H39: =H517 -> 0 | I39: =I517 -> 0 | J39: =J517 -> 56958.5 | K39: =K517 -> 252271.3 | L39: =L517 -> 840493.8 | ... O39: =O517 -> 0 | P39: =L39-#REF! -> #REF!
C40: областной бюджет | D40: =SUM(E40:O40) -> 499253.7 | E40: =E518 -> 0 | F40: =F518 -> 0 | G40: =G518 -> 0 | H40: =H518 -> 0 | I40: =I518 -> 0 | J40: =J518 -> 13005.5 | K40: =K518 -> 62950.3 | L40: =L518 -> 306493.8 | ... O40: =O518 -> 0 | P40: =L40-#REF! -> #REF!
C41: федеральный бюджет (прогнозно) | D41: =SUM(E41:O41) -> 1477133 | E41: =E519 -> 0 | F41: =F519 -> 0 | G41: =G519 -> 0 | H41: =H519 -> 0 | I41: =I519 -> 0 | J41: =J519 -> 0 | K41: =K519 -> 189321 | L41: =L519 -> 534000 | ... O41: =O519 -> 0 | P41: =L41-#REF! -> #REF!
C42: местные бюджеты (прогнозно) | D42: =SUM(E42:O42) -> 0 | E42: =E520 -> 0 | F42: =F520 -> 0 | G42: =G520 -> 0 | H42: =H520 -> 0 | I42: =I520 -> 0 | J42: =J520 -> 0 | K42: =K520 -> 0 | L42: =L520 -> 0 | ... O42: =O520 -> 0 | P42: =L42-#REF! -> #REF!
C43: внебюджетные источники (прогнозно) | D43: =SUM(E43:O43) -> 0 | E43: =E521 -> 0 | F43: =F521 -> 0 | G43: =G521 -> 0 | H43: =H521 -> 0 | I43: =I521 -> 0 | J43: =J521 -> 0 | K43: =K521 -> 0 | L43: =L521 -> 0 | ... O43: =O521 -> 0 | P43: =L43-#REF! -> #REF!
C44: государственные внебюджетные фонды и иные безвозмездные поступления целевой направленности (прогнозно) | D44: =SUM(E44:O44) -> 43953 | E44: =E522 -> 0 | F44: =F522 -> 0 | G44: =G522 -> 0 | H44: =H522 -> 0 | I44: =I522 -> 0 | J44: =J522 -> 43953 | K44: =K522 -> 0 | L44: =L522 -> 0 | ... O44: =O522 -> 0 | P44: =L44-#REF! -> #REF!
B45: министерство внутренней политики и общественных отношений области | C45: всего | D45: =SUM(E45:O45) -> 1927.3 | E45: 0 | F45: 0 | G45: 0 | H45: 0 | I45: 0 | J45: 0 | K45: 0 | L45: =L940 -> 1927.3 | M45: =M940 -> 0 | N45: =N940 -> 0 | O45: =O940 -> 0 | P45: =L45-#REF! -> #REF!
C46: областной бюджет | D46: =SUM(E46:O46) -> 212 | E46: 0 | F46: 0 | G46: 0 | H46: 0 | I46: 0 | J46: 0 | K46: 0 | L46: =L941 -> 212 | M46: =M941 -> 0 | N46: =N941 -> 0 | O46: =O941 -> 0 | P46: =L46-#REF! -> #REF!
C47: федеральный бюджет (прогнозно) | D47: =SUM(E47:O47) -> 1715.3 | E47: 0 | F47: 0 | G47: 0 | H47: 0 | I47: 0 | J47: 0 | K47: 0 | L47: =L942 -> 1715.3 | M47: =M942 -> 0 | N47: =N942 -> 0 | O47: =O942 -> 0 | P47: =L47-#REF! -> #REF!
C48: местные бюджеты (прогнозно) | D48: =SUM(E48:O48) -> 0 | E48: 0 | F48: 0 | G48: 0 | H48: 0 | I48: 0 | J48: 0 | K48: 0 | L48: =L943 -> 0 | M48: =M943 -> 0 | N48: =N943 -> 0 | O48: =O943 -> 0 | P48: =L48-#REF! -> #REF!
C49: внебюджетные источники (прогнозно) | D49: =SUM(E49:O49) -> 0 | E49: 0 | F49: 0 | G49: 0 | H49: 0 | I49: 0 | J49: 0 | K49: 0 | L49: =L944 -> 0 | M49: =M944 -> 0 | N49: =N944 -> 0 | O49: =O944 -> 0 | P49: =L49-#REF! -> #REF!
C50: государственные внебюджетные фонды и иные безвозмездные поступления целевой направленности (прогнозно) | D50: =SUM(E50:O50) -> 0 | E50: 0 | F50: 0 | G50: 0 | H50: 0 | I50: 0 | J50: 0 | K50: 0 | L50: =L945 -> 0 | M50: =M945 -> 0 | N50: =N945 -> 0 | O50: =O945 -> 0 | P50: =L50-#REF! -> #REF!
A51: Подпрограмма 1 "Музеи" | C51: всего | D51: =SUM(E51:O51) -> 3074896.6 | E51: =E57+E63+E69+E75+E81 -> 1003594.2 | F51: =F57+F63+F69+F75+F81 -> 92934.2 | G51: =G57+G63+G69+G75+G81 -> 94181.4 | H51: =H57+H63+H69+H75+H81 -> 103736.2 | I51: =I57+I63+I69+I75+I81 -> 169506.2 | J51: =J57+J63+J69+J75+J81 -> 235463.3 | K51: =K57+K63+K69+K75+K81 -> 220908.6 | L51: =L57+L63+L69+L75+L81 -> 327230.4 | ... O51: =O57+O63+O69+O75+O81 -> 277007 | P51: =L51-#REF! -> #REF!
C52: областной бюджет | D52: =SUM(E52:O52) -> 1519480 | E52: =E58+E64+E70+E76+E82 -> 75475.2 | F52: =F58+F64+F70+F76+F82 -> 81558.7 | G52: =G58+G64+G70+G76+G82 -> 84020.8 | H52: =H58+H64+H70+H76+H82 -> 86216.2 | I52: =I58+I64+I70+I76+I82 -> 108424.6 | J52: =J58+J64+J70+J76+J82 -> 159758.5 | K52: =K58+K64+K70+K76+K82 -> 151943.2 | L52: =L58+L64+L70+L76+L82 -> 209785 | ... O52: =O58+O64+O70+O76+O82 -> 187432.6 | P52: =L52-#REF! -> #REF!
C53: федеральный бюджет (прогнозно) | D53: =SUM(E53:O53) -> 0 | E53: =E59+E65+E71+E77+E83 -> 0 | F53: =F59+F65+F71+F77+F83 -> 0 | G53: =G59+G65+G71+G77+G83 -> 0 | H53: =H59+H65+H71+H77+H83 -> 0 | I53: =I59+I65+I71+I77+I83 -> 0 | J53: =J59+J65+J71+J77+J83 -> 0 | K53: =K59+K65+K71+K77+K83 -> 0 | L53: =L59+L65+L71+L77+L83 -> 0 | ... O53: =O59+O65+O71+O77+O83 -> 0 | P53: =L53-#REF! -> #REF!
C54: местные бюджеты (прогнозно) | D54: =SUM(E54:O54) -> 1388332.1 | E54: =E60+E66+E72+E78+E84 -> 918319 | F54: =F60+F66+F72+F78+F84 -> 1134.5 | G54: =G60+G66+G72+G78+G84 -> 1359 | H54: =H60+H66+H72+H78+H84 -> 7744.9 | I54: =I60+I66+I72+I78+I84 -> 48853.3 | J54: =J60+J66+J72+J78+J84 -> 55947.8 | K54: =K60+K66+K72+K78+K84 -> 57638.7 | L54: =L60+L66+L72+L78+L84 -> 97688.4 | ... O54: =O60+O66+O72+O78+O84 -> 66703.4 | P54: =L54-#REF! -> #REF!
C55: внебюджетные источники (прогнозно) | D55: =SUM(E55:O55) -> 167084.5 | E55: =E61+E67+E73+E79+E85 -> 9800 | F55: =F61+F67+F73+F79+F85 -> 10241 | G55: =G61+G67+G73+G79+G85 -> 8801.6 | H55: =H61+H67+H73+H79+H85 -> 9775.1 | I55: =I61+I67+I73+I79+I85 -> 12228.3 | J55: =J61+J67+J73+J79+J85 -> 19757 | K55: =K61+K67+K73+K79+K85 -> 11326.7 | L55: =L61+L67+L73+L79+L85 -> 19757 | ... O55: =O61+O67+O73+O79+O85 -> 22871 | P55: =L55-#REF! -> #REF!
D56: =SUM(E56:O56) -> 0 | E56: =E62+E68+E74+E80+E86 -> 0 | F56: =F62+F68+F74+F80+F86 -> 0 | G56: =G62+G68+G74+G80+G86 -> 0 | H56: =H62+H68+H74+H80+H86 -> 0 | I56: =I62+I68+I74+I80+I86 -> 0 | J56: =J62+J68+J74+J80+J86 -> 0 | K56: =K62+K68+K74+K80+K86 -> 0 | L56: =L62+L68+L74+L80+L86 -> 0 | ... O56: =O62+O68+O74+O80+O86 -> 0 | P56: =L56-#REF! -> #REF!
A57: Основное мероприятие 1.1 "Оказание государственных услуг населению музеями" | B57: министерство культуры области, органы местного самоуправления (по согласованию) | C57: всего | D57: =SUM(E57:O57) -> 3024733.8 | E57: 997386.1 | F57: 91082.2 | G57: 92311.1 | H57: 102111.5 | I57: 165806.2 | J57: 229798.3 | K57: =K58+K59+K60+K61+K62 -> 218265.9 | L57: =L58+L59+L60+L61+L62 -> 320580.4 | M57: =M58+M59+M60+M61+M62 -> 267817.2 | N57: =N58+N59+N60+N61+N62 -> 269217.9 | O57: =O58+O59+O60+O61+O62 -> 270357 | P57: =L57-#REF! -> #REF!
C58: областной бюджет | D58: =SUM(E58:O58) -> 1469317.2 | E58: 69267.1 | F58: 79706.7 | G58: 82150.5 | H58: 84591.5 | I58: 104724.6 | J58: 154093.5 | K58: 149300.5 | L58: 203135 | M58: =180782.6 -> 180782.6 | N58: =180782.6 -> 180782.6 | O58: 180782.6 | P58: =L58-#REF! -> #REF!
C59: федеральный бюджет (прогнозно) | D59: =SUM(E59:O59) -> 0 | E59: 0 | F59: 0 | G59: 0 | H59: 0 | I59: 0 | J59: 0 | K59: 0 | L59: 0 | M59: 0 | N59: 0 | O59: 0 | P59: =L59-#REF! -> #REF!
C60: местные бюджеты (прогнозно) | D60: =SUM(E60:O60) -> 1388332.1 | E60: 918319 | F60: 1134.5 | G60: 1359 | H60: 7744.9 | I60: 48853.3 | J60: 55947.8 | K60: 57638.7 | L60: 97688.4 | M60: 66289.8 | N60: 66653.3 | O60: 66703.4 | P60: =L60-#REF! -> #REF!
C61: внебюджетные источники (прогнозно) | D61: =SUM(E61:O61) -> 167084.5 | E61: 9800 | F61: 10241 | G61: 8801.6 | H61: 9775.1 | I61: 12228.3 | J61: 19757 | K61: 11326.7 | L61: 19757 | M61: 20744.8 | N61: 21782 | O61: 22871 | P61: =L61-#REF! -> #REF!
D62: =SUM(E62:O62) -> 0 | P62: =L62-#REF! -> #REF!
A63: Основное мероприятие 1.2 "Обеспечение сохранности музейных предметов и музейных коллекций, находящихся в государственной собственности области" | B63: министерство культуры области | C63: всего | D63: =SUM(E63:O63) -> 2697.4 | E63: 870 | F63: 120 | G63: 48.4 | H63: 0 | I63: 184 | J63: 250 | K63: =K64+K65+K66+K67+K68 -> 225 | L63: =L64+L65+L66+L67+L68 -> 250 | M63: =M64+M65+M66+M67+M68 -> 250 | N63: =N64+N65+N66+N67+N68 -> 250 | O63: =O64+O65+O66+O67+O68 -> 250 | P63: =L63-#REF! -> #REF!
C64: областной бюджет | D64: =SUM(E64:O64) -> 2697.4 | E64: 870 | F64: 120 | G64: 48.4 | H64: 0 | I64: 184 | J64: 250 | K64: 225 | L64: 250 | M64: 250 | N64: 250 | O64: 250 | P64: =L64-#REF! -> #REF!
C65: федеральный бюджет (прогнозно) | D65: =SUM(E65:O65) -> 0 | E65: 0 | F65: 0 | G65: 0 | H65: 0 | I65: 0 | J65: 0 | K65: 0 | L65: 0 | M65: 0 | N65: 0 | O65: 0 | P65: =L65-#REF! -> #REF!
C66: местные бюджеты (прогнозно) | D66: =SUM(E66:O66) -> 0 | E66: 0 | F66: 0 | G66: 0 | H66: 0 | I66: 0 | J66: 0 | K66: 0 | L66: 0 | M66: 0 | N66: 0 | O66: 0 | P66: =L66-#REF! -> #REF!
C67: внебюджетные источники (прогнозно) | D67: =SUM(E67:O67) -> 0 | E67: 0 | F67: 0 | G67: 0 | H67: 0 | I67: 0 | J67: 0 | K67: 0 | L67: 0 | M67: 0 | N67: 0 | O67: 0 | P67: =L67-#REF! -> #REF!
D68: =SUM(E68:O68) -> 0 | P68: =L68-#REF! -> #REF!
A69: Основное мероприятие 1.3 "Обеспечение пополнения и комплектования фондов областных музеев новыми уникальными экспонатами" | B69: министерство культуры области | C69: всего | D69: =SUM(E69:O69) -> 5040 | E69: 1720 | F69: 200 | G69: 200 | H69: 200 | I69: 360 | J69: 400 | K69: =K70+K71+K72+K73+K74 -> 360 | L69: =L70+L71+L72+L73+L74 -> 400 | M69: =M70+M71+M72+M73+M74 -> 400 | N69: =N70+N71+N72+N73+N74 -> 400 | O69: =O70+O71+O72+O73+O74 -> 400 | P69: =L69-#REF! -> #REF!
C70: областной бюджет | D70: =SUM(E70:O70) -> 5040 | E70: 1720 | F70: 200 | G70: 200 | H70: 200 | I70: 360 | J70: 400 | K70: 360 | L70: 400 | M70: 400 | N70: 400 | O70: 400 | P70: =L70-#REF! -> #REF!
C71: федеральный бюджет (прогнозно) | D71: =SUM(E71:O71) -> 0 | E71: 0 | F71: 0 | G71: 0 | H71: 0 | I71: 0 | J71: 0 | K71: 0 | L71: 0 | M71: 0 | N71: 0 | O71: 0 | P71: =L71-#REF! -> #REF!
C72: местные бюджеты (прогнозно) | D72: =SUM(E72:O72) -> 0 | E72: 0 | F72: 0 | G72: 0 | H72: 0 | I72: 0 | J72: 0 | K72: 0 | L72: 0 | M72: 0 | N72: 0 | O72: 0 | P72: =L72-#REF! -> #REF!
C73: внебюджетные источники (прогнозно) | D73: =SUM(E73:O73) -> 0 | E73: 0 | F73: 0 | G73: 0 | H73: 0 | I73: 0 | J73: 0 | K73: 0 | L73: 0 | M73: 0 | N73: 0 | O73: 0 | P73: =L73-#REF! -> #REF!
D74: =SUM(E74:O74) -> 0 | P74: =L74-#REF! -> #REF!
