Workbook

Sheet Приложение 5 (06.10.23 МИНЭКО)
C1: =C2-C3 -> 0 | D1: =D2-D3 -> -0.1 | E1: =E2-E3 -> 0.1 | F1: =F2-F3 -> 77961.6 | G1: =G2-G3 -> 77961.6 | H1: =H2-H3 -> 77961.6 | I1: =I2-I3 -> 77961.6 | J1: =J2-J3 -> -21340128
C2: 4078718 | D2: 2927079.8 | E2: 2929235.4 | F2: 2929235.4 | G2: 2929235.4 | H2: 2929235.4 | I2: 2929235.4
C3: =C8+C10 -> 4078718 | D3: =D8+D10 -> 2927079.9 | E3: =E8+E10 -> 2929235.3 | F3: =F8+F10 -> 2851273.8 | G3: =G8+G10 -> 2851273.8 | H3: =H8+H10 -> 2851273.8 | I3: =I8+I10 -> 2851273.8 | J3: =J8+J10 -> 21340128
A4: Наименование государственной программы, структурного элемента/источник финансового обеспечения | B4: Объемы финансового обеспечения всего, (тыс. рублей) | C4: Объемы финансового обеспечения по годам реализации, тыс. рублей
C5: 2024 | D5: 2025 | E5: 2026 | F5: 2027 | G5: 2028 | H5: 2029 | I5: 2030 | J5: всего
A6: 1 | B6: 4 | C6: 2 | D6: 3 | E6: 4 | F6: 5 | G6: 6 | H6: 7 | I6: 8 | J6: 9
A7: Государственная программа Саратовской области "Культура Саратовской области" | B7: 39483185 | C7: =C19+C61+C103+C145+C163+C181+C265+C307+C343+C367+C379+C391+C469+C506+C524+C536+C656+C740+C752+C764 -> 6958742.3 | D7: =D19+D61+D103+D145+D163+D181+D265+D307+D343+D367+D379+D391+D469+D506+D524+D536+D656+D740+D752+D764 -> 5810899.7 | E7: =E19+E61+E103+E145+E163+E181+E265+E307+E343+E367+E379+E391+E469+E506+E524+E536+E656+E740+E752+E764 -> 5813055.1 | F7: =F19+F61+F103+F145+F163+F181+F265+F307+F343+F367+F379+F391+F469+F506+F524+F536+F656+F740+F752+F764 -> 5735093.6 | G7: =G19+G61+G103+G145+G163+G181+G265+G307+G343+G367+G379+G391+G469+G506+G524+G536+G656+G740+G752+G764 -> 5735093.6 | H7: =H19+H61+H103+H145+H163+H181+H265+H307+H343+H367+H379+H391+H469+H506+H524+H536+H656+H740+H752+H764 -> 5735093.6 | I7: =I19+I61+I103+I145+I163+I181+I265+I307+I343+I367+I379+I391+I469+I506+I524+I536+I656+I740+I752+I764 -> 5735093.6 | J7: =SUM(C7:I7) -> 41523072
A8: федеральный бюджет | C8: =C20+C62+C104+C146+C164+C182+C266+C308+C344+C368+C380+C392+C470+C507+C525+C537+C657+C741+C753+C765 -> 806542 | D8: =D20+D62+D104+D146+D164+D182+D266+D308+D344+D368+D380+D392+D470+D507+D525+D537+D657+D741+D753+D765 -> 67361 | E8: =E20+E62+E104+E146+E164+E182+E266+E308+E344+E368+E380+E392+E470+E507+E525+E537+E657+E741+E753+E765 -> 69385.8 | F8: =F20+F62+F104+F146+F164+F182+F266+F308+F344+F368+F380+F392+F470+F507+F525+F537+F657+F741+F753+F765 -> 0 | G8: =G20+G62+G104+G146+G164+G182+G266+G308+G344+G368+G380+G392+G470+G507+G525+G537+G657+G741+G753+G765 -> 0 | H8: =H20+H62+H104+H146+H164+H182+H266+H308+H344+H368+H380+H392+H470+H507+H525+H537+H657+H741+H753+H765 -> 0 | I8: =I20+I62+I104+I146+I164+I182+I266+I308+I344+I368+I380+I392+I470+I507+I525+I537+I657+I741+I753+I765 -> 0 | J8: =SUM(C8:I8) -> 943288.8
A9: консолидированный бюджет области (всего), в том числе: | C9: =C21+C63+C105+C147+C165+C183+C267+C309+C345+C369+C381+C393+C471+C508+C526+C538+C658+C742+C754+C766 -> 5986289.3 | D9: =D21+D63+D105+D147+D165+D183+D267+D309+D345+D369+D381+D393+D471+D508+D526+D538+D658+D742+D754+D766 -> 5577627.7 | E9: =E21+E63+E105+E147+E165+E183+E267+E309+E345+E369+E381+E393+E471+E508+E526+E538+E658+E742+E754+E766 -> 5577758.3 | F9: =F21+F63+F105+F147+F165+F183+F267+F309+F345+F369+F381+F393+F471+F508+F526+F538+F658+F742+F754+F766 -> 5569182.6 | G9: =G21+G63+G105+G147+G165+G183+G267+G309+G345+G369+G381+G393+G471+G508+G526+G538+G658+G742+G754+G766 -> 5569182.6 | H9: =H21+H63+H105+H147+H165+H183+H267+H309+H345+H369+H381+H393+H471+H508+H526+H538+H658+H742+H754+H766 -> 5569182.6 | I9: =I21+I63+I105+I147+I165+I183+I267+I309+I345+I369+I381+I393+I471+I508+I526+I538+I658+I742+I754+I766 -> 5569182.6 | J9: =SUM(C9:I9) -> 39418406
A10: областной бюджет | B10: 18384878 | C10: =C22+C64+C106+C148+C166+C184+C268+C310+C346+C370+C382+C394+C472+C509+C527+C539+C659+C743+C755+C767 -> 3272176 | D10: =D22+D64+D106+D148+D166+D184+D268+D310+D346+D370+D382+D394+D472+D509+D527+D539+D659+D743+D755+D767 -> 2859718.9 | E10: =E22+E64+E106+E148+E166+E184+E268+E310+E346+E370+E382+E394+E472+E509+E527+E539+E659+E743+E755+E767 -> 2859849.5 | F10: =F22+F64+F106+F148+F166+F184+F268+F310+F346+F370+F382+F394+F472+F509+F527+F539+F659+F743+F755+F767 -> 2851273.8 | G10: =G22+G64+G106+G148+G166+G184+G268+G310+G346+G370+G382+G394+G472+G509+G527+G539+G659+G743+G755+G767 -> 2851273.8 | H10: =H22+H64+H106+H148+H166+H184+H268+H310+H346+H370+H382+H394+H472+H509+H527+H539+H659+H743+H755+H767 -> 2851273.8 | I10: =I22+I64+I106+I148+I166+I184+I268+I310+I346+I370+I382+I394+I472+I509+I527+I539+I659+I743+I755+I767 -> 2851273.8 | J10: =SUM(C10:I10) -> 20396840
A11: местные бюджеты | B11: 18993391 | C11: =C23+C65+C107+C149+C167+C185+C269+C311+C347+C371+C383+C395+C473+C510+C528+C540+C660+C744+C756+C768 -> 2714113.3 | D11: =D23+D65+D107+D149+D167+D185+D269+D311+D347+D371+D383+D395+D473+D510+D528+D540+D660+D744+D756+D768 -> 2717908.8 | E11: =E23+E65+E107+E149+E167+E185+E269+E311+E347+E371+E383+E395+E473+E510+E528+E540+E660+E744+E756+E768 -> 2717908.8 | F11: =F23+F65+F107+F149+F167+F185+F269+F311+F347+F371+F383+F395+F473+F510+F528+F540+F660+F744+F756+F768 -> 2717908.8 | G11: =G23+G65+G107+G149+G167+G185+G269+G311+G347+G371+G383+G395+G473+G510+G528+G540+G660+G744+G756+G768 -> 2717908.8 | H11: =H23+H65+H107+H149+H167+H185+H269+H311+H347+H371+H383+H395+H473+H510+H528+H540+H660+H744+H756+H768 -> 2717908.8 | I11: =I23+I65+I107+I149+I167+I185+I269+I311+I347+I371+I383+I395+I473+I510+I528+I540+I660+I744+I756+I768 -> 2717908.8 | J11: =SUM(C11:I11) -> 19021566
A12: внебюджетные источники | B12: 1161377 | C12: =C24+C66+C108+C150+C168+C186+C270+C312+C348+C372+C384+C396+C474+C511+C529+C541+C661+C745+C757+C769 -> 165911 | D12: =D24+D66+D108+D150+D168+D186+D270+D312+D348+D372+D384+D396+D474+D511+D529+D541+D661+D745+D757+D769 -> 165911 | E12: =E24+E66+E108+E150+E168+E186+E270+E312+E348+E372+E384+E396+E474+E511+E529+E541+E661+E745+E757+E769 -> 165911 | F12: =F24+F66+F108+F150+F168+F186+F270+F312+F348+F372+F384+F396+F474+F511+F529+F541+F661+F745+F757+F769 -> 165911 | G12: =G24+G66+G108+G150+G168+G186+G270+G312+G348+G372+G384+G396+G474+G511+G529+G541+G661+G745+G757+G769 -> 165911 | H12: =H24+H66+H108+H150+H168+H186+H270+H312+H348+H372+H384+H396+H474+H511+H529+H541+H661+H745+H757+H769 -> 165911 | I12: =I24+I66+I108+I150+I168+I186+I270+I312+I348+I372+I384+I396+I474+I511+I529+I541+I661+I745+I757+I769 -> 165911 | J12: =SUM(C12:I12) -> 1161377
A13: Подпрограмма 1 "Развитие искусства и творчества" Комплекс процессных мероприятий 1 «Создание условий для развития искусства и творчества» | B13: 1981815.5 | C13: =C19+C61+C103+C145+C163 -> 3593923.6 | D13: =D19+D61+D103+D145+D163 -> 3570844.1 | E13: =E19+E61+E103+E145+E163 -> 3570604.1 | F13: =F19+F61+F103+F145+F163 -> 3570604.1 | G13: =G19+G61+G103+G145+G163 -> 3570604.1 | H13: =H19+H61+H103+H145+H163 -> 3570604.1 | I13: =I19+I61+I103+I145+I163 -> 3570604.1 | J13: =SUM(C13:I13) -> 25017788
A14: федеральный бюджет | B14: 0 | C14: =C20+C62+C104+C146+C164 -> 0 | D14: =D20+D62+D104+D146+D164 -> 0 | E14: =E20+E62+E104+E146+E164 -> 0 | F14: =F20+F62+F104+F146+F164 -> 0 | G14: =G20+G62+G104+G146+G164 -> 0 | H14: =H20+H62+H104+H146+H164 -> 0 | I14: =I20+I62+I104+I146+I164 -> 0 | J14: =SUM(C14:I14) -> 0
A15: консолидированный бюджет области (всего), в том числе: | C15: =C21+C63+C105+C147+C165 -> 3456597.7 | D15: =D21+D63+D105+D147+D165 -> 3433518.2 | E15: =E21+E63+E105+E147+E165 -> 3433278.2 | F15: =F21+F63+F105+F147+F165 -> 3433278.2 | G15: =G21+G63+G105+G147+G165 -> 3433278.2 | H15: =H21+H63+H105+H147+H165 -> 3433278.2 | I15: =I21+I63+I105+I147+I165 -> 3433278.2 | J15: =SUM(C15:I15) -> 24056507
A16: областной бюджет | B16: 1453389.7 | C16: =C22+C64+C106+C148+C166 -> 1498163.4 | D16: =D22+D64+D106+D148+D166 -> 1475083.9 | E16: =E22+E64+E106+E148+E166 -> 1474843.9 | F16: =F22+F64+F106+F148+F166 -> 1474843.9 | G16: =G22+G64+G106+G148+G166 -> 1474843.9 | H16: =H22+H64+H106+H148+H166 -> 1474843.9 | I16: =I22+I64+I106+I148+I166 -> 1474843.9 | J16: =SUM(C16:I16) -> 10347467
A17: местные бюджеты | B17: 387573.9 | C17: =C23+C65+C107+C149+C167 -> 1958434.3 | D17: =D23+D65+D107+D149+D167 -> 1958434.3 | E17: =E23+E65+E107+E149+E167 -> 1958434.3 | F17: =F23+F65+F107+F149+F167 -> 1958434.3 | G17: =G23+G65+G107+G149+G167 -> 1958434.3 | H17: =H23+H65+H107+H149+H167 -> 1958434.3 | I17: =I23+I65+I107+I149+I167 -> 1958434.3 | J17: =SUM(C17:I17) -> 13709040
A18: внебюджетные источники | B18: 140851.9 | C18: =C24+C66+C108+C150+C168 -> 137325.9 | D18: =D24+D66+D108+D150+D168 -> 137325.9 | E18: =E24+E66+E108+E150+E168 -> 137325.9 | F18: =F24+F66+F108+F150+F168 -> 137325.9 | G18: =G24+G66+G108+G150+G168 -> 137325.9 | H18: =H24+H66+H108+H150+H168 -> 137325.9 | I18: =I24+I66+I108+I150+I168 -> 137325.9 | J18: =SUM(C18:I18) -> 961281.3
A19: Комплекс процессных мероприятий 1.1 «Музеи» | B19: 1981815.5 | C19: =C31 -> 323947.4 | D19: =D31 -> 300294.3 | E19: =E31 -> 300294.3 | F19: =F31 -> 300294.3 | G19: =G31 -> 300294.3 | H19: =H31 -> 300294.3 | I19: =I31 -> 300294.3 | J19: =SUM(C19:I19) -> 2125713.2
A20: федеральный бюджет (прогнозно) | B20: 0 | C20: =C32 -> 0 | D20: =D32 -> 0 | E20: =E32 -> 0 | F20: =F32 -> 0 | G20: =G32 -> 0 | H20: =H32 -> 0 | I20: =I32 -> 0 | J20: =SUM(C20:I20) -> 0
A21: консолидированный бюджет области (всего), в том числе: | C21: =C33 -> 303825.7 | D21: =D33 -> 280172.6 | E21: =E33 -> 280172.6 | F21: =F33 -> 280172.6 | G21: =G33 -> 280172.6 | H21: =H33 -> 280172.6 | I21: =I33 -> 280172.6 | J21: =SUM(C21:I21) -> 1984861.3
A22: областной бюджет | B22: 1453389.7 | C22: =C34 -> 248458 | D22: =D34 -> 224804.9 | E22: =E34 -> 224804.9 | F22: =F34 -> 224804.9 | G22: =G34 -> 224804.9 | H22: =H34 -> 224804.9 | I22: =I34 -> 224804.9 | J22: =SUM(C22:I22) -> 1597287.4
A23: местные бюджеты | B23: 387573.9 | C23: =C35 -> 55367.7 | D23: =D35 -> 55367.7 | E23: =E35 -> 55367.7 | F23: =F35 -> 55367.7 | G23: =G35 -> 55367.7 | H23: =H35 -> 55367.7 | I23: =I35 -> 55367.7 | J23: =SUM(C23:I23) -> 387573.9
A24: внебюджетные источники | B24: 140851.9 | C24: =C36 -> 20121.7 | D24: =D36 -> 20121.7 | E24: =E36 -> 20121.7 | F24: =F36 -> 20121.7 | G24: =G36 -> 20121.7 | H24: =H36 -> 20121.7 | I24: =I36 -> 20121.7 | J24: =SUM(C24:I24) -> 140851.9
A25: Мероприятие (результат) 1.1.1"Оказаны государственные услуги населению музеями" | B25: 1940060.5 | C25: =C26+C27 -> 277151.5 | D25: =D26+D27 -> 277151.5 | E25: =E26+E27 -> 277151.5 | F25: =F26+F27 -> 277151.5 | G25: =G26+G27 -> 277151.5 | H25: =H26+H27 -> 277151.5 | I25: =I26+I27 -> 277151.5 | J25: =SUM(C25:I25) -> 1940060.5
A26: федеральный бюджет | B26: 0 | C26: 0 | D26: 0 | E26: 0 | F26: 0 | G26: 0 | H26: 0 | I26: 0 | J26: =SUM(C26:I26) -> 0
A27: консолидированный бюджет области (всего), в том числе: | B27: =B28+B29 -> 1799208.6 | C27: =C28+C29+C30 -> 277151.5 | D27: =D28+D29+D30 -> 277151.5 | E27: =E28+E29+E30 -> 277151.5 | F27: =F28+F29+F30 -> 277151.5 | G27: =G28+G29+G30 -> 277151.5 | H27: =H28+H29+H30 -> 277151.5 | I27: =I28+I29+I30 -> 277151.5 | J27: =SUM(C27:I27) -> 1940060.5
A28: областной бюджет | B28: 1411634.7 | C28: 201662.1 | D28: 201662.1 | E28: 201662.1 | F28: 201662.1 | G28: 201662.1 | H28: 201662.1 | I28: 201662.1 | J28: =SUM(C28:I28) -> 1411634.7
A29: местные бюджеты | B29: 387573.9 | C29: 55367.7 | D29: 55367.7 | E29: 55367.7 | F29: 55367.7 | G29: 55367.7 | H29: 55367.7 | I29: 55367.7 | J29: =SUM(C29:I29) -> 387573.9
A30: внебюджетные источники | B30: 140851.9 | C30: =3087.7+17034 -> 20121.7 | D30: =3087.7+17034 -> 20121.7 | E30: =3087.7+17034 -> 20121.7 | F30: =3087.7+17034 -> 20121.7 | G30: =3087.7+17034 -> 20121.7 | H30: =3087.7+17034 -> 20121.7 | I30: =3087.7+17034 -> 20121.7 | J30: =SUM(C30:I30) -> 140851.9
A31: Мероприятие (результат) 1.1.1"Организованы и проведены мероприятия музеями" | B31: 1940060.5 | C31: =C32+C33+C36 -> 323947.4 | D31: =D32+D33+D36 -> 300294.3 | E31: =E32+E33+E36 -> 300294.3 | F31: =F32+F33+F36 -> 300294.3 | G31: =G32+G33+G36 -> 300294.3 | H31: =H32+H33+H36 -> 300294.3 | I31: =I32+I33+I36 -> 300294.3 | J31: =SUM(C31:I31) -> 2125713.2
A32: федеральный бюджет | B32: 0 | C32: =C38+C44+C50+C56+C26 -> 0 | D32: =D38+D44+D50+D56+D26 -> 0 | E32: =E38+E44+E50+E56+E26 -> 0 | F32: =F38+F44+F50+F56+F26 -> 0 | G32: =G38+G44+G50+G56+G26 -> 0 | H32: =H38+H44+H50+H56+H26 -> 0 | I32: =I38+I44+I50+I56+I26 -> 0 | J32: =SUM(C32:I32) -> 0
A33: консолидированный бюджет области (всего), в том числе: | B33: =B34+B35 -> 1799208.6 | C33: =C34+C35 -> 303825.7 | D33: =D34+D35 -> 280172.6 | E33: =E34+E35 -> 280172.6 | F33: =F34+F35 -> 280172.6 | G33: =G34+G35 -> 280172.6 | H33: =H34+H35 -> 280172.6 | I33: =I34+I35 -> 280172.6 | J33: =SUM(C33:I33) -> 1984861.3
A34: областной бюджет | B34: 1411634.7 | C34: 248458 | D34: 224804.9 | E34: 224804.9 | F34: 224804.9 | G34: 224804.9 | H34: 224804.9 | I34: 224804.9 | J34: =SUM(C34:I34) -> 1597287.4
A35: местные бюджеты | B35: 387573.9 | C35: 55367.7 | D35: 55367.7 | E35: 55367.7 | F35: 55367.7 | G35: 55367.7 | H35: 55367.7 | I35: 55367.7 | J35: =SUM(C35:I35) -> 387573.9
A36: внебюджетные источники | B36: 140851.9 | C36: 20121.7 | D36: 20121.7 | E36: 20121.7 | F36: 20121.7 | G36: 20121.7 | H36: 20121.7 | I36: 20121.7 | J36: =SUM(C36:I36) -> 140851.9
A37: Мероприятие (результат) 1.2"Обеспеченна сохранность музейных предметов и музейных коллекций, находящихся в государственной собственности области" | B37: 1575 | C37: =C38+C39 -> 225 | D37: =D38+D39 -> 225 | E37: =E38+E39 -> 225 | F37: =F38+F39 -> 225 | G37: =G38+G39 -> 225 | H37: =H38+H39 -> 225 | I37: =I38+I39 -> 225 | J37: =SUM(C37:I37) -> 1575
A38: федеральный бюджет | B38: 0 | C38: 0 | D38: 0 | E38: 0 | F38: 0 | G38: 0 | H38: 0 | I38: 0 | J38: =SUM(C38:I38) -> 0
A39: консолидированный бюджет области (всего), в том числе: | B39: 0 | C39: =C40+C41+C42 -> 225 | D39: =D40+D41+D42 -> 225 | E39: =E40+E41+E42 -> 225 | F39: =F40+F41+F42 -> 225 | G39: =G40+G41+G42 -> 225 | H39: =H40+H41+H42 -> 225 | I39: =I40+I41+I42 -> 225 | J39: =SUM(C39:I39) -> 1575
A40: областной бюджет | B40: 1575 | C40: 225 | D40: 225 | E40: 225 | F40: 225 | G40: 225 | H40: 225 | I40: 225 | J40: =SUM(C40:I40) -> 1575
...

Sheet приложение 15
B1: Сведения о расходах на реализацию государственной программы
B2: "Культура Саратовской области"
B3: произведенных за 2025 год за счет соответствующих источников финансового обеспечения
A5: № п/п | B5: Наименование государственной программы (комплексной программы), подпрограммы, структурных элементов | C5: Ответственный исполнитель | D5: Источники финансового обеспечения | E5: Предусмотрено в государственной программе | F5: Утверждено в законе об областном бюджете на соответствующий год <*> | G5: Выделены лимиты бюджетных обязательств за счет средств областного бюджета | H5: Исполнено | J5: Процент исполнения | L5: комментарий
H6: Кассовое исполнение | I6: Фактические исполнение | J6: фактическое исполнение (гр. 9 / гр. 5) | K6: кассовое исполнение (гр. 8 / гр. 6)
A7: 1 | B7: 2 | C7: 3 | D7: 4 | E7: 5 | F7: 6 | G7: 7 | H7: 8 | I7: 9 | J7: 10 | K7: 11 | L7: 12
A8: 1. | B8: Государственная программа Саратовской области "Культура Саратовской области" | C8: министерство культуры Саратовской области | D8: всего | E8: =E9+E10+E11+E13+E14+E15 -> 7704489.5 | F8: х | G8: х | H8: х | I8: =I9+I10+I11+I13+I14+I15 -> 7095581.4 | J8: =I8/E8*100 -> 92.09671 | K8: х
D9: федеральный бюджет | E9: =E25+E49+E65+E73+E81+E89+E97+E113+E129+E145+E161+E169+E177+E209+E233+E241+E249+E353+E425+E441+E481+E505+E457 -> 599623.1 | F9: =F25+F49+F65+F73+F81+F89+F97+F113+F129+F145+F161+F169+F177+F209+F233+F241+F249+F353+F425+F441+F481+F505 -> 599623.1 | G9: =G25+G49+G65+G73+G81+G89+G97+G113+G129+G145+G161+G169+G177+G209+G233+G241+G249+G353+G425+G441+G481+G505 -> 599623.1 | H9: =H25+H49+H65+H73+H81+H89+H97+H113+H129+H145+H161+H169+H177+H209+H233+H241+H249+H353+H425+H441+H481+H505 -> 599623.1 | I9: =I25+I49+I65+I73+I81+I89+I97+I113+I129+I145+I161+I169+I177+I209+I233+I241+I249+I353+I425+I441+I481+I505+I457 -> 599623.1 | J9: =I9/E9*100 -> 100 | K9: 100
D10: бюджеты государственных внебюджетных фондов | E10: =E26+E50+E66+E74+E82+E90+E98+E114+E130+E146+E162+E170+E178+E210+E234+E242+E250+E354+E426+E442+E482+E506+E458 -> 0 | F10: =F26+F50+F66+F74+F82+F90+F98+F114+F130+F146+F162+F170+F178+F210+F234+F242+F250+F354+F426+F442+F482+F506 -> 0 | G10: =G26+G50+G66+G74+G82+G90+G98+G114+G130+G146+G162+G170+G178+G210+G234+G242+G250+G354+G426+G442+G482+G506 -> 0 | H10: =H26+H50+H66+H74+H82+H90+H98+H114+H130+H146+H162+H170+H178+H210+H234+H242+H250+H354+H426+H442+H482+H506 -> 0 | I10: =I26+I50+I66+I74+I82+I90+I98+I114+I130+I146+I162+I170+I178+I210+I234+I242+I250+I354+I426+I442+I482+I506+I458 -> 0 | J10: 0 | K10: 0
D11: иные безвозмездные поступления целевой направленности | E11: =E27+E51+E67+E75+E83+E91+E99+E115+E131+E147+E163+E171+E179+E211+E235+E243+E251+E355+E427+E443+E483+E507+E459 -> 0 | F11: =F27+F51+F67+F75+F83+F91+F99+F115+F131+F147+F163+F171+F179+F211+F235+F243+F251+F355+F427+F443+F483+F507 -> 0 | G11: =G27+G51+G67+G75+G83+G91+G99+G115+G131+G147+G163+G171+G179+G211+G235+G243+G251+G355+G427+G443+G483+G507 -> 0 | H11: =H27+H51+H67+H75+H83+H91+H99+H115+H131+H147+H163+H171+H179+H211+H235+H243+H251+H355+H427+H443+H483+H507 -> 0 | I11: =I27+I51+I67+I75+I83+I91+I99+I115+I131+I147+I163+I171+I179+I211+I235+I243+I251+I355+I427+I443+I483+I507+I459 -> 0 | J11: 0 | K11: 0
D12: консолидированный бюджет области (всего), в том числе: | E12: =E28+E52+E68+E76+E84+E92+E100+E116+E132+E148+E164+E172+E180+E212+E236+E244+E252+E356+E428+E444+E484+E508+E460 -> 7039699.2 | F12: х | G12: х | H12: х | I12: =I28+I52+I68+I76+I84+I92+I100+I116+I132+I148+I164+I172+I180+I212+I236+I244+I252+I356+I428+I444+I484+I508+I460 -> 6430791 | J12: =I12/E12*100 -> 91.350366 | K12: х
D13: областной бюджет | E13: =E29+E53+E69+E77+E85+E93+E101+E117+E133+E149+E165+E173+E181+E213+E237+E245+E253+E357+E429+E445+E485+E509+E461 -> 4614557.9 | F13: =F29+F53+F69+F77+F85+F93+F101+F117+F133+F149+F165+F173+F181+F213+F237+F245+F253+F357+F429+F445+F485+F509+F461 -> 4614557.9 | G13: =G29+G53+G69+G77+G85+G93+G101+G117+G133+G149+G165+G173+G181+G213+G237+G245+G253+G357+G429+G445+G485+G509+G461 -> 4614557.9 | H13: =H29+H53+H69+H77+H85+H93+H101+H117+H133+H149+H165+H173+H181+H213+H237+H245+H253+H357+H429+H445+H485+H509+H461 -> 4005649.8 | I13: =I29+I53+I69+I77+I85+I93+I101+I117+I133+I149+I165+I173+I181+I213+I237+I245+I253+I357+I429+I445+I485+I509+I461 -> 4005649.8 | J13: =I13/E13*100 -> 86.804627 | K13: =H13/F13*100 -> 86.804627
D14: местные бюджеты | E14: =E30+E54+E70+E78+E86+E94+E102+E118+E134+E150+E166+E174+E182+E214+E238+E246+E254+E358+E430+E446+E486+E510+E462 -> 2425141.3 | F14: х | G14: х | H14: х | I14: =I30+I54+I70+I78+I86+I94+I102+I118+I134+I150+I166+I174+I182+I214+I238+I246+I254+I358+I430+I446+I486+I510+I462 -> 2425141.3 | J14: =I14/E14*100 -> 100 | K14: х
D15: внебюджетные источники | E15: =E31+E55+E71+E79+E87+E95+E103+E119+E135+E151+E167+E175+E183+E215+E239+E247+E255+E359+E431+E447+E487+E511+E463 -> 65167.2 | F15: х | G15: х | H15: х | I15: =I31+I55+I71+I79+I87+I95+I103+I119+I135+I151+I167+I175+I183+I215+I239+I247+I255+I359+I431+I447+I487+I511+I463 -> 65167.2 | J15: =I15/E15*100 -> 100 | K15: х
A16: 2 | B16: Подпрограмма 1 "Развитие искусства и творчества" | C16: министерство культуры Саратовской области | D16: всего | E16: =E24+E48+E64+E72+E80+E88+E96 -> 3725713.8 | F16: х | G16: х | H16: х | I16: =I24+I48+I64+I72+I80+I88+I96 -> 3725696.7 | J16: =I16/E16*100 -> 99.999542 | K16: х
D17: федеральный бюджет | E17: =E25+E49+E65+E73+E81+E89+E97 -> 32886.4 | F17: =F25+F49+F65+F73+F81+F89+F97 -> 32886.4 | G17: =G25+G49+G65+G73+G81+G89+G97 -> 32886.4 | H17: =H25+H49+H65+H73+H81+H89+H97 -> 32886.4 | I17: =I25+I49+I65+I73+I81+I89+I97 -> 32886.4 | J17: =I17/E17*100 -> 100 | K17: 100
D18: бюджеты государственных внебюджетных фондов | E18: =E26+E50+E66+E74+E82+E90+E98 -> 0 | F18: 0 | G18: 0 | H18: 0 | I18: 0 | J18: 0 | K18: 0
D19: иные безвозмездные поступления целевой направленности | E19: =E27+E51+E67+E75+E83+E91+E99 -> 0 | F19: 0 | G19: 0 | H19: 0 | I19: 0 | J19: 0 | K19: 0
D20: консолидированный бюджет области (всего), в том числе: | E20: =E28+E52+E68+E76+E84+E92+E100 -> 3642129.7 | F20: х | G20: х | H20: х | I20: 3642129.8 | J20: =I20/E20*100 -> 100 | K20: х
D21: областной бюджет | E21: =E29+E53+E69+E77+E85+E93+E101 -> 1875243.2 | F21: =F29+F53+F69+F77+F85+F93+F101 -> 1875243.2 | G21: =G29+G53+G69+G77+G85+G93+G101 -> 1875243.2 | H21: =H29+H53+H69+H77+H85+H93+H101 -> 1875226.1 | I21: =I29+I53+I69+I77+I85+I93+I101 -> 1875226.1 | J21: =I21/E21*100 -> 99.99909 | K21: 100
D22: местные бюджеты | E22: =E30+E54+E70+E78+E86+E94+E102 -> 1766886.6 | F22: х | G22: х | H22: х | I22: 1766886.6 | J22: =I22/E22*100 -> 100 | K22: х
D23: внебюджетные источники | E23: =E71+E79+E87+E95+E103 -> 50697.6 | F23: х | G23: х | H23: х | I23: 50697.6 | J23: =I23/E23*100 -> 100 | K23: х
B24: Региональный проект «Развитие театральной деятельности» | C24: министерство культуры Саратовской области | D24: всего | E24: =E32+E40 -> 26376.97 | F24: х | G24: х | H24: х | I24: 26376.97 | J24: =I24/E24*100 -> 100 | K24: х
D25: федеральный бюджет | E25: =E33+E41 -> 23475.5 | F25: =F33+F41 -> 23475.5 | G25: =G33+G41 -> 23475.5 | H25: =H33+H41 -> 23475.5 | I25: =I33+I41 -> 23475.5 | J25: =I25/E25*100 -> 100 | K25: 100
D26: бюджеты государственных внебюджетных фондов | E26: =E34+E42 -> 0 | F26: 0 | G26: 0 | H26: 0 | I26: 0 | J26: 0 | K26: 0
D27: иные безвозмездные поступления целевой направленности | E27: =E35+E43 -> 0 | F27: 0 | G27: 0 | H27: 0 | I27: 0 | J27: 0 | K27: 0
D28: консолидированный бюджет области (всего), в том числе: | E28: =E29+E30 -> 2901.47 | F28: х | G28: х | H28: х | I28: =I29+I30 -> 2901.47 | J28: =I28/E28*100 -> 100 | K28: х
D29: областной бюджет | E29: =E37+E45 -> 2901.47 | F29: =F37+F45 -> 2901.47 | G29: =G37+G45 -> 2901.47 | H29: =H37+H45 -> 2901.47 | I29: =I37+I45 -> 2901.47 | J29: =I29/E29*100 -> 100 | K29: 100
D30: местные бюджеты | E30: =E38+E46 -> 0 | F30: х | G30: х | H30: х | I30: 0 | J30: 0 | K30: х
D31: внебюджетные источники | E31: =E39+E47 -> 0 | F31: х | G31: х | H31: х | I31: 0 | J31: 0 | K31: 0
B32: Мероприятие (результат) «Усовершенствованы профессиональные репертуарные театры, находящиеся в населённых пунктах с численностью населения до 300 тыс. человек, путем создания новых постановок и (или) улучшения материально-технического оснащения» | C32: министерство культуры Саратовской области | D32: всего | E32: =E33+E37+E38+E39 -> 9527.64 | F32: х | G32: х | H32: х | I32: 9527.64 | J32: =I32/E32*100 -> 100 | K32: х
D33: федеральный бюджет | E33: 8479.6 | F33: 8479.6 | G33: 8479.6 | H33: 8479.6 | I33: 8479.6 | J33: =I33/E33*100 -> 100 | K33: 100
D34: бюджеты государственных внебюджетных фондов | E34: 0 | F34: 0 | G34: 0 | H34: 0 | I34: 0 | J34: 0 | K34: 0
D35: иные безвозмездные поступления целевой направленности | E35: 0 | F35: 0 | G35: 0 | H35: 0 | I35: 0 | J35: 0 | K35: 0
D36: консолидированный бюджет области (всего), в том числе: | E36: =E37+E38 -> 1048.04 | F36: х | G36: х | H36: х | I36: =I37 -> 1048.04 | J36: =I36/E36*100 -> 100 | K36: х
D37: областной бюджет | E37: 1048.04 | F37: 1048.04 | G37: 1048.04 | H37: 1048.04 | I37: 1048.04 | J37: =I37/E37*100 -> 100 | K37: 100
D38: местные бюджеты | E38: 0 | F38: х | G38: х | H38: х | I38: 0 | J38: 0 | K38: х
D39: внебюджетные источники | E39: 0 | F39: х | G39: х | H39: х | I39: 0 | J39: 0 | K39: х
B40: Мероприятие (результат) «Усовершенствованы детские и кукольные театры путем создания новых постановок и (или) улучшения технического оснащения» | C40: министерство культуры Саратовской области | D40: всего | E40: =E41+E42+E43+E45+E46+E47 -> 16849.33 | F40: х | G40: х | H40: х | I40: =I41+I42+I43+I45+I46+I47 -> 16849.33 | J40: =I40/E40*100 -> 100 | K40: х
D41: федеральный бюджет | E41: 14995.9 | F41: 14995.9 | G41: 14995.9 | H41: 14995.9 | I41: 14995.9 | J41: =I41/E41*100 -> 100 | K41: 100
...

Sheet приложение 16
B1: Сведения о расходах на реализацию комплекса процессных мероприятий "Музеи"
B2: произведенных за 2025 год за счет соответствующих источников финансового обеспечения
A3: № п/п | B3: Наименование государственной программы (комплексной программы), подпрограммы, структурных элементов | C3: Ответственный исполнитель | D3: Источники финансового обеспечения | E3: Предусмотрено в государственной программе | F3: Утверждено в законе об областном бюджете на соответствующий год <*> | G3: Выделены лимиты бюджетных обязательств за счет средств областного бюджета | H3: Исполнено | J3: Процент исполнения | L3: комментарий
H4: Кассовое исполнение | I4: Фактические исполнение | J4: фактическое исполнение (гр. 9 / гр. 5) | K4: кассовое исполнение (гр. 8 / гр. 6)
A5: 1 | B5: 2 | C5: 3 | D5: 4 | E5: 5 | F5: 6 | G5: 7 | H5: 8 | I5: 9 | J5: 10 | K5: 11 | L5: 12
B6: Комплекс процессных мероприятий «Музеи» | C6: министерство культуры Саратовской области | D6: всего | E6: =E14 -> 382011.19 | F6: х | G6: х | H6: х | I6: =I14 -> 382003.2 | J6: =I6/E6*100 -> 99.997908 | K6: х
D7: федеральный бюджет (прогнозно) | E7: =E15 -> 0 | F7: 0 | G7: 0 | H7: 0 | I7: 0 | J7: 0 | K7: 0
D8: бюджеты государственных внебюджетных фондов | E8: =E16 -> 0 | F8: 0 | G8: 0 | H8: 0 | I8: 0 | J8: 0 | K8: 0
D9: иные безвозмездные поступления целевой направленности | E9: =E17 -> 0 | F9: 0 | G9: 0 | H9: 0 | I9: 0 | J9: 0 | K9: 0
D10: консолидированный бюджет области (всего), в том числе: | E10: =E18 -> 381586.19 | F10: х | G10: х | H10: х | I10: 381586.19 | J10: =I10/E10*100 -> 100 | K10: х
D11: областной бюджет | E11: =E19 -> 299818.19 | F11: 299818.19 | G11: 299818.19 | H11: 299818.2 | I11: 299810.2 | J11: 100 | K11: 100
D12: местные бюджеты | E12: =E20 -> 81768 | F12: х | G12: х | H12: х | I12: 81768 | J12: 100 | K12: х
D13: внебюджетные источники | E13: =E21 -> 425 | F13: х | G13: х | H13: х | I13: 425 | J13: 100 | K13: х
B14: Мероприятие (результат) "Организованы и проведены мероприятия музеями" | C14: министерство культуры Саратовской области | D14: Всего | E14: 382011.19 | F14: х | G14: х | H14: х | I14: =I19+I20+I21 -> 382003.2 | J14: 100 | K14: 100
D15: федеральный бюджет | E15: 0 | F15: 0 | G15: 0 | H15: 0 | I15: 0 | J15: 0 | K15: 0
D16: бюджеты государственных внебюджетных фондов | E16: 0 | F16: 0 | G16: 0 | H16: 0 | I16: 0 | J16: 0 | K16: 0
D17: иные безвозмездные поступления целевой направленности | E17: 0 | F17: 0 | G17: 0 | H17: 0 | I17: 0 | J17: 0 | K17: 0
D18: консолидированный бюджет области (всего), в том числе: | E18: =E19+E20 -> 381586.19 | F18: х | G18: х | H18: х | I18: =I19+I20 -> 381578.2 | J18: 100 | K18: х
D19: областной бюджет | E19: 299818.19 | F19: 299818.19 | G19: 299818.19 | H19: 299818.19 | I19: 299810.2 | J19: 100 | K19: 100
D20: местные бюджеты | E20: 81768 | F20: х | G20: х | H20: х | I20: 81768 | J20: 100 | K20: х
D21: внебюджетные источники | E21: 425 | F21: х | G21: х | H21: х | I21: 425 | J21: 100 | K21: х
B23: Сведения о расходах на реализацию комплекса процессных мероприятий "Театры"
B24: произведенных за 2025 год за счет соответствующих источников финансового обеспечения
B25: Комплекс процессных мероприятий «Театры» | C25: министерство культуры Саратовской области | D25: Всего | E25: =E33 -> 958117.23 | F25: х | G25: х | H25: х | I25: =I26+I27+I28+I30+I31+I32 -> 958116.97 | J25: 100 | K25: 100
D26: федеральный бюджет | E26: =E34 -> 0 | F26: 0 | G26: 0 | H26: 0 | I26: 0 | J26: 0 | K26: 0
D27: бюджеты государственных внебюджетных фондов | E27: =E35 -> 0 | F27: 0 | G27: 0 | H27: 0 | I27: 0 | J27: 0 | K27: 0
D28: иные безвозмездные поступления целевой направленности | E28: =E36 -> 0 | F28: 0 | G28: 0 | H28: 0 | I28: 0 | J28: 0 | K28: 0
D29: консолидированный бюджет области (всего), в том числе: | E29: =E37 -> 949181.93 | F29: х | G29: х | H29: х | I29: 949181.93 | J29: 100 | K29: х
D30: областной бюджет | E30: =E38 -> 857363.13 | F30: 857363.13 | G30: 857363.13 | H30: 857362.87 | I30: 857362.87 | J30: 100 | K30: 100
D31: местные бюджеты | E31: =E39 -> 91818.8 | F31: х | G31: х | H31: х | I31: 91818.8 | J31: 100 | K31: х
D32: внебюджетные источники | E32: =E40 -> 8935.3 | F32: х | G32: х | H32: х | I32: 8935.3 | J32: 100 | K32: х
B33: Мероприятие (результат) "Организованы и проведены мероприятия театрами" | C33: министерство культуры Саратовской области | D33: Всего | E33: 958117.23 | F33: х | G33: х | H33: х | I33: =I38+I39+I40 -> 958116.97 | J33: 100 | K33: 100
D34: федеральный бюджет | E34: 0 | F34: 0 | G34: 0 | H34: 0 | I34: 0 | J34: 0 | K34: 0
D35: бюджеты государственных внебюджетных фондов | E35: 0 | F35: 0 | G35: 0 | H35: 0 | I35: 0 | J35: 0 | K35: 0
D36: иные безвозмездные поступления целевой направленности | E36: 0 | F36: 0 | G36: 0 | H36: 0 | I36: 0 | J36: 0 | K36: 0
D37: консолидированный бюджет области (всего), в том числе: | E37: 949181.93 | F37: х | G37: х | H37: х | I37: 949181.93 | J37: 100 | K37: х
D38: областной бюджет | E38: 857363.13 | F38: 857363.13 | G38: 857363.13 | H38: 857362.87 | I38: 857362.87 | J38: 100 | K38: 100
D39: местные бюджеты | E39: 91818.8 | F39: х | G39: х | H39: х | I39: 91818.8 | J39: 100 | K39: х
D40: внебюджетные источники | E40: 8935.3 | F40: х | G40: х | H40: х | I40: 8935.3 | J40: 100 | K40: х
B42: Сведения о расходах на реализацию комплекса процессных мероприятий "Концертные организации и цирковые коллективы"
...

Sheet ВЕРНАЯ сентябрь с доп 2021
A3: Наименование государственной программы, подпрограммы, ведомственной целевой программы, основного мероприятия | B3: Ответственный исполнитель, соисполнитель, участник государственной программы (соисполнитель подпрограммы), плательщик (далее - исполнитель) | C3: Источники финансового обеспечения | D3: Объемы финансового обеспечения всего, (тыс. рублей) | E3: В том числе по годам реализации
E4: 2014 | F4: 2015 | G4: 2016 | H4: 2017 | I4: 2018 | J4: 2019 | K4: 2020 | L4: 2021 | M4: 2022 | N4: 2023 | O4: 2024
A5: 1 | B5: 2 | C5: 3 | D5: 4 | E5: 5 | F5: 6 | G5: 7 | H5: 8 | I5: 9 | J5: 10 | K5: 11 | L5: 12 | M5: 13 | N5: 14 | O5: 15
A6: Государственная программа Саратовской области "Культура Саратовской области" | C6: всего | D6: =SUM(E6:O6) -> 51750461 | E6: =E14+E21+E27+E33+E39+E45 -> 4865320.2 | F6: =F14+F21+F27+F33+F39+F45 -> 2108258.3 | G6: =G14+G21+G27+G33+G39+G45 -> 1927521.6 | H6: =H14+H21+H27+H33+H39+H45 -> 2974016.6 | I6: =I14+I21+I27+I33+I39+I45 -> 4510087.6 | J6: =J14+J21+J27+J33+J39+J45 -> 5256858.7 | K6: =K14+K21+K27+K33+K39+K45 -> 5243900.8 | L6: =L14+L21+L27+L33+L39+L45 -> 7021823.8 | ... O6: =O14+O21+O27+O33+O39+O45 -> 5429858.3 | P6: =L6-#REF! -> #REF!
C7: областной бюджет | D7: =SUM(E7:O7) -> 18768481 | E7: =E15+E22+E28+E34+E40+E46 -> 1200430.2 | F7: =F15+F22+F28+F34+F40+F46 -> 1133207 | G7: =G15+G22+G28+G34+G40+G46 -> 1087822.1 | H7: =H15+H22+H28+H34+H40+H46 -> 1356948.3 | I7: =I15+I22+I28+I34+I40+I46 -> 1321655 | J7: =J15+J22+J28+J34+J40+J46 -> 1778262 | K7: =K15+K22+K28+K34+K40+K46 -> 1681483.4 | L7: =L15+L22+L28+L34+L40+L46 -> 2708167.3 | ... O7: =O15+O22+O28+O34+O40+O46 -> 2091805.1 | P7: =L7-#REF! -> #REF!
C8: федеральный бюджет (прогнозно) | D8: =SUM(E8:O8) -> 4090854 | E8: =E16+E23+E29+E35+E41+E47 -> 424910 | F8: =F16+F23+F29+F35+F41+F47 -> 350172.8 | G8: =G16+G23+G29+G35+G41+G47 -> 85202.5 | H8: =H16+H23+H29+H35+H41+H47 -> 92110.7 | I8: =I16+I23+I29+I35+I41+I47 -> 231410.3 | J8: =J16+J23+J29+J35+J41+J47 -> 308355.3 | K8: =K16+K23+K29+K35+K41+K47 -> 574476.2 | L8: =L16+L23+L29+L35+L41+L47 -> 795682.8 | ... O8: =O16+O23+O29+O35+O41+O47 -> 0 | P8: =L8-#REF! -> #REF!
C9: местные бюджеты (прогнозно) | D9: =SUM(E9:O9) -> 25043887 | E9: =E17+E24+E30+E36+E42+E48 -> 3069368 | F9: =F17+F24+F30+F36+F42+F48 -> 450341.2 | G9: =G17+G24+G30+G36+G42+G48 -> 569768 | H9: =H17+H24+H30+H36+H42+H48 -> 1012886 | I9: =I17+I24+I30+I36+I42+I48 -> 2480233.5 | J9: =J17+J24+J30+J36+J42+J48 -> 2728100.9 | K9: =K17+K24+K30+K36+K42+K48 -> 2698275.3 | L9: =L17+L24+L30+L36+L42+L48 -> 3146086.2 | ... O9: =O17+O24+O30+O36+O42+O48 -> 2910711.4 | P9: =L9-#REF! -> #REF!
C10: внебюджетные источники (прогнозно) | D10: =SUM(E10:O10) -> 3574712.4 | E10: =E18+E25+E31+E37+E43+E49 -> 170612 | F10: =F18+F25+F31+F37+F43+F49 -> 174537.3 | G10: =G18+G25+G31+G37+G43+G49 -> 184729 | H10: =H18+H25+H31+H37+H43+H49 -> 312071.6 | I10: =I18+I25+I31+I37+I43+I49 -> 476788.8 | J10: =J18+J25+J31+J37+J43+J49 -> 369613.2 | K10: =K18+K25+K31+K37+K43+K49 -> 289665.9 | L10: =L18+L25+L31+L37+L43+L49 -> 371887.5 | ... O10: =O18+O25+O31+O37+O43+O49 -> 427341.8 | P10: =L10-#REF! -> #REF!
C11: государственные внебюджетные фонды и иные безвозмездные поступления целевой направленности (прогнозно) | D11: =SUM(E11:O11) -> 272527.3 | E11: =E19+E26+E32+E38+E44+E50 -> 0 | F11: =F19+F26+F32+F38+F44+F50 -> 0 | G11: =G19+G26+G32+G38+G44+G50 -> 0 | H11: =H19+H26+H32+H38+H44+H50 -> 200000 | I11: =I19+I26+I32+I38+I44+I50 -> 0 | J11: =J19+J26+J32+J38+J44+J50 -> 72527.3 | K11: =K19+K26+K32+K38+K44+K50 -> 0 | L11: =L19+L26+L32+L38+L44+L50 -> 0 | ... O11: =O19+O26+O32+O38+O44+O50 -> 0 | P11: =L11-#REF! -> #REF!
P12: =L12-#REF! -> #REF!
B13: в том числе по исполнителям: | P13: =L13-#REF! -> #REF!
B14: министерство культуры области | C14: всего | D14: =SUM(E14:O14) -> 47549569 | E14: =E51+E87+E135+E171+E207+E243+E292+E461+E498+E836+E928 -> 4435640.7 | F14: =F51+F87+F135+F171+F207+F243+F292+F461+F498+F836+F928 -> 1765270.5 | G14: =G51+G87+G135+G171+G207+G243+G292+G461+G498+G836+G928 -> 1860957.7 | H14: =H51+H87+H135+H171+H207+H243+H292+H461+H498+H836+H928 -> 2895349.9 | I14: =I51+I87+I135+I171+I207+I243+I292+I461+I498+I836+I928 -> 4279028.8 | J14: =J51+J87+J135+J171+J207+J243+J292+J461+J498+J836+J928 -> 5079884.2 | K14: =K51+K87+K135+K171+K207+K243+K292+K461+K498+K836+K928 -> 4860391.6 | L14: =L51+L87+L135+L171+L207+L243+L292+L461+L498+L836+L928 -> 5846213.5 | ... O14: =O51+O87+O135+O171+O207+O243+O292+O461+O498+O836+O928 -> 5281448.8 | P14: =L14-#REF! -> #REF!
C15: областной бюджет | D15: =SUM(E15:O15) -> 16975485 | E15: =E52+E88+E136+E172+E208+E244+E293+E462+E499+E837+E929 -> 1080295.4 | F15: =F52+F88+F136+F172+F208+F244+F293+F462+F499+F837+F929 -> 1062934.1 | G15: =G52+G88+G136+G172+G208+G244+G293+G462+G499+G837+G929 -> 1037017.6 | H15: =H52+H88+H136+H172+H208+H244+H293+H462+H499+H837+H929 -> 1303576.7 | I15: =I52+I88+I136+I172+I208+I244+I293+I462+I499+I837+I929 -> 1238787.4 | J15: =J52+J88+J136+J172+J208+J244+J293+J462+J499+J837+J929 -> 1671770.6 | K15: =K52+K88+K136+K172+K208+K244+K293+K462+K499+K837+K929 -> 1509416.8 | L15: =L52+L88+L136+L172+L208+L244+L293+L462+L499+L837+L929 -> 2084340 | ... O15: =O52+O88+O136+O172+O208+O244+O293+O462+O499+O837+O929 -> 1959685.7 | P15: =L15-#REF! -> #REF!
C16: федеральный бюджет (прогнозно) | D16: =SUM(E16:O16) -> 1900516.1 | E16: =E53+E89+E137+E173+E209+E245+E294+E463+E500+E838+E930 -> 124730.6 | F16: =F53+F89+F137+F173+F209+F245+F294+F463+F500+F838+F930 -> 85429.9 | G16: =G53+G89+G137+G173+G209+G245+G294+G463+G500+G838+G930 -> 85122 | H16: =H53+H89+H137+H173+H209+H245+H294+H463+H500+H838+H930 -> 82605.4 | I16: =I53+I89+I137+I173+I209+I245+I294+I463+I500+I838+I930 -> 98984.6 | J16: =J53+J89+J137+J173+J209+J245+J294+J463+J500+J838+J930 -> 305987.9 | K16: =K53+K89+K137+K173+K209+K245+K294+K463+K500+K838+K930 -> 382966.8 | L16: =L53+L89+L137+L173+L209+L245+L294+L463+L500+L838+L930 -> 259967.5 | ... O16: =O53+O89+O137+O173+O209+O245+O294+O463+O500+O838+O930 -> 0 | P16: =L16-#REF! -> #REF!
C17: местные бюджеты (прогнозно) | D17: =SUM(E17:O17) -> 24940019 | E17: =E54+E90+E138+E174+E210+E246+E295+E464+E501+E839+E931 -> 3060342.7 | F17: =F54+F90+F138+F174+F210+F246+F295+F464+F501+F839+F931 -> 444154.1 | G17: =G54+G90+G138+G174+G210+G246+G295+G464+G501+G839+G931 -> 560801.7 | H17: =H54+H90+H138+H174+H210+H246+H295+H464+H501+H839+H931 -> 1003196.2 | I17: =I54+I90+I138+I174+I210+I246+I295+I464+I501+I839+I931 -> 2470568 | J17: =J54+J90+J138+J174+J210+J246+J295+J464+J501+J839+J931 -> 2720038.2 | K17: =K54+K90+K138+K174+K210+K246+K295+K464+K501+K839+K931 -> 2686542.1 | L17: =L54+L90+L138+L174+L210+L246+L295+L464+L501+L839+L931 -> 3136118.5 | ... O17: =O54+O90+O138+O174+O210+O246+O295+O464+O501+O839+O931 -> 2900521.3 | P17: =L17-#REF! -> #REF!
C18: внебюджетные источники (прогнозно) | D18: =SUM(E18:O18) -> 3514974.9 | E18: =E55+E91+E139+E175+E211+E247+E296+E465+E502+E840+E932 -> 170272 | F18: =F55+F91+F139+F175+F211+F247+F296+F465+F502+F840+F932 -> 172752.4 | G18: =G55+G91+G139+G175+G211+G247+G296+G465+G502+G840+G932 -> 178016.4 | H18: =H55+H91+H139+H175+H211+H247+H296+H465+H502+H840+H932 -> 305971.6 | I18: =I55+I91+I139+I175+I211+I247+I296+I465+I502+I840+I932 -> 470688.8 | J18: =J55+J91+J139+J175+J211+J247+J296+J465+J502+J840+J932 -> 363513.2 | K18: =K55+K91+K139+K175+K211+K247+K296+K465+K502+K840+K932 -> 281465.9 | L18: =L55+L91+L139+L175+L211+L247+L296+L465+L502+L840+L932 -> 365787.5 | ... O18: =O55+O91+O139+O175+O211+O247+O296+O465+O502+O840+O932 -> 421241.8 | P18: =L18-#REF! -> #REF!
C19: государственные внебюджетные фонды и иные безвозмездные поступления целевой направленности (прогнозно) | D19: =SUM(E19:O19) -> 218574.3 | E19: =E56+E92+E140+E176+E212+E248+E297+E466+E503+E841+E933 -> 0 | F19: =F56+F92+F140+F176+F212+F248+F297+F466+F503+F841+F933 -> 0 | G19: =G56+G92+G140+G176+G212+G248+G297+G466+G503+G841+G933 -> 0 | H19: =H56+H92+H140+H176+H212+H248+H297+H466+H503+H841+H933 -> 200000 | I19: =I56+I92+I140+I176+I212+I248+I297+I466+I503+I841+I933 -> 0 | J19: =J56+J92+J140+J176+J212+J248+J297+J466+J503+J841+J933 -> 18574.3 | K19: =K56+K92+K140+K176+K212+K248+K297+K466+K503+K841+K933 -> 0 | L19: =L56+L92+L140+L176+L212+L248+L297+L466+L503+L841+L933 -> 0 | ... O19: =O56+O92+O140+O176+O212+O248+O297+O466+O503+O841+O933 -> 0 | P19: =L19-#REF! -> #REF!
D20: =SUM(E20:O20) -> -2.0227162e-09 | E20: =E14-E15-E16-E17-E18-E19 -> -4.6566129e-10 | F20: =F14-F15-F16-F17-F18-F19 -> -5.8207661e-10 | G20: =G14-G15-G16-G17-G18-G19 -> 1.4551915e-10 | H20: =H14-H15-H16-H17-H18-H19 -> 0 | I20: =I14-I15-I16-I17-I18-I19 -> -1.7462298e-10 | J20: =J14-J15-J16-J17-J18-J19 -> 4.5110937e-10 | K20: =K14-K15-K16-K17-K18-K19 -> -1.1641532e-10 | L20: =L14-L15-L16-L17-L18-L19 -> 0 | ... O20: =O14-O15-O16-O17-O18-O19 -> -1.7462298e-10 | P20: =L20-#REF! -> #REF!
B21: управление делами Правительства области | C21: всего | D21: =SUM(E21:O21) -> 874431.2 | E21: =E443+E449+E455+E842+E940+E504 -> 53995 | F21: =F443+F449+F455+F842+F940+F504 -> 48924.7 | G21: =G443+G449+G455+G842+G940+G504 -> 53197.3 | H21: =H443+H449+H455+H842+H940+H504 -> 64193.3 | I21: =I443+I449+I455+I842+I940+I504 -> 58750.7 | J21: =J443+J449+J455+J842+J940+J504 -> 81348.3 | K21: =K443+K449+K455+K842+K940+K504 -> 99860.4 | L21: =L443+L449+L455+L842+L504 -> 103376 | M21: =M443+M449+M455+M842+M504 -> 103592.9 | N21: =N443+N449+N455+N842+N504 -> 103596.3 | O21: =O443+O449+O455+O842+O504 -> 103596.3 | P21: =L21-#REF! -> #REF!
C22: областной бюджет | D22: =SUM(E22:O22) -> 752196.8 | E22: =E444+E450+E456+E843+E941+E505 -> 44450.3 | F22: =F444+F450+F456+F843+F941+F505 -> 42074.8 | G22: =G444+G450+G456+G843+G941+G505 -> 43533.5 | H22: =H444+H450+H456+H843+H941+H505 -> 44998.2 | I22: =I444+I450+I456+I843+I941+I505 -> 46659.5 | J22: =J444+J450+J456+J843+J941+J505 -> 70918.2 | K22: =K444+K450+K456+K843+K941+K505 -> 85938.8 | L22: =L444+L450+L456+L843+L505 -> 93408.3 | M22: =M444+M450+M456+M843+M505 -> 93402.8 | N22: =N444+N450+N456+N843+N505 -> 93406.2 | O22: =O444+O450+O456+O843+O505 -> 93406.2 | P22: =L22-#REF! -> #REF!
C23: федеральный бюджет (прогнозно) | D23: =SUM(E23:O23) -> 16806.5 | E23: =E445+E451+E457+E844+E942+E506 -> 179.4 | F23: =F445+F451+F457+F844+F942+F506 -> 59.8 | G23: =G445+G451+G457+G844+G942+G506 -> 80.5 | H23: =H445+H451+H457+H844+H942+H506 -> 9505.3 | I23: =I445+I451+I457+I844+I942+I506 -> 2425.7 | J23: =J445+J451+J457+J844+J942+J506 -> 2367.4 | K23: =K445+K451+K457+K844+K942+K506 -> 2188.4 | L23: =L445+L451+L457+L844+L506 -> 0 | M23: =M445+M451+M457+M844+M506 -> 0 | N23: =N445+N451+N457+N844+N506 -> 0 | O23: =O445+O451+O457+O844+O506 -> 0 | P23: =L23-#REF! -> #REF!
C24: местные бюджеты (прогнозно) | D24: =SUM(E24:O24) -> 103867.9 | E24: =E446+E452+E458+E845+E943+E507 -> 9025.3 | F24: =F446+F452+F458+F845+F943+F507 -> 6187.1 | G24: =G446+G452+G458+G845+G943+G507 -> 8966.3 | H24: =H446+H452+H458+H845+H943+H507 -> 9689.8 | I24: =I446+I452+I458+I845+I943+I507 -> 9665.5 | J24: =J446+J452+J458+J845+J943+J507 -> 8062.7 | K24: =K446+K452+K458+K845+K943+K507 -> 11733.2 | L24: =L446+L452+L458+L845+L507 -> 9967.7 | M24: =M446+M452+M458+M845+M507 -> 10190.1 | N24: =N446+N452+N458+N845+N507 -> 10190.1 | O24: =O446+O452+O458+O845+O507 -> 10190.1 | P24: =L24-#REF! -> #REF!
C25: внебюджетные источники (прогнозно) | D25: =SUM(E25:O25) -> 1560 | E25: =E447+E453+E459+E846+E944+E508 -> 340 | F25: =F447+F453+F459+F846+F944+F508 -> 603 | G25: =G447+G453+G459+G846+G944+G508 -> 617 | H25: =H447+H453+H459+H846+H944+H508 -> 0 | I25: =I447+I453+I459+I846+I944+I508 -> 0 | J25: =J447+J453+J459+J846+J944+J508 -> 0 | K25: =K447+K453+K459+K846+K944+K508 -> 0 | L25: =L447+L453+L459+L846+L508 -> 0 | M25: =M447+M453+M459+M846+M508 -> 0 | N25: =N447+N453+N459+N846+N508 -> 0 | O25: =O447+O453+O459+O846+O508 -> 0 | P25: =L25-#REF! -> #REF!
C26: государственные внебюджетные фонды и иные безвозмездные поступления целевой направленности (прогнозно) | D26: =SUM(E26:O26) -> 0 | E26: =E448+E454+E460+E847+E945+E509 -> 0 | F26: =F448+F454+F460+F847+F945+F509 -> 0 | G26: =G448+G454+G460+G847+G945+G509 -> 0 | H26: =H448+H454+H460+H847+H945+H509 -> 0 | I26: =I448+I454+I460+I847+I945+I509 -> 0 | J26: =J448+J454+J460+J847+J945+J509 -> 0 | K26: =K448+K454+K460+K847+K945+K509 -> 0 | L26: =L448+L454+L460+L847+L509 -> 0 | M26: =M448+M454+M460+M847+M509 -> 0 | N26: =N448+N454+N460+N847+N509 -> 0 | O26: =O448+O454+O460+O847+O509 -> 0 | P26: =L26-#REF! -> #REF!
B27: комитет капитального строительства области, министерство строительства и жилищно-коммунального хозяйства области, государственное казенное учреждение Саратовской области "Управление капитального строительства" | C27: всего | D27: =SUM(E27:O27) -> 983629.5 | E27: =E510 -> 375684.5 | F27: =F510 -> 290527.3 | G27: =G510 -> 0 | H27: =H510 -> 847.7 | I27: =I510+I431 -> 151570 | J27: =J510+J431 -> 0 | K27: =K510+K431 -> 0 | L27: =L510+L431 -> 165000 | M27: =M510+M431 -> 0 | N27: =N510+N431 -> 0 | O27: =O510+O431 -> 0 | P27: =L27-#REF! -> #REF!
C28: областной бюджет | D28: =SUM(E28:O28) -> 288946.4 | E28: =E511 -> 75684.5 | F28: =F511 -> 25844.2 | G28: =G511 -> 0 | H28: =H511 -> 847.7 | I28: =I511+I432 -> 21570 | J28: =J511+J432 -> 0 | K28: =K511+K432 -> 0 | L28: =L511+L432 -> 165000 | M28: =M511+M432 -> 0 | N28: =N511+N432 -> 0 | O28: =O511+O432 -> 0 | P28: =L28-#REF! -> #REF!
C29: федеральный бюджет (прогнозно) | D29: =SUM(E29:O29) -> 694683.1 | E29: =E512 -> 300000 | F29: =F512 -> 264683.1 | G29: =G512 -> 0 | H29: =H512 -> 0 | I29: =I512+I433 -> 130000 | J29: =J512+J433 -> 0 | K29: =K512+K433 -> 0 | L29: =L512+L433 -> 0 | M29: =M512+M433 -> 0 | N29: =N512+N433 -> 0 | O29: =O512+O433 -> 0 | P29: =L29-#REF! -> #REF!
C30: местные бюджеты (прогнозно) | D30: =SUM(E30:O30) -> 0 | E30: =E513 -> 0 | F30: =F513 -> 0 | G30: =G513 -> 0 | H30: =H513 -> 0 | I30: =I513+I434 -> 0 | J30: =J513+J434 -> 0 | K30: =K513+K434 -> 0 | L30: =L513+L434 -> 0 | M30: =M513+M434 -> 0 | N30: =N513+N434 -> 0 | O30: =O513+O434 -> 0 | P30: =L30-#REF! -> #REF!
C31: внебюджетные источники (прогнозно) | D31: =SUM(E31:O31) -> 0 | E31: =E514 -> 0 | F31: =F514 -> 0 | G31: =G514 -> 0 | H31: =H514 -> 0 | I31: =I514+I435 -> 0 | J31: =J514+J435 -> 0 | K31: =K514+K435 -> 0 | L31: =L514+L435 -> 0 | M31: =M514+M435 -> 0 | N31: =N514+N435 -> 0 | O31: =O514+O435 -> 0 | P31: =L31-#REF! -> #REF!
C32: государственные внебюджетные фонды и иные безвозмездные поступления целевой направленности (прогнозно) | D32: =SUM(E32:O32) -> 0 | E32: =E515 -> 0 | F32: =F515 -> 0 | G32: =G515 -> 0 | H32: =H515 -> 0 | I32: =I515+I436 -> 0 | J32: =J515+J436 -> 0 | K32: =K515+K436 -> 0 | L32: =L515+L436 -> 0 | M32: =M515+M436 -> 0 | N32: =N515+N436 -> 0 | O32: =O515+O436 -> 0 | P32: =L32-#REF! -> #REF!
B33: управление по охране объектов культурного наследия Правительства области | C33: всего | D33: =SUM(E33:O33) -> 320564.2 | E33: =E298 -> 0 | F33: =F298 -> 3535.8 | G33: =G298 -> 13366.6 | H33: =H298 -> 13625.7 | I33: =I298 -> 20738.1 | J33: =J298 -> 38667.7 | K33: =K298 -> 31377.5 | L33: =L298 -> 64813.2 | ... O33: =O298 -> 44813.2 | P33: =L33-#REF! -> #REF!
C34: областной бюджет | D34: =SUM(E34:O34) -> 252386.7 | E34: =E299 -> 0 | F34: =F299 -> 2353.9 | G34: =G299 -> 7271 | H34: =H299 -> 7525.7 | I34: =I299 -> 14638.1 | J34: =J299 -> 22567.7 | K34: =K299 -> 23177.5 | L34: =L299 -> 58713.2 | ... O34: =O299 -> 38713.2 | P34: =L34-#REF! -> #REF!
C35: федеральный бюджет (прогнозно) | D35: =SUM(E35:O35) -> 0 | E35: =E300 -> 0 | F35: =F300 -> 0 | G35: =G300 -> 0 | H35: =H300 -> 0 | I35: =I300 -> 0 | J35: =J300 -> 0 | K35: =K300 -> 0 | L35: =L300 -> 0 | ... O35: =O300 -> 0 | P35: =L35-#REF! -> #REF!
C36: местные бюджеты (прогнозно) | D36: =SUM(E36:O36) -> 0 | E36: =E301 -> 0 | F36: =F301 -> 0 | G36: =G301 -> 0 | H36: =H301 -> 0 | I36: =I301 -> 0 | J36: =J301 -> 0 | K36: =K301 -> 0 | L36: =L301 -> 0 | ... O36: =O301 -> 0 | P36: =L36-#REF! -> #REF!
C37: внебюджетные источники (прогнозно) | D37: =SUM(E37:O37) -> 58177.5 | E37: =E302 -> 0 | F37: =F302 -> 1181.9 | G37: =G302 -> 6095.6 | H37: =H302 -> 6100 | I37: =I302 -> 6100 | J37: =J302 -> 6100 | K37: =K302 -> 8200 | L37: =L302 -> 6100 | ... O37: =O302 -> 6100 | P37: =L37-#REF! -> #REF!
C38: государственные внебюджетные фонды и иные безвозмездные поступления целевой направленности (прогнозно) | D38: =SUM(E38:O38) -> 10000 | E38: =E303 -> 0 | F38: =F303 -> 0 | G38: =G303 -> 0 | H38: =H303 -> 0 | I38: =I303 -> 0 | J38: =J303 -> 10000 | K38: =K303 -> 0 | L38: =L303 -> 0 | ... O38: =O303 -> 0 | P38: =L38-#REF! -> #REF!
B39: комитет по реализации инвестиционных проектов в строительстве области | C39: всего | D39: =SUM(E39:O39) -> 2020339.7 | E39: =E517 -> 0 | F39: =F517 -> 0 | G39: =G517 -> 0 | H39: =H517 -> 0 | I39: =I517 -> 0 | J39: =J517 -> 56958.5 | K39: =K517 -> 252271.3 | L39: =L517 -> 840493.8 | ... O39: =O517 -> 0 | P39: =L39-#REF! -> #REF!
C40: областной бюджет | D40: =SUM(E40:O40) -> 499253.7 | E40: =E518 -> 0 | F40: =F518 -> 0 | G40: =G518 -> 0 | H40: =H518 -> 0 | I40: =I518 -> 0 | J40: =J518 -> 13005.5 | K40: =K518 -> 62950.3 | L40: =L518 -> 306493.8 | ... O40: =O518 -> 0 | P40: =L40-#REF! -> #REF!
C41: федеральный бюджет (прогнозно) | D41: =SUM(E41:O41) -> 1477133 | E41: =E519 -> 0 | F41: =F519 -> 0 | G41: =G519 -> 0 | H41: =H519 -> 0 | I41: =I519 -> 0 | J41: =J519 -> 0 | K41: =K519 -> 189321 | L41: =L519 -> 534000 | ... O41: =O519 -> 0 | P41: =L41-#REF! -> #REF!
C42: местные бюджеты (прогнозно) | D42: =SUM(E42:O42) -> 0 | E42: =E520 -> 0 | F42: =F520 -> 0 | G42: =G520 -> 0 | H42: =H520 -> 0 | I42: =I520 -> 0 | J42: =J520 -> 0 | K42: =K520 -> 0 | L42: =L520 -> 0 | ... O42: =O520 -> 0 | P42: =L42-#REF! -> #REF!
...

Sheet ВЕРНАЯ на АВГУСТ с доп 2021
A3: Наименование государственной программы, подпрограммы, ведомственной целевой программы, основного мероприятия | B3: Ответственный исполнитель, соисполнитель, участник государственной программы (соисполнитель подпрограммы), плательщик (далее - исполнитель) | C3: Источники финансового обеспечения | D3: Объемы финансового обеспечения всего, (тыс. рублей) | E3: В том числе по годам реализации
E4: 2014 | F4: 2015 | G4: 2016 | H4: 2017 | I4: 2018 | J4: 2019 | K4: 2020 | L4: 2021 | M4: 2022 | N4: 2023 | O4: 2024
A5: 1 | B5: 2 | C5: 3 | D5: 4 | E5: 5 | F5: 6 | G5: 7 | H5: 8 | I5: 9 | J5: 10 | K5: 11 | L5: 12 | M5: 13 | N5: 14 | O5: 15
A6: Государственная программа Саратовской области "Культура Саратовской области" | C6: всего | D6: =SUM(E6:O6) -> 51714598 | E6: =E14+E21+E27+E33+E39+E45 -> 4865320.2 | F6: =F14+F21+F27+F33+F39+F45 -> 2108258.3 | G6: =G14+G21+G27+G33+G39+G45 -> 1927521.6 | H6: =H14+H21+H27+H33+H39+H45 -> 2974016.6 | I6: =I14+I21+I27+I33+I39+I45 -> 4510087.6 | J6: =J14+J21+J27+J33+J39+J45 -> 5256858.7 | K6: =K14+K21+K27+K33+K39+K45 -> 5243900.8 | L6: =L14+L21+L27+L33+L39+L45 -> 6985960.9 | ... O6: =O14+O21+O27+O33+O39+O45 -> 5429858.3 | P6: =L6-#REF! -> #REF! | Q6: =P6-'ВЕРНАЯ на АВГУСТ'!P6 -> #REF!
C7: областной бюджет | D7: =SUM(E7:O7) -> 18765062 | E7: =E15+E22+E28+E34+E40+E46 -> 1200430.2 | F7: =F15+F22+F28+F34+F40+F46 -> 1133207 | G7: =G15+G22+G28+G34+G40+G46 -> 1087822.1 | H7: =H15+H22+H28+H34+H40+H46 -> 1356948.3 | I7: =I15+I22+I28+I34+I40+I46 -> 1321655 | J7: =J15+J22+J28+J34+J40+J46 -> 1778262 | K7: =K15+K22+K28+K34+K40+K46 -> 1681483.4 | L7: =L15+L22+L28+L34+L40+L46 -> 2704748.4 | ... O7: =O15+O22+O28+O34+O40+O46 -> 2091805.1 | P7: =L7-#REF! -> #REF! | Q7: =P7-'ВЕРНАЯ на АВГУСТ'!P7 -> #REF! | S7: 3447987.2
C8: федеральный бюджет (прогнозно) | D8: =SUM(E8:O8) -> 4058410 | E8: =E16+E23+E29+E35+E41+E47 -> 424910 | F8: =F16+F23+F29+F35+F41+F47 -> 350172.8 | G8: =G16+G23+G29+G35+G41+G47 -> 85202.5 | H8: =H16+H23+H29+H35+H41+H47 -> 92110.7 | I8: =I16+I23+I29+I35+I41+I47 -> 231410.3 | J8: =J16+J23+J29+J35+J41+J47 -> 308355.3 | K8: =K16+K23+K29+K35+K41+K47 -> 574476.2 | L8: =L16+L23+L29+L35+L41+L47 -> 763238.8 | ... O8: =O16+O23+O29+O35+O41+O47 -> 0 | P8: =L8-#REF! -> #REF! | Q8: =P8-'ВЕРНАЯ на АВГУСТ'!P8 -> #REF!
C9: местные бюджеты (прогнозно) | D9: =SUM(E9:O9) -> 25043887 | E9: =E17+E24+E30+E36+E42+E48 -> 3069368 | F9: =F17+F24+F30+F36+F42+F48 -> 450341.2 | G9: =G17+G24+G30+G36+G42+G48 -> 569768 | H9: =H17+H24+H30+H36+H42+H48 -> 1012886 | I9: =I17+I24+I30+I36+I42+I48 -> 2480233.5 | J9: =J17+J24+J30+J36+J42+J48 -> 2728100.9 | K9: =K17+K24+K30+K36+K42+K48 -> 2698275.3 | L9: =L17+L24+L30+L36+L42+L48 -> 3146086.2 | ... O9: =O17+O24+O30+O36+O42+O48 -> 2910711.4 | P9: =L9-#REF! -> #REF! | Q9: =P9-'ВЕРНАЯ на АВГУСТ'!P9 -> #REF!
C10: внебюджетные источники (прогнозно) | D10: =SUM(E10:O10) -> 3574712.4 | E10: =E18+E25+E31+E37+E43+E49 -> 170612 | F10: =F18+F25+F31+F37+F43+F49 -> 174537.3 | G10: =G18+G25+G31+G37+G43+G49 -> 184729 | H10: =H18+H25+H31+H37+H43+H49 -> 312071.6 | I10: =I18+I25+I31+I37+I43+I49 -> 476788.8 | J10: =J18+J25+J31+J37+J43+J49 -> 369613.2 | K10: =K18+K25+K31+K37+K43+K49 -> 289665.9 | L10: =L18+L25+L31+L37+L43+L49 -> 371887.5 | ... O10: =O18+O25+O31+O37+O43+O49 -> 427341.8 | P10: =L10-#REF! -> #REF! | Q10: =P10-'ВЕРНАЯ на АВГУСТ'!P10 -> #REF!
C11: государственные внебюджетные фонды и иные безвозмездные поступления целевой направленности (прогнозно) | D11: =SUM(E11:O11) -> 272527.3 | E11: =E19+E26+E32+E38+E44+E50 -> 0 | F11: =F19+F26+F32+F38+F44+F50 -> 0 | G11: =G19+G26+G32+G38+G44+G50 -> 0 | H11: =H19+H26+H32+H38+H44+H50 -> 200000 | I11: =I19+I26+I32+I38+I44+I50 -> 0 | J11: =J19+J26+J32+J38+J44+J50 -> 72527.3 | K11: =K19+K26+K32+K38+K44+K50 -> 0 | L11: =L19+L26+L32+L38+L44+L50 -> 0 | ... O11: =O19+O26+O32+O38+O44+O50 -> 0 | P11: =L11-#REF! -> #REF! | Q11: =P11-'ВЕРНАЯ на АВГУСТ'!P11 -> #REF!
P12: =L12-#REF! -> #REF! | Q12: =P12-'ВЕРНАЯ на АВГУСТ'!P12 -> #REF!
B13: в том числе по исполнителям: | P13: =L13-#REF! -> #REF! | Q13: =P13-'ВЕРНАЯ на АВГУСТ'!P13 -> #REF!
B14: министерство культуры области | C14: всего | D14: =SUM(E14:O14) -> 47513706 | E14: =E51+E87+E135+E171+E207+E243+E292+E461+E498+E836+E928 -> 4435640.7 | F14: =F51+F87+F135+F171+F207+F243+F292+F461+F498+F836+F928 -> 1765270.5 | G14: =G51+G87+G135+G171+G207+G243+G292+G461+G498+G836+G928 -> 1860957.7 | H14: =H51+H87+H135+H171+H207+H243+H292+H461+H498+H836+H928 -> 2895349.9 | I14: =I51+I87+I135+I171+I207+I243+I292+I461+I498+I836+I928 -> 4279028.8 | J14: =J51+J87+J135+J171+J207+J243+J292+J461+J498+J836+J928 -> 5079884.2 | K14: =K51+K87+K135+K171+K207+K243+K292+K461+K498+K836+K928 -> 4860391.6 | L14: =L51+L87+L135+L171+L207+L243+L292+L461+L498+L836+L928 -> 5810350.6 | ... O14: =O51+O87+O135+O171+O207+O243+O292+O461+O498+O836+O928 -> 5281448.8 | P14: =L14-#REF! -> #REF! | Q14: =P14-'ВЕРНАЯ на АВГУСТ'!P14 -> #REF! | R14: =P14-Q14 -> #REF!
C15: областной бюджет | D15: =SUM(E15:O15) -> 16972066 | E15: =E52+E88+E136+E172+E208+E244+E293+E462+E499+E837+E929 -> 1080295.4 | F15: =F52+F88+F136+F172+F208+F244+F293+F462+F499+F837+F929 -> 1062934.1 | G15: =G52+G88+G136+G172+G208+G244+G293+G462+G499+G837+G929 -> 1037017.6 | H15: =H52+H88+H136+H172+H208+H244+H293+H462+H499+H837+H929 -> 1303576.7 | I15: =I52+I88+I136+I172+I208+I244+I293+I462+I499+I837+I929 -> 1238787.4 | J15: =J52+J88+J136+J172+J208+J244+J293+J462+J499+J837+J929 -> 1671770.6 | K15: =K52+K88+K136+K172+K208+K244+K293+K462+K499+K837+K929 -> 1509416.8 | L15: =L52+L88+L136+L172+L208+L244+L293+L462+L499+L837+L929 -> 2080921.1 | ... O15: =O52+O88+O136+O172+O208+O244+O293+O462+O499+O837+O929 -> 1959685.7 | P15: =L15-#REF! -> #REF! | Q15: =P15-'ВЕРНАЯ на АВГУСТ'!P15 -> #REF!
C16: федеральный бюджет (прогнозно) | D16: =SUM(E16:O16) -> 1868072.1 | E16: =E53+E89+E137+E173+E209+E245+E294+E463+E500+E838+E930 -> 124730.6 | F16: =F53+F89+F137+F173+F209+F245+F294+F463+F500+F838+F930 -> 85429.9 | G16: =G53+G89+G137+G173+G209+G245+G294+G463+G500+G838+G930 -> 85122 | H16: =H53+H89+H137+H173+H209+H245+H294+H463+H500+H838+H930 -> 82605.4 | I16: =I53+I89+I137+I173+I209+I245+I294+I463+I500+I838+I930 -> 98984.6 | J16: =J53+J89+J137+J173+J209+J245+J294+J463+J500+J838+J930 -> 305987.9 | K16: =K53+K89+K137+K173+K209+K245+K294+K463+K500+K838+K930 -> 382966.8 | L16: =L53+L89+L137+L173+L209+L245+L294+L463+L500+L838+L930 -> 227523.5 | ... O16: =O53+O89+O137+O173+O209+O245+O294+O463+O500+O838+O930 -> 0 | P16: =L16-#REF! -> #REF! | Q16: =P16-'ВЕРНАЯ на АВГУСТ'!P16 -> #REF!
C17: местные бюджеты (прогнозно) | D17: =SUM(E17:O17) -> 24940019 | E17: =E54+E90+E138+E174+E210+E246+E295+E464+E501+E839+E931 -> 3060342.7 | F17: =F54+F90+F138+F174+F210+F246+F295+F464+F501+F839+F931 -> 444154.1 | G17: =G54+G90+G138+G174+G210+G246+G295+G464+G501+G839+G931 -> 560801.7 | H17: =H54+H90+H138+H174+H210+H246+H295+H464+H501+H839+H931 -> 1003196.2 | I17: =I54+I90+I138+I174+I210+I246+I295+I464+I501+I839+I931 -> 2470568 | J17: =J54+J90+J138+J174+J210+J246+J295+J464+J501+J839+J931 -> 2720038.2 | K17: =K54+K90+K138+K174+K210+K246+K295+K464+K501+K839+K931 -> 2686542.1 | L17: =L54+L90+L138+L174+L210+L246+L295+L464+L501+L839+L931 -> 3136118.5 | ... O17: =O54+O90+O138+O174+O210+O246+O295+O464+O501+O839+O931 -> 2900521.3 | P17: =L17-#REF! -> #REF! | Q17: =P17-'ВЕРНАЯ на АВГУСТ'!P17 -> #REF!
C18: внебюджетные источники (прогнозно) | D18: =SUM(E18:O18) -> 3514974.9 | E18: =E55+E91+E139+E175+E211+E247+E296+E465+E502+E840+E932 -> 170272 | F18: =F55+F91+F139+F175+F211+F247+F296+F465+F502+F840+F932 -> 172752.4 | G18: =G55+G91+G139+G175+G211+G247+G296+G465+G502+G840+G932 -> 178016.4 | H18: =H55+H91+H139+H175+H211+H247+H296+H465+H502+H840+H932 -> 305971.6 | I18: =I55+I91+I139+I175+I211+I247+I296+I465+I502+I840+I932 -> 470688.8 | J18: =J55+J91+J139+J175+J211+J247+J296+J465+J502+J840+J932 -> 363513.2 | K18: =K55+K91+K139+K175+K211+K247+K296+K465+K502+K840+K932 -> 281465.9 | L18: =L55+L91+L139+L175+L211+L247+L296+L465+L502+L840+L932 -> 365787.5 | ... O18: =O55+O91+O139+O175+O211+O247+O296+O465+O502+O840+O932 -> 421241.8 | P18: =L18-#REF! -> #REF! | Q18: =P18-'ВЕРНАЯ на АВГУСТ'!P18 -> #REF!
C19: государственные внебюджетные фонды и иные безвозмездные поступления целевой направленности (прогнозно) | D19: =SUM(E19:O19) -> 218574.3 | E19: =E56+E92+E140+E176+E212+E248+E297+E466+E503+E841+E933 -> 0 | F19: =F56+F92+F140+F176+F212+F248+F297+F466+F503+F841+F933 -> 0 | G19: =G56+G92+G140+G176+G212+G248+G297+G466+G503+G841+G933 -> 0 | H19: =H56+H92+H140+H176+H212+H248+H297+H466+H503+H841+H933 -> 200000 | I19: =I56+I92+I140+I176+I212+I248+I297+I466+I503+I841+I933 -> 0 | J19: =J56+J92+J140+J176+J212+J248+J297+J466+J503+J841+J933 -> 18574.3 | K19: =K56+K92+K140+K176+K212+K248+K297+K466+K503+K841+K933 -> 0 | L19: =L56+L92+L140+L176+L212+L248+L297+L466+L503+L841+L933 -> 0 | ... O19: =O56+O92+O140+O176+O212+O248+O297+O466+O503+O841+O933 -> 0 | P19: =L19-#REF! -> #REF! | Q19: =P19-'ВЕРНАЯ на АВГУСТ'!P19 -> #REF!
D20: =SUM(E20:O20) -> -1.5570549e-09 | E20: =E14-E15-E16-E17-E18-E19 -> -4.6566129e-10 | F20: =F14-F15-F16-F17-F18-F19 -> -5.8207661e-10 | G20: =G14-G15-G16-G17-G18-G19 -> 1.4551915e-10 | H20: =H14-H15-H16-H17-H18-H19 -> 0 | I20: =I14-I15-I16-I17-I18-I19 -> -1.7462298e-10 | J20: =J14-J15-J16-J17-J18-J19 -> 4.5110937e-10 | K20: =K14-K15-K16-K17-K18-K19 -> -1.1641532e-10 | L20: =L14-L15-L16-L17-L18-L19 -> 4.6566129e-10 | ... O20: =O14-O15-O16-O17-O18-O19 -> -1.7462298e-10 | P20: =L20-#REF! -> #REF! | Q20: =P20-'ВЕРНАЯ на АВГУСТ'!P20 -> #REF!
B21: управление делами Правительства области | C21: всего | D21: =SUM(E21:O21) -> 874431.2 | E21: =E443+E449+E455+E842+E940+E504 -> 53995 | F21: =F443+F449+F455+F842+F940+F504 -> 48924.7 | G21: =G443+G449+G455+G842+G940+G504 -> 53197.3 | H21: =H443+H449+H455+H842+H940+H504 -> 64193.3 | I21: =I443+I449+I455+I842+I940+I504 -> 58750.7 | J21: =J443+J449+J455+J842+J940+J504 -> 81348.3 | K21: =K443+K449+K455+K842+K940+K504 -> 99860.4 | L21: =L443+L449+L455+L842+L504 -> 103376 | M21: =M443+M449+M455+M842+M504 -> 103592.9 | N21: =N443+N449+N455+N842+N504 -> 103596.3 | O21: =O443+O449+O455+O842+O504 -> 103596.3 | P21: =L21-#REF! -> #REF! | Q21: =P21-'ВЕРНАЯ на АВГУСТ'!P21 -> #REF!
C22: областной бюджет | D22: =SUM(E22:O22) -> 752196.8 | E22: =E444+E450+E456+E843+E941+E505 -> 44450.3 | F22: =F444+F450+F456+F843+F941+F505 -> 42074.8 | G22: =G444+G450+G456+G843+G941+G505 -> 43533.5 | H22: =H444+H450+H456+H843+H941+H505 -> 44998.2 | I22: =I444+I450+I456+I843+I941+I505 -> 46659.5 | J22: =J444+J450+J456+J843+J941+J505 -> 70918.2 | K22: =K444+K450+K456+K843+K941+K505 -> 85938.8 | L22: =L444+L450+L456+L843+L505 -> 93408.3 | M22: =M444+M450+M456+M843+M505 -> 93402.8 | N22: =N444+N450+N456+N843+N505 -> 93406.2 | O22: =O444+O450+O456+O843+O505 -> 93406.2 | P22: =L22-#REF! -> #REF! | Q22: =P22-'ВЕРНАЯ на АВГУСТ'!P22 -> #REF!
C23: федеральный бюджет (прогнозно) | D23: =SUM(E23:O23) -> 16806.5 | E23: =E445+E451+E457+E844+E942+E506 -> 179.4 | F23: =F445+F451+F457+F844+F942+F506 -> 59.8 | G23: =G445+G451+G457+G844+G942+G506 -> 80.5 | H23: =H445+H451+H457+H844+H942+H506 -> 9505.3 | I23: =I445+I451+I457+I844+I942+I506 -> 2425.7 | J23: =J445+J451+J457+J844+J942+J506 -> 2367.4 | K23: =K445+K451+K457+K844+K942+K506 -> 2188.4 | L23: =L445+L451+L457+L844+L506 -> 0 | M23: =M445+M451+M457+M844+M506 -> 0 | N23: =N445+N451+N457+N844+N506 -> 0 | O23: =O445+O451+O457+O844+O506 -> 0 | P23: =L23-#REF! -> #REF! | Q23: =P23-'ВЕРНАЯ на АВГУСТ'!P23 -> #REF!
C24: местные бюджеты (прогнозно) | D24: =SUM(E24:O24) -> 103867.9 | E24: =E446+E452+E458+E845+E943+E507 -> 9025.3 | F24: =F446+F452+F458+F845+F943+F507 -> 6187.1 | G24: =G446+G452+G458+G845+G943+G507 -> 8966.3 | H24: =H446+H452+H458+H845+H943+H507 -> 9689.8 | I24: =I446+I452+I458+I845+I943+I507 -> 9665.5 | J24: =J446+J452+J458+J845+J943+J507 -> 8062.7 | K24: =K446+K452+K458+K845+K943+K507 -> 11733.2 | L24: =L446+L452+L458+L845+L507 -> 9967.7 | M24: =M446+M452+M458+M845+M507 -> 10190.1 | N24: =N446+N452+N458+N845+N507 -> 10190.1 | O24: =O446+O452+O458+O845+O507 -> 10190.1 | P24: =L24-#REF! -> #REF! | Q24: =P24-'ВЕРНАЯ на АВГУСТ'!P24 -> #REF!
C25: внебюджетные источники (прогнозно) | D25: =SUM(E25:O25) -> 1560 | E25: =E447+E453+E459+E846+E944+E508 -> 340 | F25: =F447+F453+F459+F846+F944+F508 -> 603 | G25: =G447+G453+G459+G846+G944+G508 -> 617 | H25: =H447+H453+H459+H846+H944+H508 -> 0 | I25: =I447+I453+I459+I846+I944+I508 -> 0 | J25: =J447+J453+J459+J846+J944+J508 -> 0 | K25: =K447+K453+K459+K846+K944+K508 -> 0 | L25: =L447+L453+L459+L846+L508 -> 0 | M25: =M447+M453+M459+M846+M508 -> 0 | N25: =N447+N453+N459+N846+N508 -> 0 | O25: =O447+O453+O459+O846+O508 -> 0 | P25: =L25-#REF! -> #REF! | Q25: =P25-'ВЕРНАЯ на АВГУСТ'!P25 -> #REF!
